Workbook
Name \P: #REF!
Name _002: #REF!
Name a: #REF!
Name AllowanceCats: #REF!
Name BPDetail_Import_Date: #REF!
Name bpmonth: #REF!
Name bpmonthf: #REF!
Name bpyear: #REF!
Name BUCODE: #REF!
Name BUCODE: #REF!
Name BUCODE: #REF!
Name BUCODE: #REF!
Name BUCODE: #REF!
Name BUCODE: #REF!
Name BUCODE_2: #REF!
Name Budget_Year: #REF!
Name BudgetYear: #REF!
Name Calendar: #REF!
Name Category: #REF!
Name ccc: #REF!
Name Copy_1_1: #REF!
Name Copy_1_2: #REF!
Name Copy_2_1: #REF!
Name Copy_3_1: #REF!
Name Copy_4_1: #REF!
Name Copy_5_1: #REF!
Name Copy_6_1: #REF!
Name Copy_7_1: #REF!
Name Copy_7_2: #REF!
Name Copy_8_1: #REF!
Name Copy_9_1: #REF!
Name Copy_9_2: #REF!
Name COVER: #REF!
Name CP: #REF!
Name CP: #REF!
Name CP: #REF!
Name CP: #REF!
Name CP: #REF!
Name CP: #REF!
Name CP: [1]Parameter!$C$7
Name Currency: #REF!
Name currentyear: #REF!
Name CurrentYr: #REF!
Name d: #REF!
Name df: #REF!
Name er: #REF!
Name F0R_INT: #REF!
Name FB: #REF!
Name FOR_INT: #REF!
Name FOR90_E2: #REF!
Name FOR90_I2: #REF!
Name FOR9O_E: #REF!
Name FRSname: #REF!
Name FRSnum: #REF!
Name FX_Rate_BY: #REF!
Name gh: #REF!
Name hotel: #REF!
Name hotel_name_long: #REF!
Name Hotelname: #REF!
Name inflation: #REF!

Sheet 2025 Summay
E1: 2021001 | F1: 2021002 | G1: 2021003 | H1: 2021004 | I1: 2021005 | J1: 2021006 | K1: 2021007 | L1: 2021008 | M1: 2021009 | N1: 2021010 | O1: 2021011 | P1: 2021012 | R1: 2021001 | S1: 2021002 | T1: 2021003 | U1: 2021004 | V1: 2021005 | W1: 2021006 | X1: 2021007 | Y1: 2021008 | Z1: 2021009 | AA1: 2021010 | AB1: 2021011 | AC1: 2021012
E2: =E1 -> 2021001 | F2: =F1 -> 2021002 | G2: =G1 -> 2021003 | H2: =H1 -> 2021004 | I2: =I1 -> 2021005 | J2: =J1 -> 2021006 | K2: =K1 -> 2021007 | L2: =L1 -> 2021008 | ... P2: =P1 -> 2021012 | R2: 2021001 | S2: 2021002 | T2: 2021003 | U2: 2021004 | V2: 2021005 | W2: 2021006 | X2: 2021007 | Y2: 2021008 | Z2: 2021009 | AA2: 2021010 | AB2: 2021011 | AC2: 2021012
E3: A | F3: A | G3: A | H3: A | I3: A | J3: A | R3: A | S3: A | T3: A | U3: A | V3: A | W3: A | X3: A | Y3: A | Z3: A | AA3: A | AB3: A | AC3: A | AD3: A
D4: Hotel Profit & Loss Monthly Report
D5: 酒店月度损益报表 | R5: 0 | S5: 0 | T5: 0 | U5: 0 | V5: 0 | W5: 0 | X5: 0 | Y5: 0 | Z5: 0 | AA5: 0 | AB5: 0 | AC5: 0 | AD5: 0
D6: Income Statement
D7: 2025
E9: 1 | F9: 2 | G9: 3 | H9: 4 | I9: 5 | J9: 6 | K9: 7 | L9: 8 | M9: 9 | N9: 10 | O9: 11 | P9: 12 | Q9: 2025 | R9: 202401 | S9: 202402 | T9: 202403 | U9: 202404 | V9: 202405 | W9: 202406 | X9: 202407 | Y9: 202408 | Z9: 202409 | AA9: 202410 | AB9: 202411 | AC9: 202412 | AD9: 2024 | AE9: Var. | AG9: 2021年 | AI9: 2019 | AL9: 2023 | AM9: Var.
A10: Account | B10: Dept | E10: Budget | F10: Budget | G10: Budget | H10: Budget | I10: Budget | J10: Budget | K10: Budget | L10: Budget | M10: Budget | N10: Budget | O10: Budget | P10: Budget | Q10: Budget | R10: Actual | S10: Actual | T10: Actual | U10: Actual | V10: Actual | W10: Actual | X10: Actual | Y10: Actual | Z10: Forecast | AA10: Forecast | AB10: Forecast | AC10: Forecast | AD10: Forecast | AG10: Actual | AI10: ACTUAL | AL10: Actual
A11: <<30100110..30100192,38108100,39810200..39810300 | B11: <<10099..10999 | D11: Rooms Revenue 客房收入 | E11: ='Rooms+Summary'!E15 -> 29442573 | F11: ='Rooms+Summary'!F15 -> 34339448 | G11: ='Rooms+Summary'!G15 -> 20349212 | H11: ='Rooms+Summary'!H15 -> 18705258 | I11: ='Rooms+Summary'!I15 -> 17427010 | J11: ='Rooms+Summary'!J15 -> 15601860 | K11: ='Rooms+Summary'!K15 -> 23179432 | L11: ='Rooms+Summary'!L15 -> 26831725 | ... P11: ='Rooms+Summary'!P15 -> 19547757 | Q11: =SUM(E11:P11) -> 252268372 | R11: ='Rooms+Summary'!R15 -> 33339933 | S11: ='Rooms+Summary'!S15 -> 52712408 | T11: ='Rooms+Summary'!T15 -> 22181852 | U11: ='Rooms+Summary'!U15 -> 18679121 | V11: ='Rooms+Summary'!V15 -> 17436274 | W11: ='Rooms+Summary'!W15 -> 15572622 | X11: ='Rooms+Summary'!X15 -> 23202310 | Y11: ='Rooms+Summary'!Y15 -> 27004827 | ... AC11: ='Rooms+Summary'!AC15 -> 17813000 | AD11: =SUM(R11:AC11) -> 2.7141041e+08 | AE11: =Q11-AD11 -> -19142042 | AG11: 2.5866085e+08 | AH11: =Q11-AG11 -> -6392476.1 | AI11: 2.4420152e+08 | AJ11: =Q11-AI11 -> 8066848 | AL11: 3.2826855e+08 | AM11: =Q11-AL11 -> -76000180 | AP11: =Q11-'[1]2025 Summay'!Q11 -> 0
A12: <<30200210..30400050,38108100,39810200..39810300 | B12: <<20001..29999 | D12: Food and Beverage Revenue 餐饮收入 | E12: ='F&B+Summary'!D48 -> 9000030 | F12: ='F&B+Summary'!E48 -> 8202468 | G12: ='F&B+Summary'!F48 -> 6009517 | H12: ='F&B+Summary'!G48 -> 5635934 | I12: ='F&B+Summary'!H48 -> 5700473 | J12: ='F&B+Summary'!I48 -> 5135401 | K12: ='F&B+Summary'!J48 -> 7024126 | L12: ='F&B+Summary'!K48 -> 7291081 | ... P12: ='F&B+Summary'!O48 -> 7400857 | Q12: =SUM(E12:P12) -> 80001320 | R12: ='F&B+Summary'!Q48 -> 7698134 | S12: ='F&B+Summary'!R48 -> 11532451 | T12: ='F&B+Summary'!S48 -> 6956778 | U12: ='F&B+Summary'!T48 -> 6336497.9 | V12: ='F&B+Summary'!U48 -> 5974934.4 | W12: ='F&B+Summary'!V48 -> 5432701.3 | X12: ='F&B+Summary'!W48 -> 7023132.7 | Y12: ='F&B+Summary'!X48 -> 7458428.3 | ... AC12: ='F&B+Summary'!AB48 -> 6290078 | AD12: =SUM(R12:AC12) -> 81003554 | AE12: =Q12-AD12 -> -1002234.3 | AG12: 77018567 | AH12: =Q12-AG12 -> 2982752.7 | AI12: 86051217 | AJ12: =Q12-AI12 -> -6049897.3 | AL12: 86198069 | AM12: =Q12-AL12 -> -6196748.7 | AP12: =Q12-'[1]2025 Summay'!Q12 -> 0
A13: <<36010011..36800100,37013000,38108100,39810200..39810300 | B13: <<31099..39000 | D13: Other Operating Dept. Revenue 他运营部门收入 | E13: ='OOD '!D18-'OOD '!D17 -> 436400 | F13: ='OOD '!E18-'OOD '!E17 -> 556360 | G13: ='OOD '!F18-'OOD '!F17 -> 317502 | H13: ='OOD '!G18-'OOD '!G17 -> 331919 | I13: ='OOD '!H18-'OOD '!H17 -> 326011 | J13: ='OOD '!I18-'OOD '!I17 -> 204604 | K13: ='OOD '!J18-'OOD '!J17 -> 348484 | L13: ='OOD '!K18-'OOD '!K17 -> 342337 | ... P13: ='OOD '!O18-'OOD '!O17 -> 356782 | Q13: =SUM(E13:P13) -> 4106492 | R13: ='OOD '!Q18-R15 -> 589296.09 | S13: ='OOD '!R18-S15 -> 822237.85 | T13: ='OOD '!S18-T15 -> 439336.52 | U13: ='OOD '!T18-U15 -> 440394.26 | V13: ='OOD '!U18-V15 -> 428925.25 | W13: ='OOD '!V18-W15 -> 292954.07 | X13: ='OOD '!W18-X15 -> 433797.53 | Y13: ='OOD '!X18-Y15 -> 603523.31 | ... AC13: ='OOD '!AB18-AC15 -> 551644.9 | AD13: =SUM(R13:AC13) -> 5813760 | AE13: =Q13-AD13 -> -1707268 | AG13: 5165566.3 | AH13: =Q13-AG13 -> -1059074.3 | AI13: 4752037.6 | AJ13: =Q13-AI13 -> -645545.58 | AL13: 6199978.5 | AM13: =Q13-AL13 -> -2093486.5 | AP13: =Q13-'[1]2025 Summay'!Q13 -> 0
A14: <<37011000,38108100,39810200..39810300 | B14: <<39801 | D14: Shop&Showcase Revenue 零售和展柜收入 | Q14: =SUM(E14:P14) -> 0 | AD14: =SUM(R14:AC14) -> 0 | AE14: =Q14-AD14 -> 0 | AG14: 0 | AH14: =Q14-AG14 -> 0 | AI14: 0 | AJ14: =Q14-AI14 -> 0 | AL14: 0 | AM14: =Q14-AL14 -> 0 | AP14: =Q14-'[1]2025 Summay'!Q14 -> 0
A15: <<36800200..37010000,37012000..39810300 | B15: <<39801 | D15: Miscellaneous Revenue 杂项收入 | E15: ='OOD '!D17 -> 354146 | F15: ='OOD '!E17 -> 354146 | G15: ='OOD '!F17 -> 354146 | H15: ='OOD '!G17 -> 354146 | I15: ='OOD '!H17 -> 354146 | J15: ='OOD '!I17 -> 354146 | K15: ='OOD '!J17 -> 354146 | L15: ='OOD '!K17 -> 354146 | ... P15: ='OOD '!O17 -> 354154 | Q15: =SUM(E15:P15) -> 4249760 | R15: ='OOD '!Q17 -> 274421.34 | S15: ='OOD '!R17 -> 325261.56 | T15: ='OOD '!S17 -> 368758.67 | U15: ='OOD '!T17 -> 303970.49 | V15: ='OOD '!U17 -> 280657.18 | W15: ='OOD '!V17 -> 276915.02 | X15: ='OOD '!W17 -> 264193.97 | Y15: ='OOD '!X17 -> 312553.67 | ... AC15: ='OOD '!AB17 -> 278033 | AD15: =SUM(R15:AC15) -> 3518863.9 | AE15: =Q15-AD15 -> 730896.1 | AG15: 4169173.9 | AH15: =Q15-AG15 -> 80586.13 | AI15: 4549679.7 | AJ15: =Q15-AI15 -> -299919.7 | AL15: 3561306.8 | AM15: =Q15-AL15 -> 688453.18 | AP15: =Q15-'[1]2025 Summay'!Q15 -> 0
D16: Total Gross Operating Revenue 运营总收入 | E16: =SUBTOTAL(9,E11:E15) -> 39233149 | F16: =SUBTOTAL(9,F11:F15) -> 43452422 | G16: =SUBTOTAL(9,G11:G15) -> 27030377 | H16: =SUBTOTAL(9,H11:H15) -> 25027257 | I16: =SUBTOTAL(9,I11:I15) -> 23807640 | J16: =SUBTOTAL(9,J11:J15) -> 21296011 | K16: =SUBTOTAL(9,K11:K15) -> 30906188 | L16: =SUBTOTAL(9,L11:L15) -> 34819289 | ... AD16: =SUBTOTAL(9,AD11:AD15) -> 3.6174659e+08 | AE16: =Q16-AD16 -> -21120648 | AG16: 3.4501416e+08 | AH16: =Q16-AG16 -> -4388211.5 | AI16: 3.3955446e+08 | AJ16: =Q16-AI16 -> 1071485.4 | AL16: 4.2422791e+08 | AM16: =Q16-AL16 -> -83601962 | AP16: =Q16-'[1]2025 Summay'!Q16 -> 0
AE17: =AE16/AD16 -> -0.058385203 | AM17: =Q17-AL17 -> 0 | AP17: =Q17-'[1]2025 Summay'!Q17 -> 0
A18: <<40200100..69999999 | B18: <<10099..10999 | D18: Rooms Expenses 客房费用 | E18: ='Rooms+Summary'!E44+'Rooms+Summary'!E17 -> 5706729.6 | F18: ='Rooms+Summary'!F44+'Rooms+Summary'!F17 -> 5322446.4 | G18: ='Rooms+Summary'!G44+'Rooms+Summary'!G17 -> 4403623.9 | H18: ='Rooms+Summary'!H44+'Rooms+Summary'!H17 -> 4361951.5 | I18: ='Rooms+Summary'!I44+'Rooms+Summary'!I17 -> 4337138.3 | J18: ='Rooms+Summary'!J44+'Rooms+Summary'!J17 -> 4070436.1 | K18: ='Rooms+Summary'!K44+'Rooms+Summary'!K17 -> 4753079.3 | L18: ='Rooms+Summary'!L44+'Rooms+Summary'!L17 -> 4985636.4 | ... P18: ='Rooms+Summary'!P44+'Rooms+Summary'!P17 -> 4512521.3 | Q18: =SUM(E18:P18) -> 55229370 | R18: ='Rooms+Summary'!R44+'Rooms+Summary'!R17 -> 6320485.8 | S18: ='Rooms+Summary'!S44+'Rooms+Summary'!S17 -> 8673892.5 | T18: ='Rooms+Summary'!T44+'Rooms+Summary'!T17 -> 5418330.4 | U18: ='Rooms+Summary'!U44+'Rooms+Summary'!U17 -> 4944402.2 | V18: ='Rooms+Summary'!V44+'Rooms+Summary'!V17 -> 4974209.3 | W18: ='Rooms+Summary'!W44+'Rooms+Summary'!W17 -> 4344709.3 | X18: ='Rooms+Summary'!X44+'Rooms+Summary'!X17 -> 5121829.2 | Y18: ='Rooms+Summary'!Y44+'Rooms+Summary'!Y17 -> 6400470.1 | ... AC18: ='Rooms+Summary'!AC44+'Rooms+Summary'!AC17 -> 4883077 | AD18: =SUM(R18:AC18) -> 64619534 | AE18: =Q18-AD18 -> -9390163.6 | AF18: =AE18/AD18 -> -0.14531463 | AG18: 50844359 | AH18: =AG18-Q18 -> -4385011.3 | AI18: 45744344 | AJ18: =AI18-Q18 -> -9485025.6 | AL18: 72148329 | AM18: =Q18-AL18 -> -16918959 | AP18: =Q18-'[1]2025 Summay'!Q18 -> 0
A19: <<40200100..69999999 | B19: <<20001..29999 | D19: Food and Beverage Expenses 餐饮费用 | E19: ='F&B+Summary'!D55+'F&B+Summary'!D57+'F&B+Summary'!D101 -> 5815846.3 | F19: ='F&B+Summary'!E55+'F&B+Summary'!E57+'F&B+Summary'!E101 -> 5222186.7 | G19: ='F&B+Summary'!F55+'F&B+Summary'!F57+'F&B+Summary'!F101 -> 4354494 | H19: ='F&B+Summary'!G55+'F&B+Summary'!G57+'F&B+Summary'!G101 -> 4304037.4 | I19: ='F&B+Summary'!H55+'F&B+Summary'!H57+'F&B+Summary'!H101 -> 4501502.7 | J19: ='F&B+Summary'!I55+'F&B+Summary'!I57+'F&B+Summary'!I101 -> 4067651.3 | K19: ='F&B+Summary'!J55+'F&B+Summary'!J57+'F&B+Summary'!J101 -> 4834140 | L19: ='F&B+Summary'!K55+'F&B+Summary'!K57+'F&B+Summary'!K101 -> 4929107.2 | ... P19: ='F&B+Summary'!O55+'F&B+Summary'!O57+'F&B+Summary'!O101 -> 4860991.2 | Q19: =SUM(E19:P19) -> 57069542 | R19: ='F&B+Summary'!Q55+'F&B+Summary'!Q57+'F&B+Summary'!Q101 -> 5588518.9 | S19: ='F&B+Summary'!R55+'F&B+Summary'!R57+'F&B+Summary'!R101 -> 7513599 | T19: ='F&B+Summary'!S55+'F&B+Summary'!S57+'F&B+Summary'!S101 -> 5130471.7 | U19: ='F&B+Summary'!T55+'F&B+Summary'!T57+'F&B+Summary'!T101 -> 4586321.2 | V19: ='F&B+Summary'!U55+'F&B+Summary'!U57+'F&B+Summary'!U101 -> 4311452.4 | W19: ='F&B+Summary'!V55+'F&B+Summary'!V57+'F&B+Summary'!V101 -> 4280408 | X19: ='F&B+Summary'!W55+'F&B+Summary'!W57+'F&B+Summary'!W101 -> 4816194.7 | Y19: ='F&B+Summary'!X55+'F&B+Summary'!X57+'F&B+Summary'!X101 -> 5184942.5 | ... AC19: ='F&B+Summary'!AB55+'F&B+Summary'!AB57+'F&B+Summary'!AB101 -> 4487700.5 | AD19: =SUM(R19:AC19) -> 59269939 | AE19: =Q19-AD19 -> -2200397.7 | AF19: =AE19/AD19 -> -0.03712502 | AG19: 55259749 | AH19: =AG19-Q19 -> -1809792.4 | AI19: 55404727 | AJ19: =AI19-Q19 -> -1664814.9 | AL19: 67117097 | AM19: =Q19-AL19 -> -10047556 | AP19: =Q19-'[1]2025 Summay'!Q19 -> 0
A20: <<40200100..69999999 | B20: <<31099..39000 | D20: Other Operating Dept. Expenses 他运营部门费用 | E20: ='OOD '!D30+'OOD '!D77-Laundry!E60 -> 1612638.5 | F20: ='OOD '!E30+'OOD '!E77-Laundry!F60 -> 1365686.7 | G20: ='OOD '!F30+'OOD '!F77-Laundry!G60 -> 1381732.3 | H20: ='OOD '!G30+'OOD '!G77-Laundry!H60 -> 1364910.5 | I20: ='OOD '!H30+'OOD '!H77-Laundry!I60 -> 1455407.1 | J20: ='OOD '!I30+'OOD '!I77-Laundry!J60 -> 1369717.1 | K20: ='OOD '!J30+'OOD '!J77-Laundry!K60 -> 1390579.3 | L20: ='OOD '!K30+'OOD '!K77-Laundry!L60 -> 1381080 | ... P20: ='OOD '!O30+'OOD '!O77-Laundry!P60 -> 1401678.8 | Q20: =SUM(E20:P20) -> 17016518 | R20: ='OOD '!Q30+'OOD '!Q77-Laundry!R60 -> 1940764.9 | S20: ='OOD '!R30+'OOD '!R77-Laundry!S60 -> 2851632.7 | T20: ='OOD '!S30+'OOD '!S77-Laundry!T60 -> 1612156.9 | U20: ='OOD '!T30+'OOD '!T77-Laundry!U60 -> 1516651.6 | V20: ='OOD '!U30+'OOD '!U77-Laundry!V60 -> 621510.6 | W20: ='OOD '!V30+'OOD '!V77-Laundry!W60 -> 1369707.9 | X20: ='OOD '!W30+'OOD '!W77-Laundry!X60 -> 1634469.1 | Y20: ='OOD '!X30+'OOD '!X77-Laundry!Y60 -> 1740847.1 | ... AC20: ='OOD '!AB30+'OOD '!AB77-Laundry!AC60 -> 1585306.5 | AD20: =SUM(R20:AC20) -> 18942390 | AE20: =Q20-AD20 -> -1925872.9 | AF20: =AE20/AD20 -> -0.10167 | AG20: 13175519 | AH20: =AG20-Q20 -> -3840998.9 | AI20: 13433052 | AJ20: =AI20-Q20 -> -3583465.8 | AL20: 25960426 | AM20: =Q20-AL20 -> -8943908.8 | AP20: =Q20-'[1]2025 Summay'!Q20 -> 0
D21: Total Gross Operating Expenses 运营总费用 | E21: =SUBTOTAL(9,E18:E20) -> 13135214 | F21: =SUBTOTAL(9,F18:F20) -> 11910320 | G21: =SUBTOTAL(9,G18:G20) -> 10139850 | H21: =SUBTOTAL(9,H18:H20) -> 10030899 | I21: =SUBTOTAL(9,I18:I20) -> 10294048 | J21: =SUBTOTAL(9,J18:J20) -> 9507804.5 | K21: =SUBTOTAL(9,K18:K20) -> 10977799 | L21: =SUBTOTAL(9,L18:L20) -> 11295824 | ... AD21: =SUBTOTAL(9,AD18:AD20) -> 1.4283186e+08 | AE21: =Q21-AD21 -> -13516434 | AG21: 1.1927963e+08 | AH21: =AG21-Q21 -> -10035803 | AI21: 1.1458212e+08 | AJ21: =AI21-Q21 -> -14733306 | AL21: 1.6522585e+08 | AM21: =Q21-AL21 -> -35910423 | AP21: =Q21-'[1]2025 Summay'!Q21 -> 0
AM22: =Q22-AL22 -> 0 | AP22: =Q22-'[1]2025 Summay'!Q22 -> 0
D23: Rooms Profit 客房利润 | E23: =E$11-E$18 -> 23735843 | F23: =F$11-F$18 -> 29017002 | G23: =G$11-G$18 -> 15945588 | H23: =H$11-H$18 -> 14343306 | I23: =I$11-I$18 -> 13089872 | J23: =J$11-J$18 -> 11531424 | K23: =K$11-K$18 -> 18426353 | L23: =L$11-L$18 -> 21846089 | ... P23: =P$11-P$18 -> 15035236 | Q23: =SUM(E23:P23) -> 1.97039e+08 | R23: =R$11-R$18 -> 27019447 | S23: =S$11-S$18 -> 44038515 | T23: =T$11-T$18 -> 16763522 | U23: =U$11-U$18 -> 13734719 | V23: =V$11-V$18 -> 12462065 | W23: =W$11-W$18 -> 11227913 | X23: =X$11-X$18 -> 18080481 | Y23: =Y$11-Y$18 -> 20604357 | ... AD23: =AD$11-AD$18 -> 2.0679088e+08 | AE23: =Q23-AD23 -> -9751878.4 | AF23: =Q23/Q11 -> 0.78106899 | AG23: 2.0781649e+08 | AH23: =Q23-AG23 -> -10777487 | AI23: 1.9845718e+08 | AJ23: =Q23-AI23 -> -1418177.6 | AL23: 2.5612022e+08 | AM23: =Q23-AL23 -> -59081221 | AP23: =Q23-'[1]2025 Summay'!Q23 -> 0
D24: Food and Beverage Profit 餐饮利润 | E24: =E$12-E$19 -> 3184183.7 | F24: =F$12-F$19 -> 2980281.3 | G24: =G$12-G$19 -> 1655023 | H24: =H$12-H$19 -> 1331896.6 | I24: =I$12-I$19 -> 1198970.3 | J24: =J$12-J$19 -> 1067749.7 | K24: =K$12-K$19 -> 2189986 | L24: =L$12-L$19 -> 2361973.8 | ... P24: =P$12-P$19 -> 2539865.8 | Q24: =SUM(E24:P24) -> 22931778 | R24: =R$12-R$19 -> 2109615.2 | S24: =S$12-S$19 -> 4018851.7 | T24: =T$12-T$19 -> 1826306.3 | U24: =U$12-U$19 -> 1750176.7 | V24: =V$12-V$19 -> 1663482 | W24: =W$12-W$19 -> 1152293.3 | X24: =X$12-X$19 -> 2206938 | Y24: =Y$12-Y$19 -> 2273485.9 | ... AD24: =AD$12-AD$19 -> 21733615 | AE24: =Q24-AD24 -> 1198163.4 | AF24: =Q24/Q12 -> 0.2866425 | AG24: 21758818 | AH24: =Q24-AG24 -> 1172960.3 | AI24: 30646490 | AJ24: =Q24-AI24 -> -7714712.2 | AL24: 19080971 | AM24: =Q24-AL24 -> 3850806.9 | AP24: =Q24-'[1]2025 Summay'!Q24 -> 0
D25: Other Operating Dept. Profit 他运营部门利润 | E25: =E$13-E$20 -> -1176238.5 | F25: =F$13-F$20 -> -809326.74 | G25: =G$13-G$20 -> -1064230.3 | H25: =H$13-H$20 -> -1032991.5 | I25: =I$13-I$20 -> -1129396.1 | J25: =J$13-J$20 -> -1165113.1 | K25: =K$13-K$20 -> -1042095.3 | L25: =L$13-L$20 -> -1038743 | ... P25: =P$13-P$20 -> -1044896.8 | Q25: =SUM(E25:P25) -> -12910026 | R25: =R$13-R$20 -> -1351468.8 | S25: =S$13-S$20 -> -2029394.8 | T25: =T$13-T$20 -> -1172820.3 | U25: =U$13-U$20 -> -1076257.3 | V25: =V$13-V$20 -> -192585.35 | W25: =W$13-W$20 -> -1076753.8 | X25: =X$13-X$20 -> -1200671.6 | Y25: =Y$13-Y$20 -> -1137323.8 | ... AD25: =AD$13-AD$20 -> -13128630 | AE25: =Q25-AD25 -> 218604.91 | AF25: =Q25/Q13 -> -3.1438088 | AG25: -8009952.3 | AH25: =Q25-AG25 -> -4900073.2 | AI25: -8681014.1 | AJ25: =Q25-AI25 -> -4229011.4 | AL25: -19760448 | AM25: =Q25-AL25 -> 6850422.3 | AP25: =Q25-'[1]2025 Summay'!Q25 -> 0
D26: Shop&Showcase Profit 零售和展柜利润 | E26: =E$14 -> 0 | F26: =F$14 -> 0 | G26: =G$14 -> 0 | H26: =H$14 -> 0 | I26: =I$14 -> 0 | J26: =J$14 -> 0 | K26: =K$14 -> 0 | L26: =L$14 -> 0 | ... P26: =P$14 -> 0 | Q26: =SUM(E26:P26) -> 0 | R26: =R$14 -> 0 | S26: =S$14 -> 0 | T26: =T$14 -> 0 | U26: =U$14 -> 0 | V26: =V$14 -> 0 | W26: =W$14 -> 0 | X26: =X$14 -> 0 | Y26: =Y$14 -> 0 | ... AD26: =AD$14 -> 0 | AE26: =Q26-AD26 -> 0 | AG26: 0 | AH26: =Q26-AG26 -> 0 | AI26: 0 | AJ26: =Q26-AI26 -> 0 | AL26: 0 | AM26: =Q26-AL26 -> 0 | AP26: =Q26-'[1]2025 Summay'!Q26 -> 0
D27: Miscellaneous Profit 杂项利润 | E27: =E$15 -> 354146 | F27: =F$15 -> 354146 | G27: =G$15 -> 354146 | H27: =H$15 -> 354146 | I27: =I$15 -> 354146 | J27: =J$15 -> 354146 | K27: =K$15 -> 354146 | L27: =L$15 -> 354146 | ... P27: =P$15 -> 354154 | Q27: =SUM(E27:P27) -> 4249760 | R27: =R$15 -> 274421.34 | S27: =S$15 -> 325261.56 | T27: =T$15 -> 368758.67 | U27: =U$15 -> 303970.49 | V27: =V$15 -> 280657.18 | W27: =W$15 -> 276915.02 | X27: =X$15 -> 264193.97 | Y27: =Y$15 -> 312553.67 | ... AD27: =AD$15 -> 3518863.9 | AE27: =Q27-AD27 -> 730896.1 | AF27: =Q27/Q15 -> 1 | AG27: 4169173.9 | AH27: =Q27-AG27 -> 80586.13 | AI27: 4549679.7 | AJ27: =Q27-AI27 -> -299919.7 | AL27: 3561306.8 | AM27: =Q27-AL27 -> 688453.18 | AP27: =Q27-'[1]2025 Summay'!Q27 -> 0
D28: Total Departmental Profit 部门利润合计 | E28: =SUBTOTAL(9,E23:E27) -> 26097935 | F28: =SUBTOTAL(9,F23:F27) -> 31542102 | G28: =SUBTOTAL(9,G23:G27) -> 16890527 | H28: =SUBTOTAL(9,H23:H27) -> 14996358 | I28: =SUBTOTAL(9,I23:I27) -> 13513592 | J28: =SUBTOTAL(9,J23:J27) -> 11788207 | K28: =SUBTOTAL(9,K23:K27) -> 19928389 | L28: =SUBTOTAL(9,L23:L27) -> 23523465 | ... AD28: =SUBTOTAL(9,AD23:AD27) -> 2.1891473e+08 | AE28: =Q28-AD28 -> -7604214.1 | AG28: 2.2573453e+08 | AH28: =Q28-AG28 -> -14424014 | AI28: 2.2497234e+08 | AJ28: =Q28-AI28 -> -13661821 | AL28: 2.5900205e+08 | AM28: =Q28-AL28 -> -47691538 | AP28: =Q28-'[1]2025 Summay'!Q28 -> 0
AM29: =Q29-AL29 -> 0 | AP29: =Q29-'[1]2025 Summay'!Q29 -> 0
A30: <<50010100..699999999 | B30: <<41001..41004,42004,43004 | D30: Administrative and General 行政部门费用 | E30: ='A&G'!D46+'A&G'!D9 -> 1628017.8 | F30: ='A&G'!E46+'A&G'!E9 -> 1479412.3 | G30: ='A&G'!F46+'A&G'!F9 -> 1557926.6 | H30: ='A&G'!G46+'A&G'!G9 -> 1706277.5 | I30: ='A&G'!H46+'A&G'!H9 -> 1549675.5 | J30: ='A&G'!I46+'A&G'!I9 -> 1527676.1 | K30: ='A&G'!J46+'A&G'!J9 -> 1519016.1 | L30: ='A&G'!K46+'A&G'!K9 -> 1481654.1 | ... P30: ='A&G'!O46+'A&G'!O9 -> 1525245.8 | Q30: =SUM(E30:P30) -> 18679577 | R30: ='A&G'!Q46+'A&G'!Q9 -> 1755518.9 | S30: ='A&G'!R46+'A&G'!R9 -> 2052844.2 | T30: ='A&G'!S46+'A&G'!S9 -> 1729580.4 | U30: ='A&G'!T46+'A&G'!T9 -> 1852833.3 | V30: ='A&G'!U46+'A&G'!U9 -> 1630762.7 | W30: ='A&G'!V46+'A&G'!V9 -> 1591524.5 | X30: ='A&G'!W46+'A&G'!W9 -> 1536246.1 | Y30: ='A&G'!X46+'A&G'!X9 -> 1372190.9 | ... AC30: ='A&G'!AB46+'A&G'!AB9 -> 1627405.8 | AD30: =SUM(R30:AC30) -> 20070538 | AE30: =Q30-AD30 -> -1390961.5 | AF30: =Q30/$Q$16 -> 0.054838972 | AG30: 19944282 | AH30: =AG30-Q30 -> 1264704.9 | AI30: 19094533 | AJ30: =AI30-Q30 -> 414956.13 | AL30: 23029169 | AM30: =Q30-AL30 -> -4349592.5 | AP30: =Q30-'[1]2025 Summay'!Q30 -> 0
A31: <<50010100..60014800,60014820..699999999 | B31: <<41071..41073 | D31: Marketing and Sales 营销费用 | E31: ='S&M'!D42+'S&M'!D9-'S&M'!D40 -> 708510.01 | F31: ='S&M'!E42+'S&M'!E9-'S&M'!E40 -> 710280.03 | G31: ='S&M'!F42+'S&M'!F9-'S&M'!F40 -> 655305.31 | H31: ='S&M'!G42+'S&M'!G9-'S&M'!G40 -> 662607.87 | I31: ='S&M'!H42+'S&M'!H9-'S&M'!H40 -> 631238.2 | J31: ='S&M'!I42+'S&M'!I9-'S&M'!I40 -> 645567.4 | K31: ='S&M'!J42+'S&M'!J9-'S&M'!J40 -> 690806.2 | L31: ='S&M'!K42+'S&M'!K9-'S&M'!K40 -> 689554.18 | ... P31: ='S&M'!O42+'S&M'!O9-'S&M'!O40 -> 768211.24 | Q31: =SUM(E31:P31) -> 8313302.9 | R31: ='S&M'!Q42+'S&M'!Q9-'S&M'!Q40 -> 887673.41 | S31: ='S&M'!R42+'S&M'!R9-'S&M'!R40 -> 1126764 | T31: ='S&M'!S42+'S&M'!S9-'S&M'!S40 -> 882780.53 | U31: ='S&M'!T42+'S&M'!T9-'S&M'!T40 -> 770266.01 | V31: ='S&M'!U42+'S&M'!U9-'S&M'!U40 -> 638979.03 | W31: ='S&M'!V42+'S&M'!V9-'S&M'!V40 -> 615243.43 | X31: ='S&M'!W42+'S&M'!W9-'S&M'!W40 -> 662670.75 | Y31: ='S&M'!X42+'S&M'!X9-'S&M'!X40 -> 565151.94 | ... AC31: ='S&M'!AB42+'S&M'!AB9-'S&M'!AB40 -> 1531786.4 | AD31: =SUM(R31:AC31) -> 10471251 | AE31: =Q31-AD31 -> -2157948.5 | AF31: =Q31/$Q$16 -> 0.024405959 | AG31: 9839889 | AH31: =AG31-Q31 -> 1526586.1 | AI31: 7134874 | AJ31: =AI31-Q31 -> -1178428.9 | AL31: 13158078 | AM31: =Q31-AL31 -> -4844775 | AP31: =Q31-'[1]2025 Summay'!Q31 -> 0
A32: <<60014810 | B32: <<41071..41073 | D32: Marketing Fund 市场营销基金 | E32: ='S&M'!D40 -> 592495 | F32: ='S&M'!E40 -> 656214 | G32: ='S&M'!F40 -> 408210 | H32: ='S&M'!G40 -> 377959 | I32: ='S&M'!H40 -> 359540 | J32: ='S&M'!I40 -> 321610 | K32: ='S&M'!J40 -> 466742 | L32: ='S&M'!K40 -> 525837 | ... P32: ='S&M'!O40 -> 417711 | Q32: =SUM(E32:P32) -> 5144096 | R32: ='S&M'!Q40 -> 632796.01 | S32: ='S&M'!R40 -> 987547.99 | T32: ='S&M'!S40 -> 452252.06 | U32: ='S&M'!T40 -> 389024.35 | V32: ='S&M'!U40 -> 364269.46 | W32: ='S&M'!V40 -> 325826.11 | X32: ='S&M'!W40 -> 467002.2 | Y32: ='S&M'!X40 -> 534294.68 | ... AC32: ='S&M'!AB40 -> 376532 | AD32: =SUM(R32:AC32) -> 5463056.9 | AE32: =Q32-AD32 -> -318960.86 | AF32: =Q32/$Q$16 -> 0.015101891 | AG32: 5210364.7 | AH32: =AG32-Q32 -> 66268.69 | AI32: 5127913 | AJ32: =AI32-Q32 -> -16183.01 | AL32: 6406641.8 | AM32: =Q32-AL32 -> -1262545.8 | AP32: =Q32-'[1]2025 Summay'!Q32 -> 0
A33: <<50010100..699999999 | B33: <<41006 | D33: Repairs and Maintenance 工程维修维护费 | E33: ='R&M'!D63+'R&M'!D9 -> 1497039.1 | F33: ='R&M'!E63+'R&M'!E9 -> 1457304.6 | G33: ='R&M'!F63+'R&M'!F9 -> 1466686.2 | H33: ='R&M'!G63+'R&M'!G9 -> 1487870.6 | I33: ='R&M'!H63+'R&M'!H9 -> 1514447.6 | J33: ='R&M'!I63+'R&M'!I9 -> 1490347.1 | K33: ='R&M'!J63+'R&M'!J9 -> 1491912.9 | L33: ='R&M'!K63+'R&M'!K9 -> 1491787.8 | ... P33: ='R&M'!O63+'R&M'!O9 -> 1490629.3 | Q33: =SUM(E33:P33) -> 17923360 | R33: ='R&M'!Q63+'R&M'!Q9 -> 1866651.1 | S33: ='R&M'!R63+'R&M'!R9 -> 1196664.4 | T33: ='R&M'!S63+'R&M'!S9 -> 1434136.4 | U33: ='R&M'!T63+'R&M'!T9 -> 1470058.8 | V33: ='R&M'!U63+'R&M'!U9 -> 1334478.6 | W33: ='R&M'!V63+'R&M'!V9 -> 1345507.3 | X33: ='R&M'!W63+'R&M'!W9 -> 1637089.2 | Y33: ='R&M'!X63+'R&M'!X9 -> 1699214 | ... AC33: ='R&M'!AB63+'R&M'!AB9 -> 2907147.1 | AD33: =SUM(R33:AC33) -> 21161209 | AE33: =Q33-AD33 -> -3237849.2 | AF33: =Q33/$Q$16 -> 0.052618893 | AG33: 14899288 | AH33: =AG33-Q33 -> -3024072.2 | AI33: 16738536 | AJ33: =AI33-Q33 -> -1184824.3 | AL33: 32983748 | AM33: =Q33-AL33 -> -15060388 | AP33: =Q33-'[1]2025 Summay'!Q33 -> 0
A34: <<50010100..699999999 | B34: <<41005 | D34: Utilities 能源 | E34: =Utilities!D15 -> 1658118 | F34: =Utilities!E15 -> 1643190 | G34: =Utilities!F15 -> 1640342 | H34: =Utilities!G15 -> 1739397 | I34: =Utilities!H15 -> 1773129 | J34: =Utilities!I15 -> 1865882 | K34: =Utilities!J15 -> 1997768 | L34: =Utilities!K15 -> 2031857 | ... P34: =Utilities!O15 -> 1643186 | Q34: =SUM(E34:P34) -> 21052919 | R34: =Utilities!Q15 -> 1525206.4 | S34: =Utilities!R15 -> 1497864.7 | T34: =Utilities!S15 -> 1594174.2 | U34: =Utilities!T15 -> 1758366.6 | V34: =Utilities!U15 -> 1803221.4 | W34: =Utilities!V15 -> 1829495.9 | X34: =Utilities!W15 -> 1892624.7 | Y34: =Utilities!X15 -> 1984155.1 | ... AC34: =Utilities!AB15 -> 1704948.4 | AD34: =SUM(R34:AC34) -> 20893724 | AE34: =Q34-AD34 -> 159194.85 | AF34: =Q34/$Q$16 -> 0.061806563 | AG34: 18461672 | AH34: =AG34-Q34 -> -2591247.1 | AI34: 20248198 | AJ34: =AI34-Q34 -> -804720.72 | AL34: 20364630 | AM34: =Q34-AL34 -> 688289.48 | AP34: =Q34-'[1]2025 Summay'!Q34 -> 0
D35: Total Undistributed Operating Expenses 其他费用合计 | E35: =SUBTOTAL(9,E30:E34) -> 6084179.9 | F35: =SUBTOTAL(9,F30:F34) -> 5946400.9 | G35: =SUBTOTAL(9,G30:G34) -> 5728470.1 | H35: =SUBTOTAL(9,H30:H34) -> 5974112 | I35: =SUBTOTAL(9,I30:I34) -> 5828030.3 | J35: =SUBTOTAL(9,J30:J34) -> 5851082.7 | K35: =SUBTOTAL(9,K30:K34) -> 6166245.3 | L35: =SUBTOTAL(9,L30:L34) -> 6220690.1 | ... AD35: =SUBTOTAL(9,AD30:AD34) -> 78059780 | AE35: =Q35-AD35 -> -6946525.3 | AG35: 68355495 | AH35: =AG35-Q35 -> -2757759.7 | AI35: 68344054 | AJ35: =AI35-Q35 -> -2769200.8 | AL35: 95942266 | AM35: =Q35-AL35 -> -24829012 | AP35: =Q35-'[1]2025 Summay'!Q35 -> 0
D36: Gross Operating Profit 经营毛利额 | E36: =E28-E35 -> 20013755 | F36: =F28-F35 -> 25595701 | G36: =G28-G35 -> 11162057 | H36: =H28-H35 -> 9022245.6 | I36: =I28-I35 -> 7685561.7 | J36: =J28-J35 -> 5937123.8 | K36: =K28-K35 -> 13762144 | L36: =L28-L35 -> 17302775 | ... AD36: =AD28-AD35 -> 1.4085495e+08 | AE36: =Q36-AD36 -> -657688.78 | AG36: 1.5737903e+08 | AH36: =Q36-AG36 -> -17181774 | AI36: 1.5662828e+08 | AJ36: =Q36-AI36 -> -16431022 | AL36: 1.6305979e+08 | AM36: =Q36-AL36 -> -22862527 | AP36: =Q36-'[1]2025 Summay'!Q36 -> 0
D37: Gross Operating Profit % 经营毛利率% | E37: =+E36/E16 -> 0.51012359 | F37: =+F36/F16 -> 0.5890512 | G37: =+G36/G16 -> 0.41294492 | H37: =+H36/H16 -> 0.36049678 | I37: =+I36/I16 -> 0.32281913 | J37: =+J36/J16 -> 0.27879042 | K37: =+K36/K16 -> 0.44528766 | L37: =+L36/L16 -> 0.49693075 | ... AD37: =+AD36/AD16 -> 0.38937464 | AE37: =Q37-AD37 -> 0.022212507 | AG37: 0.4561524 | AI37: 0.46127588 | AJ37: =Q37-AI37 -> -0.049688734 | AL37: 0.38436837 | AM37: =Q37-AL37 -> 0.02721878 | AP37: =Q37-'[1]2025 Summay'!Q37 -> 0
AM38: =Q38-AL38 -> 0 | AP38: =Q38-'[1]2025 Summay'!Q38 -> 0
A39: <<70010100 | B39: <<70011 | D39: Basic Management Fees 基本管理费 | E39: 868992 | F39: 962447 | G39: 598708 | H39: 554340 | I39: 527326 | J39: 471695 | K39: 684555 | L39: 771228 | M39: 444674 | N39: 562184 | O39: 485883 | P39: 612643 | Q39: =SUM(E39:P39) -> 7544675 | R39: ='Fixed+Charge'!Q11 -> 928100.81 | S39: ='Fixed+Charge'!R11 -> 1448403.7 | T39: ='Fixed+Charge'!S11 -> 663303.01 | U39: ='Fixed+Charge'!T11 -> 570569.06 | V39: ='Fixed+Charge'!U11 -> 534261.87 | W39: ='Fixed+Charge'!V11 -> 477878.3 | X39: ='Fixed+Charge'!W11 -> 684936.56 | Y39: ='Fixed+Charge'!X11 -> 783632.18 | ... AC39: ='Fixed+Charge'!AB11 -> 552244 | AD39: =SUM(R39:AC39) -> 8012480.5 | AE39: =Q39-AD39 -> -467805.5 | AG39: 7641868 | AH39: =AG39-Q39 -> 97193.05 | AI39: 7520939 | AJ39: =AI39-Q39 -> -23735.95 | AL39: 9396408 | AM39: =Q39-AL39 -> -1851733 | AP39: =Q39-'[1]2025 Summay'!Q39 -> 0
A40: <<70010200 | B40: <<70011 | D40: Incentive Management Fees 奖励管理费 | E40: 1541019 | F40: 1983132 | G40: 849696 | H40: 680898 | I40: -128370 | J40: 384145 | K40: 920717 | L40: 1164178 | M40: 310479 | N40: -677980 | O40: 346417 | P40: 629025 | Q40: =SUM(E40:P40) -> 8003356 | R40: ='Fixed+Charge'!Q12 -> 1646653.3 | S40: ='Fixed+Charge'!R12 -> 3063458.9 | T40: ='Fixed+Charge'!S12 -> 887264.78 | U40: ='Fixed+Charge'!T12 -> 635270.7 | V40: ='Fixed+Charge'!U12 -> 635746.73 | W40: ='Fixed+Charge'!V12 -> -479385.22 | X40: ='Fixed+Charge'!W12 -> 877910.28 | Y40: ='Fixed+Charge'!X12 -> 1064298.8 | ... AC40: ='Fixed+Charge'!AB12 -> 317895 | AD40: =SUM(R40:AC40) -> 8014917.3 | AE40: =Q40-AD40 -> -11561.28 | AG40: 12044876 | AH40: =AG40-Q40 -> 4041519.6 | AI40: 10451324 | AJ40: =AI40-Q40 -> 2447967.8 | AL40: 9273320.9 | AM40: =Q40-AL40 -> -1269964.9 | AP40: =Q40-'[1]2025 Summay'!Q40 -> 0
D41: Income Before Fixed Charges 固定费用前收入 | E41: =E36-E39-E40 -> 17603744 | F41: =F36-F39-F40 -> 22650122 | G41: =G36-G39-G40 -> 9713652.8 | H41: =H36-H39-H40 -> 7787007.6 | I41: =I36-I39-I40 -> 7286605.7 | J41: =J36-J39-J40 -> 5081283.8 | K41: =K36-K39-K40 -> 12156872 | L41: =L36-L39-L40 -> 15367369 | ... AD41: =AD36-AD39-AD40 -> 1.2482755e+08 | AE41: =Q41-AD41 -> -178322 | AG41: 1.3769229e+08 | AH41: =AG41-Q41 -> 13043061 | AI41: 1.3865602e+08 | AJ41: =Q41-AI41 -> -14006790 | AL41: 1.4439006e+08 | AM41: =Q41-AL41 -> -19740829 | AP41: =Q41-'[1]2025 Summay'!Q41 -> 0
...

Sheet Rooms+Summary
A1: D31 | D1: Hotel Profit & Loss Budget Report 酒店年度预算报表 | E1: 2025001 | F1: 2025002 | G1: 2025003 | H1: 2025004 | I1: 2025005 | J1: 2025006 | K1: 2025007 | L1: 2025008 | M1: 2025009 | N1: 2025010 | O1: 2025011 | P1: 2025012 | R1: 2024001 | S1: 2024002 | T1: 2024003 | U1: 2024004 | V1: 2024005 | W1: 2024006 | X1: 2024007 | Y1: 2024008 | Z1: 2024009 | AA1: 2024010 | AB1: 2024011 | AC1: 2024012
D2: MGM Grand Sanya 三亚美高梅度假酒店 | E2: 2025001 | F2: 2025002 | G2: 2025003 | H2: 2025004 | I2: 2025005 | J2: 2025006 | K2: 2025007 | L2: 2025008 | M2: 2025009 | N2: 2025010 | O2: 2025011 | P2: 2025012 | R2: 2024001 | S2: 2024002 | T2: 2024003 | U2: 2024004 | V2: 2024005 | W2: 2024006 | X2: 2024007 | Y2: 2024008 | Z2: 2024009 | AA2: 2024010 | AB2: 2024011 | AC2: 2024012
D3: Rooms Summary 房务部损益 | E3: A | F3: A | G3: A | H3: A | I3: A | J3: A | K3: B | L3: B | M3: B | N3: B | O3: B | P3: B | R3: A | S3: A | T3: A | U3: A | V3: A | W3: A | X3: A | Y3: A | Z3: A | AA3: A | AB3: A | AC3: A
D4: =+'2025 Summay'!$D$7 -> 2025
E6: ='2025 Summay'!E9 -> 1 | F6: ='2025 Summay'!F9 -> 2 | G6: ='2025 Summay'!G9 -> 3 | H6: ='2025 Summay'!H9 -> 4 | I6: ='2025 Summay'!I9 -> 5 | J6: ='2025 Summay'!J9 -> 6 | K6: ='2025 Summay'!K9 -> 7 | L6: ='2025 Summay'!L9 -> 8 | ... AD6: ='2025 Summay'!AD9 -> 2024 | AG6: 2019
E7: ='2025 Summay'!E10 -> Budget | F7: ='2025 Summay'!F10 -> Budget | G7: ='2025 Summay'!G10 -> Budget | H7: ='2025 Summay'!H10 -> Budget | I7: ='2025 Summay'!I10 -> Budget | J7: ='2025 Summay'!J10 -> Budget | K7: ='2025 Summay'!K10 -> Budget | L7: ='2025 Summay'!L10 -> Budget | ... AD7: ='2025 Summay'!AD10 -> Forecast | AE7: Var. | AF7: Var.% | AG7: Actual | AH7: Var.
D8: REVENUE 收入
A9: <<30100110..30100180 | B9: <<10100 | C9: <<LDTA,TFIT,TGDS,TWMM,TDMH,TPKG,OOWN,TIND,TPAR,IFAN,LWMM,ADV,OPKG,LDMW,LINW | D9: Transient 散客 | E9: =+E138 -> 26765975 | F9: =+F138 -> 31217680 | G9: =+G138 -> 18499284 | H9: =+H138 -> 17004780 | I9: =+I138 -> 15842736 | J9: =+J138 -> 14183509 | K9: =+K138 -> 21072211 | L9: =+L138 -> 24392477 | ... P9: =+P138 -> 17770688 | Q9: =SUM(E9:P9) -> 229334883 | R9: 29424041 | S9: 45512261 | T9: 18951848 | U9: 16635442 | V9: 15030944 | W9: 13675100 | X9: 20625312 | Y9: 24194896 | Z9: 11819595 | AA9: 14555068 | AB9: 13141761 | AC9: 16193636 | AD9: =SUM(R9:AC9) -> 2.397599e+08 | AE9: =Q9-AD9 -> -10425022 | AF9: =AE9/AD9 -> -0.04348109 | AG9: 2.0669792e+08 | AH9: =Q9-AG9 -> 22636960
A10: <<30100110..30100180 | B10: <<10100 | C10: <<VCOR,TCOR,COA,COB,COC,COS,VASS,VSMF,GOT,VINC,TSMG,LDMA,LINA,LDSE,LISE | D10: Group 团队 | E10: =+E142 -> 0 | F10: =+F142 -> 0 | G10: =+G142 -> 0 | H10: =+H142 -> 0 | I10: =+I142 -> 0 | J10: =+J142 -> 0 | K10: =+K142 -> 0 | L10: =+L142 -> 0 | ... P10: =+P142 -> 0 | Q10: =SUM(E10:P10) -> 0 | R10: 1251296.4 | S10: 2004734.8 | T10: 1213410.1 | U10: 585025.81 | V10: 664477.7 | W10: 398087.65 | X10: 619654.46 | Y10: 202968.95 | Z10: 0 | AA10: 0 | AB10: 0 | AC10: 0 | AD10: =SUM(R10:AC10) -> 6939655.8 | AE10: =Q10-AD10 -> -6939655.8 | AF10: =AE10/AD10 -> -1 | AG10: 15303038 | AH10: =Q10-AG10 -> -15303038
A11: <<30100110..30100180 | B11: <<10100 | C11: <<LSG | D11: Contract 合约 | E11: =+E146 -> 0 | F11: =+F146 -> 0 | G11: =+G146 -> 0 | H11: =+H146 -> 0 | I11: =+I146 -> 0 | J11: =+J146 -> 0 | K11: =+K146 -> 0 | L11: =+L146 -> 0 | ... P11: =+P146 -> 0 | Q11: =SUM(E11:P11) -> 0 | R11: 37101.09 | S11: 0 | T11: 0 | U11: 0 | V11: 0 | W11: 0 | X11: 0 | Y11: 0 | Z11: 0 | AA11: 0 | AB11: 0 | AC11: 0 | AD11: =SUM(R11:AC11) -> 37101.09 | AE11: =Q11-AD11 -> -37101.09 | AG11: 0 | AH11: =Q11-AG11 -> 0
A12: z | D12: Rooms Revenue 房费收入 | E12: =SUM(E9:E11) -> 26765975 | F12: =SUM(F9:F11) -> 31217680 | G12: =SUM(G9:G11) -> 18499284 | H12: =SUM(H9:H11) -> 17004780 | I12: =SUM(I9:I11) -> 15842736 | J12: =SUM(J9:J11) -> 14183509 | K12: =SUM(K9:K11) -> 21072211 | L12: =SUM(L9:L11) -> 24392477 | ... AD12: =SUM(AD9:AD11) -> 2.4673666e+08 | AE12: =Q12-AD12 -> -17401779 | AF12: =AE12/AD12 -> -0.070527739 | AG12: 2.2200096e+08 | AH12: =Q12-AG12 -> 7333922.1
A13: <<38108100 | B13: <<10100 | D13: Service Charge 服务费 | E13: =ROUND(+E12*0.1,0) -> 2676598 | F13: =ROUND(+F12*0.1,0) -> 3121768 | G13: =ROUND(+G12*0.1,0) -> 1849928 | H13: =ROUND(+H12*0.1,0) -> 1700478 | I13: =ROUND(+I12*0.1,0) -> 1584274 | J13: =ROUND(+J12*0.1,0) -> 1418351 | K13: =ROUND(+K12*0.1,0) -> 2107221 | L13: =ROUND(+L12*0.1,0) -> 2439248 | ... P13: =ROUND(+P12*0.1,0) -> 1777069 | Q13: =SUM(E13:P13) -> 22933489 | R13: 2627494.9 | S13: 5195411.6 | T13: 2016593.9 | U13: 1458652.7 | V13: 1740852.8 | W13: 1499434.5 | X13: 1957343 | Y13: 2606962 | Z13: 1181960 | AA13: 1455507 | AB13: 1314176 | AC13: 1619364 | AD13: =SUM(R13:AC13) -> 24673752 | AE13: =Q13-AD13 -> -1740263.2 | AF13: =AE13/AD13 -> -0.070530952 | AG13: 22200563 | AH13: =Q13-AG13 -> 732925.85
A14: z | D14: Other Revenue 其他收入 | L14: 0 | M14: 0 | N14: 0 | O14: 0 | P14: 0 | Q14: =SUM(E14:P14) -> 0 | R14: 0 | S14: 0 | T14: 0 | U14: 0 | V14: 0 | W14: 0 | X14: 0 | Y14: 0 | Z14: 0 | AA14: 0 | AB14: 0 | AC14: 0 | AD14: =SUM(R14:AC14) -> 0 | AE14: =Q14-AD14 -> 0 | AG14: 0 | AH14: =Q14-AG14 -> 0
D15: Total Rooms Revenue 客房收入合计 | E15: =SUM(E12:E14) -> 29442573 | F15: =SUM(F12:F14) -> 34339448 | G15: =SUM(G12:G14) -> 20349212 | H15: =SUM(H12:H14) -> 18705258 | I15: =SUM(I12:I14) -> 17427010 | J15: =SUM(J12:J14) -> 15601860 | K15: =SUM(K12:K14) -> 23179432 | L15: =SUM(L12:L14) -> 26831725 | ... AD15: =SUM(AD12:AD14) -> 2.7141041e+08 | AE15: =Q15-AD15 -> -19142042 | AF15: =AE15/AD15 -> -0.070528031 | AG15: 2.4420152e+08 | AH15: =Q15-AG15 -> 8066848
AH16: =Q16-AG16 -> 0
A17: <<5..59999999 | B17: <<10200,10300,10400,10099 | D17: Total Labour Costs 人工成本合计 | E17: =E98 -> 1109792.1 | F17: =F98 -> 991031.22 | G17: =G98 -> 977071.01 | H17: =H98 -> 1013101.3 | I17: =I98 -> 1044135.6 | J17: =J98 -> 986136.44 | K17: =K98 -> 1004590 | L17: =L98 -> 1016953.2 | ... AD17: =AD98 -> 13201476 | AE17: =AD17-Q17 -> 881919.37 | AF17: =AE17/AD17 -> 0.066804602 | AG17: 15617450 | AH17: =AG17-Q17 -> 3297893.5
D19: OPERATING EXPENSES 营运费用
A20: <<60010011 | B20: <<10200,10300,10400,10099 | D20: Comm - Travel Agents 佣金 - 旅行社 | E20: =SUM('Front office:Rooms Admin'!E20) -> 1707669 | F20: =SUM('Front office:Rooms Admin'!F20) -> 1991688 | G20: =SUM('Front office:Rooms Admin'!G20) -> 1180254 | H20: =SUM('Front office:Rooms Admin'!H20) -> 1084905 | I20: =SUM('Front office:Rooms Admin'!I20) -> 1010767 | J20: =SUM('Front office:Rooms Admin'!J20) -> 904908 | K20: =SUM('Front office:Rooms Admin'!K20) -> 1344407 | L20: =SUM('Front office:Rooms Admin'!L20) -> 1556240 | ... P20: =SUM('Front office:Rooms Admin'!P20) -> 1133770 | Q20: =SUM(E20:P20) -> 14631565 | R20: =SUM('Front office:Rooms Admin'!R20) -> 2262430.5 | S20: =SUM('Front office:Rooms Admin'!S20) -> 3870829.9 | T20: =SUM('Front office:Rooms Admin'!T20) -> 1592437.6 | U20: =SUM('Front office:Rooms Admin'!U20) -> 1534402.6 | V20: =SUM('Front office:Rooms Admin'!V20) -> 1489908.9 | W20: =SUM('Front office:Rooms Admin'!W20) -> 1296555.3 | X20: =SUM('Front office:Rooms Admin'!X20) -> 1906847.8 | Y20: =SUM('Front office:Rooms Admin'!Y20) -> 2570960.1 | ... AC20: =SUM('Front office:Rooms Admin'!AC20) -> 1335975 | AD20: =SUM(R20:AC20) -> 21410574 | AE20: =Q20-AD20 -> -6779008.7 | AF20: =AE20/AD20 -> -0.31661967 | AG20: 10730360 | AH20: =AG20-Q20 -> -3901204.7
A21: <<60010040 | B21: <<10200,10300,10400,10099 | D21: Contract Cleaning 清洁合同 | E21: =SUM('Front office:Rooms Admin'!E21) -> 853920 | F21: =SUM('Front office:Rooms Admin'!F21) -> 668889 | G21: =SUM('Front office:Rooms Admin'!G21) -> 699231 | H21: =SUM('Front office:Rooms Admin'!H21) -> 667719 | I21: =SUM('Front office:Rooms Admin'!I21) -> 691041 | J21: =SUM('Front office:Rooms Admin'!J21) -> 662337 | K21: =SUM('Front office:Rooms Admin'!K21) -> 740064 | L21: =SUM('Front office:Rooms Admin'!L21) -> 740064 | ... P21: =SUM('Front office:Rooms Admin'!P21) -> 723715 | Q21: =SUM(E21:P21) -> 8443897 | R21: =SUM('Front office:Rooms Admin'!R21) -> 758692.87 | S21: =SUM('Front office:Rooms Admin'!S21) -> 835794.58 | T21: =SUM('Front office:Rooms Admin'!T21) -> 760190.19 | U21: =SUM('Front office:Rooms Admin'!U21) -> 794134.29 | V21: =SUM('Front office:Rooms Admin'!V21) -> 754914.49 | W21: =SUM('Front office:Rooms Admin'!W21) -> 754840.44 | X21: =SUM('Front office:Rooms Admin'!X21) -> 793814.79 | Y21: =SUM('Front office:Rooms Admin'!Y21) -> 785569.6 | ... AC21: =SUM('Front office:Rooms Admin'!AC21) -> 601932.39 | AD21: =SUM(R21:AC21) -> 8504960.8 | AE21: =Q21-AD21 -> -61063.81 | AF21: =AE21/AD21 -> -0.0071797873 | AG21: 5318127.2 | AH21: =AG21-Q21 -> -3125769.8
A22: <<60010050 | B22: <<10200,10300,10400,10099 | D22: Contract Services 服务合同 | E22: =SUM('Front office:Rooms Admin'!E22) -> 335171.43 | F22: =SUM('Front office:Rooms Admin'!F22) -> 284149.12 | G22: =SUM('Front office:Rooms Admin'!G22) -> 286663.29 | H22: =SUM('Front office:Rooms Admin'!H22) -> 302316.64 | I22: =SUM('Front office:Rooms Admin'!I22) -> 319547.68 | J22: =SUM('Front office:Rooms Admin'!J22) -> 291990.36 | K22: =SUM('Front office:Rooms Admin'!K22) -> 293808.41 | L22: =SUM('Front office:Rooms Admin'!L22) -> 292644.72 | ... P22: =SUM('Front office:Rooms Admin'!P22) -> 291503.41 | Q22: =SUM(E22:P22) -> 3632008.7 | R22: =SUM('Front office:Rooms Admin'!R22) -> 404490.65 | S22: =SUM('Front office:Rooms Admin'!S22) -> 487360.27 | T22: =SUM('Front office:Rooms Admin'!T22) -> 413520.71 | U22: =SUM('Front office:Rooms Admin'!U22) -> 326580.03 | V22: =SUM('Front office:Rooms Admin'!V22) -> 281528.08 | W22: =SUM('Front office:Rooms Admin'!W22) -> 271373.09 | X22: =SUM('Front office:Rooms Admin'!X22) -> 310536.5 | Y22: =SUM('Front office:Rooms Admin'!Y22) -> 344896.31 | ... AC22: =SUM('Front office:Rooms Admin'!AC22) -> 60035.3 | AD22: =SUM(R22:AC22) -> 3113059.6 | AE22: =Q22-AD22 -> 518949.06 | AF22: =AE22/AD22 -> 0.16670065 | AG22: 143870.58 | AH22: =AG22-Q22 -> -3488138.1
A23: <<60010060 | B23: <<10200,10300,10400,10099 | D23: Promotion Decoration 推广装饰 | E23: =SUM('Front office:Rooms Admin'!E23) -> 85000 | F23: =SUM('Front office:Rooms Admin'!F23) -> 0 | G23: =SUM('Front office:Rooms Admin'!G23) -> 0 | H23: =SUM('Front office:Rooms Admin'!H23) -> 0 | I23: =SUM('Front office:Rooms Admin'!I23) -> 0 | J23: =SUM('Front office:Rooms Admin'!J23) -> 0 | K23: =SUM('Front office:Rooms Admin'!K23) -> 0 | L23: =SUM('Front office:Rooms Admin'!L23) -> 0 | ... P23: =SUM('Front office:Rooms Admin'!P23) -> 20000 | Q23: =SUM(E23:P23) -> 105000 | R23: =SUM('Front office:Rooms Admin'!R23) -> 42862.61 | S23: =SUM('Front office:Rooms Admin'!S23) -> 84205.42 | T23: =SUM('Front office:Rooms Admin'!T23) -> 0 | U23: =SUM('Front office:Rooms Admin'!U23) -> 0 | V23: =SUM('Front office:Rooms Admin'!V23) -> 0 | W23: =SUM('Front office:Rooms Admin'!W23) -> 0 | X23: =SUM('Front office:Rooms Admin'!X23) -> 0 | Y23: =SUM('Front office:Rooms Admin'!Y23) -> 0 | ... AC23: =SUM('Front office:Rooms Admin'!AC23) -> 100000 | AD23: =SUM(R23:AC23) -> 227068.03 | AE23: =Q23-AD23 -> -122068.03 | AF23: =AE23/AD23 -> -0.53758352 | AG23: 476526.92 | AH23: =AG23-Q23 -> 371526.92
A24: <<60010080 | B24: <<10200,10300,10400,10099 | D24: Entertainment 招待 | E24: =SUM('Front office:Rooms Admin'!E24) -> 0 | F24: =SUM('Front office:Rooms Admin'!F24) -> 0 | G24: =SUM('Front office:Rooms Admin'!G24) -> 0 | H24: =SUM('Front office:Rooms Admin'!H24) -> 0 | I24: =SUM('Front office:Rooms Admin'!I24) -> 0 | J24: =SUM('Front office:Rooms Admin'!J24) -> 0 | K24: =SUM('Front office:Rooms Admin'!K24) -> 0 | L24: =SUM('Front office:Rooms Admin'!L24) -> 0 | ... P24: =SUM('Front office:Rooms Admin'!P24) -> 0 | Q24: =SUM(E24:P24) -> 0 | R24: =SUM('Front office:Rooms Admin'!R24) -> 0 | S24: =SUM('Front office:Rooms Admin'!S24) -> 0 | T24: =SUM('Front office:Rooms Admin'!T24) -> 0 | U24: =SUM('Front office:Rooms Admin'!U24) -> 0 | V24: =SUM('Front office:Rooms Admin'!V24) -> 0 | W24: =SUM('Front office:Rooms Admin'!W24) -> 0 | X24: =SUM('Front office:Rooms Admin'!X24) -> 0 | Y24: =SUM('Front office:Rooms Admin'!Y24) -> 11.27 | ... AC24: =SUM('Front office:Rooms Admin'!AC24) -> 0 | AD24: =SUM(R24:AC24) -> 11.27 | AE24: =Q24-AD24 -> -11.27 | AF24: =AE24/AD24 -> -1 | AG24: 29619.6 | AH24: =AG24-Q24 -> 29619.6
A25: <<60010093 | B25: <<10200,10300,10400,10099 | D25: Guest Supplies 客用品 - Magazines&Newspapers 杂志&报纸 | E25: =SUM('Front office:Rooms Admin'!E25) -> 1628 | F25: =SUM('Front office:Rooms Admin'!F25) -> 1628 | G25: =SUM('Front office:Rooms Admin'!G25) -> 1628 | H25: =SUM('Front office:Rooms Admin'!H25) -> 1628 | I25: =SUM('Front office:Rooms Admin'!I25) -> 1628 | J25: =SUM('Front office:Rooms Admin'!J25) -> 1628 | K25: =SUM('Front office:Rooms Admin'!K25) -> 1628 | L25: =SUM('Front office:Rooms Admin'!L25) -> 1628 | ... P25: =SUM('Front office:Rooms Admin'!P25) -> 1628 | Q25: =SUM(E25:P25) -> 19536 | R25: =SUM('Front office:Rooms Admin'!R25) -> 0 | S25: =SUM('Front office:Rooms Admin'!S25) -> 3189.64 | T25: =SUM('Front office:Rooms Admin'!T25) -> 1594.82 | U25: =SUM('Front office:Rooms Admin'!U25) -> 1594.82 | V25: =SUM('Front office:Rooms Admin'!V25) -> 1594.82 | W25: =SUM('Front office:Rooms Admin'!W25) -> 1594.82 | X25: =SUM('Front office:Rooms Admin'!X25) -> 1594.82 | Y25: =SUM('Front office:Rooms Admin'!Y25) -> 1594.82 | ... AC25: =SUM('Front office:Rooms Admin'!AC25) -> 1815 | AD25: =SUM(R25:AC25) -> 20018.56 | AE25: =Q25-AD25 -> -482.56 | AF25: =AE25/AD25 -> -0.02410563 | AG25: 26667.91 | AH25: =AG25-Q25 -> 7131.91
A26: <<60010094 | B26: <<10200,10300,10400,10099 | D26: Guest Supplies 客用品 - Others 其他 | E26: =SUM('Front office:Rooms Admin'!E26) -> 1037809 | F26: =SUM('Front office:Rooms Admin'!F26) -> 903586 | G26: =SUM('Front office:Rooms Admin'!G26) -> 771459 | H26: =SUM('Front office:Rooms Admin'!H26) -> 733064 | I26: =SUM('Front office:Rooms Admin'!I26) -> 753905 | J26: =SUM('Front office:Rooms Admin'!J26) -> 722578 | K26: =SUM('Front office:Rooms Admin'!K26) -> 864982 | L26: =SUM('Front office:Rooms Admin'!L26) -> 864982 | ... P26: =SUM('Front office:Rooms Admin'!P26) -> 827254 | Q26: =SUM(E26:P26) -> 9690224 | R26: =SUM('Front office:Rooms Admin'!R26) -> 1193163.3 | S26: =SUM('Front office:Rooms Admin'!S26) -> 1571423.3 | T26: =SUM('Front office:Rooms Admin'!T26) -> 1141330.5 | U26: =SUM('Front office:Rooms Admin'!U26) -> 981948.59 | V26: =SUM('Front office:Rooms Admin'!V26) -> 1080004.9 | W26: =SUM('Front office:Rooms Admin'!W26) -> 730633.85 | X26: =SUM('Front office:Rooms Admin'!X26) -> 883951.61 | Y26: =SUM('Front office:Rooms Admin'!Y26) -> 1010138.1 | ... AC26: =SUM('Front office:Rooms Admin'!AC26) -> 978797 | AD26: =SUM(R26:AC26) -> 12245229 | AE26: =Q26-AD26 -> -2555005.1 | AF26: =AE26/AD26 -> -0.20865311 | AG26: 6680522.8 | AH26: =AG26-Q26 -> -3009701.2
A27: <<60010110 | B27: <<10200,10300,10400,10099 | D27: Communication/Satellite/Cable 通讯/卫星/有线收视 | E27: =SUM('Front office:Rooms Admin'!E27) -> 44998 | F27: =SUM('Front office:Rooms Admin'!F27) -> 44998 | G27: =SUM('Front office:Rooms Admin'!G27) -> 44998 | H27: =SUM('Front office:Rooms Admin'!H27) -> 44998 | I27: =SUM('Front office:Rooms Admin'!I27) -> 44998 | J27: =SUM('Front office:Rooms Admin'!J27) -> 44998 | K27: =SUM('Front office:Rooms Admin'!K27) -> 44998 | L27: =SUM('Front office:Rooms Admin'!L27) -> 44998 | ... P27: =SUM('Front office:Rooms Admin'!P27) -> 44998 | Q27: =SUM(E27:P27) -> 539976 | R27: =SUM('Front office:Rooms Admin'!R27) -> 43288.87 | S27: =SUM('Front office:Rooms Admin'!S27) -> 43288.87 | T27: =SUM('Front office:Rooms Admin'!T27) -> 43288.87 | U27: =SUM('Front office:Rooms Admin'!U27) -> 14040 | V27: =SUM('Front office:Rooms Admin'!V27) -> 14040 | W27: =SUM('Front office:Rooms Admin'!W27) -> 14039.99 | X27: =SUM('Front office:Rooms Admin'!X27) -> 14040 | Y27: =SUM('Front office:Rooms Admin'!Y27) -> 14040 | ... AC27: =SUM('Front office:Rooms Admin'!AC27) -> 14040 | AD27: =SUM(R27:AC27) -> 256226.6 | AE27: =Q27-AD27 -> 283749.4 | AF27: =AE27/AD27 -> 1.1074159 | AG27: 692424.28 | AH27: =AG27-Q27 -> 152448.28
A28: Z | D28: Reservations Fees预订费 | E28: =SUM('Front office:Rooms Admin'!E28) -> 0 | F28: =SUM('Front office:Rooms Admin'!F28) -> 0 | G28: =SUM('Front office:Rooms Admin'!G28) -> 0 | H28: =SUM('Front office:Rooms Admin'!H28) -> 0 | I28: =SUM('Front office:Rooms Admin'!I28) -> 0 | J28: =SUM('Front office:Rooms Admin'!J28) -> 0 | K28: =SUM('Front office:Rooms Admin'!K28) -> 0 | L28: =SUM('Front office:Rooms Admin'!L28) -> 0 | ... P28: =SUM('Front office:Rooms Admin'!P28) -> 0 | Q28: =SUM(E28:P28) -> 0 | R28: =SUM('Front office:Rooms Admin'!R28) -> 0 | S28: =SUM('Front office:Rooms Admin'!S28) -> 0 | T28: =SUM('Front office:Rooms Admin'!T28) -> 0 | U28: =SUM('Front office:Rooms Admin'!U28) -> 0 | V28: =SUM('Front office:Rooms Admin'!V28) -> 0 | W28: =SUM('Front office:Rooms Admin'!W28) -> 0 | X28: =SUM('Front office:Rooms Admin'!X28) -> 0 | Y28: =SUM('Front office:Rooms Admin'!Y28) -> 0 | ... AC28: =SUM('Front office:Rooms Admin'!AC28) -> 0 | AD28: =SUM(R28:AC28) -> 0 | AE28: =Q28-AD28 -> 0 | AF28: =AE28/AD28 -> #DIV/0! | AG28: 0 | AH28: =AG28-Q28 -> 0
A29: <<60010021 | B29: <<10200,10300,10400,10099 | D29: Complimentaries - Give Away 免费赠送 | E29: =SUM('Front office:Rooms Admin'!E29) -> 52809 | F29: =SUM('Front office:Rooms Admin'!F29) -> 27256 | G29: =SUM('Front office:Rooms Admin'!G29) -> 27662 | H29: =SUM('Front office:Rooms Admin'!H29) -> 25857 | I29: =SUM('Front office:Rooms Admin'!I29) -> 22557 | J29: =SUM('Front office:Rooms Admin'!J29) -> 21618 | K29: =SUM('Front office:Rooms Admin'!K29) -> 27976 | L29: =SUM('Front office:Rooms Admin'!L29) -> 27976 | ... P29: =SUM('Front office:Rooms Admin'!P29) -> 27348 | Q29: =SUM(E29:P29) -> 334284 | R29: =SUM('Front office:Rooms Admin'!R29) -> 28558.83 | S29: =SUM('Front office:Rooms Admin'!S29) -> 54250.21 | T29: =SUM('Front office:Rooms Admin'!T29) -> 29105.8 | U29: =SUM('Front office:Rooms Admin'!U29) -> 25711.51 | V29: =SUM('Front office:Rooms Admin'!V29) -> 22699.64 | W29: =SUM('Front office:Rooms Admin'!W29) -> 18575.21 | X29: =SUM('Front office:Rooms Admin'!X29) -> 21983.05 | Y29: =SUM('Front office:Rooms Admin'!Y29) -> 20680.54 | ... AC29: =SUM('Front office:Rooms Admin'!AC29) -> 28083 | AD29: =SUM(R29:AC29) -> 325413.79 | AE29: =Q29-AD29 -> 8870.21 | AF29: =AE29/AD29 -> 0.027258249 | AG29: 0 | AH29: =AG29-Q29 -> -334284
A30: <<60011210 | B30: <<10200,10300,10400,10099 | D30: Chinaware 瓷器 | E30: =SUM('Front office:Rooms Admin'!E30) -> 7255 | F30: =SUM('Front office:Rooms Admin'!F30) -> 6633 | G30: =SUM('Front office:Rooms Admin'!G30) -> 6920 | H30: =SUM('Front office:Rooms Admin'!H30) -> 6771 | I30: =SUM('Front office:Rooms Admin'!I30) -> 6467 | J30: =SUM('Front office:Rooms Admin'!J30) -> 6793 | K30: =SUM('Front office:Rooms Admin'!K30) -> 7339 | L30: =SUM('Front office:Rooms Admin'!L30) -> 7339 | ... P30: =SUM('Front office:Rooms Admin'!P30) -> 7339 | Q30: =SUM(E30:P30) -> 82507 | R30: =SUM('Front office:Rooms Admin'!R30) -> 11823 | S30: =SUM('Front office:Rooms Admin'!S30) -> 11191 | T30: =SUM('Front office:Rooms Admin'!T30) -> 11205 | U30: =SUM('Front office:Rooms Admin'!U30) -> 0 | V30: =SUM('Front office:Rooms Admin'!V30) -> 0 | W30: =SUM('Front office:Rooms Admin'!W30) -> 0 | X30: =SUM('Front office:Rooms Admin'!X30) -> 0 | Y30: =SUM('Front office:Rooms Admin'!Y30) -> 0 | ... AC30: =SUM('Front office:Rooms Admin'!AC30) -> 0 | AD30: =SUM(R30:AC30) -> 34219 | AE30: =Q30-AD30 -> 48288 | AF30: =AE30/AD30 -> 1.4111459 | AG30: 27597 | AH30: =AG30-Q30 -> -54910
A31: <<60011220 | B31: <<10200,10300,10400,10099 | D31: Cleaning Supplies&Chemicals 清洁用品&化学药剂 | E31: =SUM('Front office:Rooms Admin'!E31) -> 84872 | F31: =SUM('Front office:Rooms Admin'!F31) -> 76658 | G31: =SUM('Front office:Rooms Admin'!G31) -> 82986 | H31: =SUM('Front office:Rooms Admin'!H31) -> 77571 | I31: =SUM('Front office:Rooms Admin'!I31) -> 78082 | J31: =SUM('Front office:Rooms Admin'!J31) -> 74833 | K31: =SUM('Front office:Rooms Admin'!K31) -> 83929 | L31: =SUM('Front office:Rooms Admin'!L31) -> 83929 | ... P31: =SUM('Front office:Rooms Admin'!P31) -> 82043 | Q31: =SUM(E31:P31) -> 949160 | R31: =SUM('Front office:Rooms Admin'!R31) -> 85680.73 | S31: =SUM('Front office:Rooms Admin'!S31) -> 55292.73 | T31: =SUM('Front office:Rooms Admin'!T31) -> 90870.68 | U31: =SUM('Front office:Rooms Admin'!U31) -> 84802.96 | V31: =SUM('Front office:Rooms Admin'!V31) -> 43763.24 | W31: =SUM('Front office:Rooms Admin'!W31) -> 81104.08 | X31: =SUM('Front office:Rooms Admin'!X31) -> 72387.95 | Y31: =SUM('Front office:Rooms Admin'!Y31) -> 88169.51 | ... AC31: =SUM('Front office:Rooms Admin'!AC31) -> 101215 | AD31: =SUM(R31:AC31) -> 977964.88 | AE31: =Q31-AD31 -> -28804.88 | AF31: =AE31/AD31 -> -0.0294539 | AG31: 911171.85 | AH31: =AG31-Q31 -> -37988.15
A32: <<60011250 | B32: <<10200,10300,10400,10099 | D32: Linen 布巾 | E32: =SUM('Front office:Rooms Admin'!E32) -> 21124 | F32: =SUM('Front office:Rooms Admin'!F32) -> 19931 | G32: =SUM('Front office:Rooms Admin'!G32) -> 20654 | H32: =SUM('Front office:Rooms Admin'!H32) -> 94760 | I32: =SUM('Front office:Rooms Admin'!I32) -> 19434 | J32: =SUM('Front office:Rooms Admin'!J32) -> 18625 | K32: =SUM('Front office:Rooms Admin'!K32) -> 20889 | L32: =SUM('Front office:Rooms Admin'!L32) -> 21821 | ... P32: =SUM('Front office:Rooms Admin'!P32) -> 22243 | Q32: =SUM(E32:P32) -> 507885 | R32: =SUM('Front office:Rooms Admin'!R32) -> 22198 | S32: =SUM('Front office:Rooms Admin'!S32) -> 22198 | T32: =SUM('Front office:Rooms Admin'!T32) -> 22198 | U32: =SUM('Front office:Rooms Admin'!U32) -> 0 | V32: =SUM('Front office:Rooms Admin'!V32) -> 0 | W32: =SUM('Front office:Rooms Admin'!W32) -> 0 | X32: =SUM('Front office:Rooms Admin'!X32) -> 0 | Y32: =SUM('Front office:Rooms Admin'!Y32) -> 100000 | ... AC32: =SUM('Front office:Rooms Admin'!AC32) -> 0 | AD32: =SUM(R32:AC32) -> 166594 | AE32: =Q32-AD32 -> 341291 | AF32: =AE32/AD32 -> 2.0486392 | AG32: 630173 | AH32: =AG32-Q32 -> 122288
A33: <<60011270 | B33: <<10200,10300,10400,10099 | D33: Other Operating Supplies 其他运营用品 | E33: =SUM('Front office:Rooms Admin'!E33) -> 46448 | F33: =SUM('Front office:Rooms Admin'!F33) -> 28583 | G33: =SUM('Front office:Rooms Admin'!G33) -> 29300 | H33: =SUM('Front office:Rooms Admin'!H33) -> 32928 | I33: =SUM('Front office:Rooms Admin'!I33) -> 62304 | J33: =SUM('Front office:Rooms Admin'!J33) -> 62849 | K33: =SUM('Front office:Rooms Admin'!K33) -> 30248 | L33: =SUM('Front office:Rooms Admin'!L33) -> 39848 | ... P33: =SUM('Front office:Rooms Admin'!P33) -> 30248 | Q33: =SUM(E33:P33) -> 564242 | R33: =SUM('Front office:Rooms Admin'!R33) -> 49427.37 | S33: =SUM('Front office:Rooms Admin'!S33) -> 9568.77 | T33: =SUM('Front office:Rooms Admin'!T33) -> 14190.12 | U33: =SUM('Front office:Rooms Admin'!U33) -> -6990.1 | V33: =SUM('Front office:Rooms Admin'!V33) -> 147140.71 | W33: =SUM('Front office:Rooms Admin'!W33) -> 22607.36 | X33: =SUM('Front office:Rooms Admin'!X33) -> 6988.73 | Y33: =SUM('Front office:Rooms Admin'!Y33) -> 41413.06 | ... AC33: =SUM('Front office:Rooms Admin'!AC33) -> 48894 | AD33: =SUM(R33:AC33) -> 444915.02 | AE33: =Q33-AD33 -> 119326.98 | AF33: =AE33/AD33 -> 0.26820173 | AG33: 960304.2 | AH33: =AG33-Q33 -> 396062.2
A34: <<60011310 | B34: <<10200,10300,10400,10099 | D34: Uniforms 制服 | E34: =SUM('Front office:Rooms Admin'!E34) -> 4279 | F34: =SUM('Front office:Rooms Admin'!F34) -> 4279 | G34: =SUM('Front office:Rooms Admin'!G34) -> 4279 | H34: =SUM('Front office:Rooms Admin'!H34) -> 4279 | I34: =SUM('Front office:Rooms Admin'!I34) -> 4279 | J34: =SUM('Front office:Rooms Admin'!J34) -> 4279 | K34: =SUM('Front office:Rooms Admin'!K34) -> 4279 | L34: =SUM('Front office:Rooms Admin'!L34) -> 4279 | ... P34: =SUM('Front office:Rooms Admin'!P34) -> 4279 | Q34: =SUM(E34:P34) -> 51348 | R34: =SUM('Front office:Rooms Admin'!R34) -> 7605 | S34: =SUM('Front office:Rooms Admin'!S34) -> 7605 | T34: =SUM('Front office:Rooms Admin'!T34) -> 7441.4 | U34: =SUM('Front office:Rooms Admin'!U34) -> -48.6 | V34: =SUM('Front office:Rooms Admin'!V34) -> 0 | W34: =SUM('Front office:Rooms Admin'!W34) -> -109.2 | X34: =SUM('Front office:Rooms Admin'!X34) -> 0 | Y34: =SUM('Front office:Rooms Admin'!Y34) -> -87.88 | ... AC34: =SUM('Front office:Rooms Admin'!AC34) -> 0 | AD34: =SUM(R34:AC34) -> 22405.72 | AE34: =Q34-AD34 -> 28942.28 | AF34: =AE34/AD34 -> 1.2917362 | AG34: 254512.88 | AH34: =AG34-Q34 -> 203164.88
A35: <<60011450 | B35: <<10200,10300,10400,10099 | D35: Taskforce Expenses 外援费用 | E35: =SUM('Front office:Rooms Admin'!E35) -> 0 | F35: =SUM('Front office:Rooms Admin'!F35) -> 0 | G35: =SUM('Front office:Rooms Admin'!G35) -> 0 | H35: =SUM('Front office:Rooms Admin'!H35) -> 0 | I35: =SUM('Front office:Rooms Admin'!I35) -> 0 | J35: =SUM('Front office:Rooms Admin'!J35) -> 0 | K35: =SUM('Front office:Rooms Admin'!K35) -> 0 | L35: =SUM('Front office:Rooms Admin'!L35) -> 0 | ... P35: =SUM('Front office:Rooms Admin'!P35) -> 0 | Q35: =SUM(E35:P35) -> 0 | R35: =SUM('Front office:Rooms Admin'!R35) -> 0 | S35: =SUM('Front office:Rooms Admin'!S35) -> 0 | T35: =SUM('Front office:Rooms Admin'!T35) -> 0 | U35: =SUM('Front office:Rooms Admin'!U35) -> 0 | V35: =SUM('Front office:Rooms Admin'!V35) -> 0 | W35: =SUM('Front office:Rooms Admin'!W35) -> 0 | X35: =SUM('Front office:Rooms Admin'!X35) -> 0 | Y35: =SUM('Front office:Rooms Admin'!Y35) -> 0 | ... AC35: =SUM('Front office:Rooms Admin'!AC35) -> 0 | AD35: =SUM(R35:AC35) -> 0 | AE35: =Q35-AD35 -> 0 | AF35: =AE35/AD35 -> #DIV/0! | AG35: -20238.4 | AH35: =AG35-Q35 -> -20238.4
A36: <<60011460 | B36: <<10200,10300,10400,10099 | D36: Plant Hire 植物租摆 | E36: =SUM('Front office:Rooms Admin'!E36) -> 65721 | F36: =SUM('Front office:Rooms Admin'!F36) -> 46739 | G36: =SUM('Front office:Rooms Admin'!G36) -> 39441 | H36: =SUM('Front office:Rooms Admin'!H36) -> 38238 | I36: =SUM('Front office:Rooms Admin'!I36) -> 38352 | J36: =SUM('Front office:Rooms Admin'!J36) -> 37630 | K36: =SUM('Front office:Rooms Admin'!K36) -> 37651 | L36: =SUM('Front office:Rooms Admin'!L36) -> 37651 | ... P36: =SUM('Front office:Rooms Admin'!P36) -> 39232 | Q36: =SUM(E36:P36) -> 489208 | R36: =SUM('Front office:Rooms Admin'!R36) -> 58401.37 | S36: =SUM('Front office:Rooms Admin'!S36) -> 79945.87 | T36: =SUM('Front office:Rooms Admin'!T36) -> 50302.47 | U36: =SUM('Front office:Rooms Admin'!U36) -> 36421.89 | V36: =SUM('Front office:Rooms Admin'!V36) -> 33269.37 | W36: =SUM('Front office:Rooms Admin'!W36) -> 32507.74 | X36: =SUM('Front office:Rooms Admin'!X36) -> 27460.78 | Y36: =SUM('Front office:Rooms Admin'!Y36) -> 34443.41 | ... AC36: =SUM('Front office:Rooms Admin'!AC36) -> 36497 | AD36: =SUM(R36:AC36) -> 491401.9 | AE36: =Q36-AD36 -> -2193.9 | AF36: =AE36/AD36 -> -0.0044645737 | AG36: 171641.94 | AH36: =AG36-Q36 -> -317566.06
A37: <<60012020 | B37: <<10200,10300,10400,10099 | D37: Postage 邮费 | E37: =SUM('Front office:Rooms Admin'!E37) -> 1500 | F37: =SUM('Front office:Rooms Admin'!F37) -> 1500 | G37: =SUM('Front office:Rooms Admin'!G37) -> 1500 | H37: =SUM('Front office:Rooms Admin'!H37) -> 1000 | I37: =SUM('Front office:Rooms Admin'!I37) -> 1000 | J37: =SUM('Front office:Rooms Admin'!J37) -> 1000 | K37: =SUM('Front office:Rooms Admin'!K37) -> 1500 | L37: =SUM('Front office:Rooms Admin'!L37) -> 1500 | ... P37: =SUM('Front office:Rooms Admin'!P37) -> 1500 | Q37: =SUM(E37:P37) -> 16000 | R37: =SUM('Front office:Rooms Admin'!R37) -> 493.39 | S37: =SUM('Front office:Rooms Admin'!S37) -> 2500 | T37: =SUM('Front office:Rooms Admin'!T37) -> 1135.85 | U37: =SUM('Front office:Rooms Admin'!U37) -> -2148.12 | V37: =SUM('Front office:Rooms Admin'!V37) -> 2500 | W37: =SUM('Front office:Rooms Admin'!W37) -> -563.01 | X37: =SUM('Front office:Rooms Admin'!X37) -> -91.51 | Y37: =SUM('Front office:Rooms Admin'!Y37) -> 6000 | ... AC37: =SUM('Front office:Rooms Admin'!AC37) -> 1000 | AD37: =SUM(R37:AC37) -> 13326.6 | AE37: =Q37-AD37 -> 2673.4 | AF37: =AE37/AD37 -> 0.20060631 | AG37: 11087.27 | AH37: =AG37-Q37 -> -4912.73
A38: <<60012030 | B38: <<10200,10300,10400,10099 | D38: Printing & Stationery 印刷与文具 | E38: =SUM('Front office:Rooms Admin'!E38) -> 9430 | F38: =SUM('Front office:Rooms Admin'!F38) -> 8517 | G38: =SUM('Front office:Rooms Admin'!G38) -> 9220 | H38: =SUM('Front office:Rooms Admin'!H38) -> 8619 | I38: =SUM('Front office:Rooms Admin'!I38) -> 8676 | J38: =SUM('Front office:Rooms Admin'!J38) -> 8314 | K38: =SUM('Front office:Rooms Admin'!K38) -> 9325 | L38: =SUM('Front office:Rooms Admin'!L38) -> 9325 | ... P38: =SUM('Front office:Rooms Admin'!P38) -> 9116 | Q38: =SUM(E38:P38) -> 105460 | R38: =SUM('Front office:Rooms Admin'!R38) -> 10179.05 | S38: =SUM('Front office:Rooms Admin'!S38) -> 9406.1 | T38: =SUM('Front office:Rooms Admin'!T38) -> 9154.71 | U38: =SUM('Front office:Rooms Admin'!U38) -> 6331.17 | V38: =SUM('Front office:Rooms Admin'!V38) -> 9615.92 | W38: =SUM('Front office:Rooms Admin'!W38) -> 7897.7 | X38: =SUM('Front office:Rooms Admin'!X38) -> 9174.47 | Y38: =SUM('Front office:Rooms Admin'!Y38) -> 7998.58 | ... AC38: =SUM('Front office:Rooms Admin'!AC38) -> 9304 | AD38: =SUM(R38:AC38) -> 104536.7 | AE38: =Q38-AD38 -> 923.3 | AF38: =AE38/AD38 -> 0.0088323048 | AG38: 128283.97 | AH38: =AG38-Q38 -> 22823.97
A39: <<60012040 | B39: <<10200,10300,10400,10099 | D39: Internal Laundry 内部洗衣 | E39: =SUM('Front office:Rooms Admin'!E39) -> 210854.04 | F39: =SUM('Front office:Rooms Admin'!F39) -> 192212.08 | G39: =SUM('Front office:Rooms Admin'!G39) -> 194431.58 | H39: =SUM('Front office:Rooms Admin'!H39) -> 199773.53 | I39: =SUM('Front office:Rooms Admin'!I39) -> 205400.99 | J39: =SUM('Front office:Rooms Admin'!J39) -> 196257.25 | K39: =SUM('Front office:Rooms Admin'!K39) -> 209277.92 | L39: =SUM('Front office:Rooms Admin'!L39) -> 208270.53 | ... P39: =SUM('Front office:Rooms Admin'!P39) -> 201059.53 | Q39: =SUM(E39:P39) -> 2449360.6 | R39: =SUM('Front office:Rooms Admin'!R39) -> 259523.4 | S39: =SUM('Front office:Rooms Admin'!S39) -> 293650.51 | T39: =SUM('Front office:Rooms Admin'!T39) -> 204074.43 | U39: =SUM('Front office:Rooms Admin'!U39) -> 191280.36 | V39: =SUM('Front office:Rooms Admin'!V39) -> 72517.04 | W39: =SUM('Front office:Rooms Admin'!W39) -> 216386.44 | X39: =SUM('Front office:Rooms Admin'!X39) -> 196773.3 | Y39: =SUM('Front office:Rooms Admin'!Y39) -> 158589.96 | ... AC39: =SUM('Front office:Rooms Admin'!AC39) -> 205443 | AD39: =SUM(R39:AC39) -> 2452061.4 | AE39: =Q39-AD39 -> -2700.87 | AF39: =AE39/AD39 -> -0.0011014691 | AG39: 2210661.6 | AH39: =AG39-Q39 -> -238698.98
A40: <<60012060 | B40: <<10200,10300,10400,10099 | D40: Telephone 电话费 | E40: =SUM('Front office:Rooms Admin'!E40) -> 20428 | F40: =SUM('Front office:Rooms Admin'!F40) -> 18512 | G40: =SUM('Front office:Rooms Admin'!G40) -> 19988 | H40: =SUM('Front office:Rooms Admin'!H40) -> 18725 | I40: =SUM('Front office:Rooms Admin'!I40) -> 18844 | J40: =SUM('Front office:Rooms Admin'!J40) -> 18086 | K40: =SUM('Front office:Rooms Admin'!K40) -> 20208 | L40: =SUM('Front office:Rooms Admin'!L40) -> 20208 | ... P40: =SUM('Front office:Rooms Admin'!P40) -> 19768 | Q40: =SUM(E40:P40) -> 228968 | R40: =SUM('Front office:Rooms Admin'!R40) -> 20004.43 | S40: =SUM('Front office:Rooms Admin'!S40) -> 19150.79 | T40: =SUM('Front office:Rooms Admin'!T40) -> 20436.06 | U40: =SUM('Front office:Rooms Admin'!U40) -> 22483.63 | V40: =SUM('Front office:Rooms Admin'!V40) -> 22943.05 | W40: =SUM('Front office:Rooms Admin'!W40) -> 22743.46 | X40: =SUM('Front office:Rooms Admin'!X40) -> 22374.23 | Y40: =SUM('Front office:Rooms Admin'!Y40) -> 18560.52 | ... AC40: =SUM('Front office:Rooms Admin'!AC40) -> 22893.13 | AD40: =SUM(R40:AC40) -> 260268.69 | AE40: =Q40-AD40 -> -31300.69 | AF40: =AE40/AD40 -> -0.12026299 | AG40: 749788.71 | AH40: =AG40-Q40 -> 520820.71
