Workbook
Name BUCODE: [1]Parameter!$C$5
Name BUCODE: [1]Parameter!$C$5
Name BUCODE: [1]Parameter!$C$5
Name BUCODE: [2]Parameter!$C$5
Name BUCODE: [2]Parameter!$C$5
Name BUCODE: [2]Parameter!$C$5
Name BUCODE: [2]Parameter!$C$5
Name BUCODE: [1]Parameter!$C$5
Name BUCODE: [1]Parameter!$C$5
Name BUCODE: [1]Parameter!$C$5
Name BUCODE: [2]Parameter!$C$5
Name BUCODE: [1]Parameter!$C$5
Name BUCODE: [2]Parameter!$C$5
Name BUCODE: [2]Parameter!$C$5
Name BUCODE: [2]Parameter!$C$5
Name BUCODE: [2]Parameter!$C$5
Name BUCODE: [1]Parameter!$C$5
Name BUCODE: [1]Parameter!$C$5
Name BUCODE: [1]Parameter!$C$5
Name BUCODE: [2]Parameter!$C$5
Name BUCODE: [2]Parameter!$C$5
Name BUCODE: [2]Parameter!$C$5
Name BUCODE: [1]Parameter!$C$5
Name BUCODE: [1]Parameter!$C$5
Name BUCODE: Parameter!$C$5
Name BUCODE_2: [3]Parameter!$C$6
Name BUCODE_2: [3]Parameter!$C$6
Name BUCODE_2: [3]Parameter!$C$6
Name BUCODE_2: [3]Parameter!$C$6
Name BUCODE_2: [3]Parameter!$C$6
Name BUCODE_2: [3]Parameter!$C$6
Name BUCODE_2: [3]Parameter!$C$6
Name BUCODE_2: [4]Parameter!$C$6
Name CP: [1]Parameter!$C$7
Name CP: [1]Parameter!$C$7
Name CP: [1]Parameter!$C$7
Name CP: [2]Parameter!$C$7
Name CP: [2]Parameter!$C$7
Name CP: [2]Parameter!$C$7
Name CP: [2]Parameter!$C$7
Name CP: [1]Parameter!$C$7
Name CP: [1]Parameter!$C$7
Name CP: [1]Parameter!$C$7
Name CP: [2]Parameter!$C$7
Name CP: [1]Parameter!$C$7
Name CP: [2]Parameter!$C$7
Name CP: [2]Parameter!$C$7
Name CP: [2]Parameter!$C$7
Name CP: [2]Parameter!$C$7
Name CP: [1]Parameter!$C$7
Name CP: [1]Parameter!$C$7
Name CP: [1]Parameter!$C$7
Name CP: [2]Parameter!$C$7
Name CP: [2]Parameter!$C$7
Name CP: [2]Parameter!$C$7
Name CP: [1]Parameter!$C$7
Name CP: [1]Parameter!$C$7
Name CP: Parameter!$C$7
Name HotelnameC: Parameter!$C$3
Name HotelnameE: Parameter!$C$2

Sheet Ls_XLB_WorkbookFile

Sheet Ls_AgXLB_WorkbookFile

Sheet Version
A1: v1.0 | B1: 43136 | C1: Uranus | D1: First Release

Sheet Parameter
B2: Hotel Name | C2: DYTZH | F2: 修改内容如下： | G2: 修改前 | H2: 修改后
F3: 1.更改首页Period | G3: 2025001 | H3: 2025001
F4: 2修改每一个页面的D7 | G4: 2025 | H4: 2025
B5: Bsiness Unit
B7: Period: | C7: =H3 -> 2025001
B8: Year | C8: =LEFT(CP,4) -> 2025 | D8: 公式单元格，不需要输入
B9: First Period | C9: =LEFT(CP,4)&"001" -> 2025001 | D9: 公式单元格，不需要输入
B11: Current Period LY | C11: =CP-1000 -> 2024001 | D11: 公式单元格，不需要输入
B13: First Period LY | C13: =C9-1000 -> 2024001 | D13: 公式单元格，不需要输入
B15: Budget | C15: B

Sheet Summary
D1: DMH-DYTZH | R1: 2018001
R2: 2018012
R3: B
D4: Hotel Budget Report
D5: 酒店预算报表
D6: Income Statement
D7: =Parameter!H4 -> 2025
E9: 1 | F9: 2 | G9: 3 | H9: 4 | I9: 5 | J9: 6 | K9: 7 | L9: 8 | M9: 9 | N9: 10 | O9: 11 | P9: 12 | Q9: 2025 | R9: 2018
A10: Account | B10: Dept | E10: BUDGET | F10: BUDGET | G10: BUDGET | H10: BUDGET | I10: BUDGET | J10: BUDGET | K10: BUDGET | L10: BUDGET | M10: BUDGET | N10: BUDGET | O10: BUDGET | P10: BUDGET | Q10: BUDGET | R10: ACT + FCST
A11: <<30100110..30100192,38108100,39810200..39810300 | B11: <<10099..10999 | D11: Rooms Revenue 客房收入 | E11: ='Rooms Summary'!E20 -> 3495421.6 | F11: ='Rooms Summary'!F20 -> 5888439.7 | G11: ='Rooms Summary'!G20 -> 2564914 | H11: ='Rooms Summary'!H20 -> 2644855.4 | I11: ='Rooms Summary'!I20 -> 3714758.3 | J11: ='Rooms Summary'!J20 -> 2615673.5 | K11: ='Rooms Summary'!K20 -> 4363040 | L11: ='Rooms Summary'!L20 -> 4818913 | ... P11: ='Rooms Summary'!P20 -> 3915791 | Q11: =SUM(E11:P11) -> 43954744 | R11: 48895292 | S11: =Q11/$Q$16 -> 0.55184699
A12: <<30200210..30400050,38108100,39810200..39810300 | B12: <<20001..29999 | D12: Food and Beverage Revenue 餐饮收入 | E12: =+'F&B Summary'!E50 -> 2625339.6 | F12: =+'F&B Summary'!F50 -> 1944737.8 | G12: =+'F&B Summary'!G50 -> 2912613.6 | H12: =+'F&B Summary'!H50 -> 2523722 | I12: =+'F&B Summary'!I50 -> 3021363.6 | J12: =+'F&B Summary'!J50 -> 2773652 | K12: =+'F&B Summary'!K50 -> 2953527.6 | L12: =+'F&B Summary'!L50 -> 2719027.6 | ... P12: =+'F&B Summary'!P50 -> 3541547.6 | Q12: =SUM(E12:P12) -> 35114393 | R12: 39757381 | S12: =Q12/$Q$16 -> 0.44085736
A13: <<36010011..36800100,37013000,38108100,39810200..39810300 | B13: <<31099..39000 | D13: Other Operating Dept. Revenue 他运营部门收入 | E13: =+SUM(OOD!E12:E26) -> 17600 | F13: =+SUM(OOD!F12:F26) -> 24500 | G13: =+SUM(OOD!G12:G26) -> 29100 | H13: =+SUM(OOD!H12:H26) -> 35100 | I13: =+SUM(OOD!I12:I26) -> 43000 | J13: =+SUM(OOD!J12:J26) -> 47100 | K13: =+SUM(OOD!K12:K26) -> 54500 | L13: =+SUM(OOD!L12:L26) -> 48500 | ... P13: =+SUM(OOD!P12:P26) -> 77100 | Q13: =SUM(E13:P13) -> 581100 | R13: 2231199.1 | S13: =Q13/$Q$16 -> 0.0072956469
A14: <<37011000,38108100,39810200..39810300 | B14: <<39801 | D14: Shop&Showcase Revenue 零售和展柜收入 | Q14: =SUM(E14:P14) -> 0 | R14: 0 | S14: =Q14/$Q$16 -> 0
A15: <<36800200..37010000,37012000..39810300 | B15: <<39801 | D15: Hotel Miscellaneous Revenue 酒店杂项收入 | Q15: =SUM(E15:P15) -> 0 | R15: 44197.76 | S15: =Q15/$Q$16 -> 0
D16: Total Gross Operating Revenue 运营总收入 | E16: =SUBTOTAL(9,E11:E15) -> 6138361.2 | F16: =SUBTOTAL(9,F11:F15) -> 7857677.5 | G16: =SUBTOTAL(9,G11:G15) -> 5506627.6 | H16: =SUBTOTAL(9,H11:H15) -> 5203677.4 | I16: =SUBTOTAL(9,I11:I15) -> 6779121.9 | J16: =SUBTOTAL(9,J11:J15) -> 5436425.5 | K16: =SUBTOTAL(9,K11:K15) -> 7371067.6 | L16: =SUBTOTAL(9,L11:L15) -> 7586440.6 | ... Q16: =SUBTOTAL(9,Q11:Q15) -> 79650237 | R16: 90928070 | S16: =Q16/$Q$16 -> 1
A18: <<40200100..69999999 | B18: <<10099..10999 | D18: Rooms Expenses 客房费用 | E18: ='Rooms Summary'!E103+'Rooms Summary'!E156 -> 1227482.5 | F18: ='Rooms Summary'!F103+'Rooms Summary'!F156 -> 1418153.6 | G18: ='Rooms Summary'!G103+'Rooms Summary'!G156 -> 1139613.7 | H18: ='Rooms Summary'!H103+'Rooms Summary'!H156 -> 1168131.3 | I18: ='Rooms Summary'!I103+'Rooms Summary'!I156 -> 1290466.7 | J18: ='Rooms Summary'!J103+'Rooms Summary'!J156 -> 1140597.6 | K18: ='Rooms Summary'!K103+'Rooms Summary'!K156 -> 1442736.5 | L18: ='Rooms Summary'!L103+'Rooms Summary'!L156 -> 1502668.8 | ... P18: ='Rooms Summary'!P103+'Rooms Summary'!P156 -> 1318835.7 | Q18: =SUM(E18:P18) -> 15351156 | R18: 12968787 | S18: =Q18/Q11 -> 0.34924913 | X18: =V18-W18 -> 0
A19: <<40200100..69999999 | B19: <<20001..29999 | D19: Food and Beverage Expenses 餐饮费用 | E19: =+'F&B Summary'!E57+'F&B Summary'!E59+'F&B Summary'!E130 -> 2515819.2 | F19: =+'F&B Summary'!F57+'F&B Summary'!F59+'F&B Summary'!F130 -> 2083682.9 | G19: =+'F&B Summary'!G57+'F&B Summary'!G59+'F&B Summary'!G130 -> 2501953.4 | H19: =+'F&B Summary'!H57+'F&B Summary'!H59+'F&B Summary'!H130 -> 2389804.7 | I19: =+'F&B Summary'!I57+'F&B Summary'!I59+'F&B Summary'!I130 -> 2696792.1 | J19: =+'F&B Summary'!J57+'F&B Summary'!J59+'F&B Summary'!J130 -> 2537094.4 | K19: =+'F&B Summary'!K57+'F&B Summary'!K59+'F&B Summary'!K130 -> 2659110.3 | L19: =+'F&B Summary'!L57+'F&B Summary'!L59+'F&B Summary'!L130 -> 2566481.8 | ... P19: =+'F&B Summary'!P57+'F&B Summary'!P59+'F&B Summary'!P130 -> 2949229.3 | Q19: =SUM(E19:P19) -> 31616364 | R19: 30954638 | S19: =Q19/Q12 -> 0.90038191
A20: <<40200100..69999999 | B20: <<31099..39000 | D20: Other Operating Dept. Expenses 他运营部门费用 | E20: =+OOD!E98+OOD!E45 -> 99724.11 | F20: =+OOD!F98+OOD!F45 -> 89100.35 | G20: =+OOD!G98+OOD!G45 -> 89268.68 | H20: =+OOD!H98+OOD!H45 -> 100065.91 | I20: =+OOD!I98+OOD!I45 -> 127512.22 | J20: =+OOD!J98+OOD!J45 -> 115542.34 | K20: =+OOD!K98+OOD!K45 -> 115618.41 | L20: =+OOD!L98+OOD!L45 -> 116949.49 | ... P20: =+OOD!P98+OOD!P45 -> 95387.53 | Q20: =SUM(E20:P20) -> 1291386.7 | R20: 1022491.6 | S20: =Q20/Q13 -> 2.222314
D21: Total Gross Operating Expenses 运营总费用 | E21: =SUBTOTAL(9,E18:E20) -> 3843025.8 | F21: =SUBTOTAL(9,F18:F20) -> 3590936.9 | G21: =SUBTOTAL(9,G18:G20) -> 3730835.8 | H21: =SUBTOTAL(9,H18:H20) -> 3658001.9 | I21: =SUBTOTAL(9,I18:I20) -> 4114771 | J21: =SUBTOTAL(9,J18:J20) -> 3793234.4 | K21: =SUBTOTAL(9,K18:K20) -> 4217465.2 | L21: =SUBTOTAL(9,L18:L20) -> 4186100 | ... Q21: =SUBTOTAL(9,Q18:Q20) -> 48258907 | R21: 44945917 | S21: =Q21/Q16 -> 0.60588529
D23: Rooms Profit 客房利润 | E23: =E$11-E$18 -> 2267939.1 | F23: =F$11-F$18 -> 4470286.1 | G23: =G$11-G$18 -> 1425300.3 | H23: =H$11-H$18 -> 1476724.1 | I23: =I$11-I$18 -> 2424291.6 | J23: =J$11-J$18 -> 1475075.9 | K23: =K$11-K$18 -> 2920303.5 | L23: =L$11-L$18 -> 3316244.2 | ... P23: =P$11-P$18 -> 2596955.3 | Q23: =SUM(E23:P23) -> 28603588 | R23: 35926504 | S23: =Q23/Q11 -> 0.65075087
D24: Food and Beverage Profit 餐饮利润 | E24: =E$12-E$19 -> 109520.37 | F24: =F$12-F$19 -> -138945.12 | G24: =G$12-G$19 -> 410660.17 | H24: =H$12-H$19 -> 133917.28 | I24: =I$12-I$19 -> 324571.5 | J24: =J$12-J$19 -> 236557.55 | K24: =K$12-K$19 -> 294417.31 | L24: =L$12-L$19 -> 152545.84 | ... P24: =P$12-P$19 -> 592318.35 | Q24: =SUM(E24:P24) -> 3498028.7 | R24: 8802742.6 | S24: =Q24/Q12 -> 0.099618088
D25: Other Operating Dept. Profit 他运营部门利润 | E25: =E$13-E$20 -> -82124.11 | F25: =F$13-F$20 -> -64600.35 | G25: =G$13-G$20 -> -60168.68 | H25: =H$13-H$20 -> -64965.91 | I25: =I$13-I$20 -> -84512.22 | J25: =J$13-J$20 -> -68442.34 | K25: =K$13-K$20 -> -61118.41 | L25: =L$13-L$20 -> -68449.49 | ... P25: =P$13-P$20 -> -18287.53 | Q25: =SUM(E25:P25) -> -710286.65 | R25: 1208707.4 | S25: =Q25/Q13 -> -1.222314
D26: Shop&Showcase Profit 零售和展柜利润 | E26: =E$14 -> 0 | F26: =F$14 -> 0 | G26: =G$14 -> 0 | H26: =H$14 -> 0 | I26: =I$14 -> 0 | J26: =J$14 -> 0 | K26: =K$14 -> 0 | L26: =L$14 -> 0 | ... P26: =P$14 -> 0 | Q26: =SUM(E26:P26) -> 0 | R26: 0
D27: Miscellaneous Profit 杂项利润 | E27: =E$15 -> 0 | F27: =F$15 -> 0 | G27: =G$15 -> 0 | H27: =H$15 -> 0 | I27: =I$15 -> 0 | J27: =J$15 -> 0 | K27: =K$15 -> 0 | L27: =L$15 -> 0 | ... P27: =P$15 -> 0 | Q27: =SUM(E27:P27) -> 0 | R27: 44197.76
D28: Total Departmental Profit 部门利润合计 | E28: =SUBTOTAL(9,E23:E27) -> 2295335.4 | F28: =SUBTOTAL(9,F23:F27) -> 4266740.6 | G28: =SUBTOTAL(9,G23:G27) -> 1775791.8 | H28: =SUBTOTAL(9,H23:H27) -> 1545675.5 | I28: =SUBTOTAL(9,I23:I27) -> 2664350.9 | J28: =SUBTOTAL(9,J23:J27) -> 1643191.1 | K28: =SUBTOTAL(9,K23:K27) -> 3153602.4 | L28: =SUBTOTAL(9,L23:L27) -> 3400340.6 | ... Q28: =SUBTOTAL(9,Q23:Q27) -> 31391330 | R28: 45982152 | S28: =Q28/Q16 -> 0.39411471
A30: <<50010100..699999999 | B30: <<41001..41004,42004,43004 | D30: Administrative and General 行政部门费用 | E30: =+'A&G'!E159 -> 865404.52 | F30: =+'A&G'!F159 -> 850938.12 | G30: =+'A&G'!G159 -> 845911.92 | H30: =+'A&G'!H159 -> 869122.96 | I30: =+'A&G'!I159 -> 867076.91 | J30: =+'A&G'!J159 -> 852211.08 | K30: =+'A&G'!K159 -> 914143.3 | L30: =+'A&G'!L159 -> 844695.78 | ... P30: =+'A&G'!P159 -> 924122.76 | Q30: =SUM(E30:P30) -> 10517723 | R30: 12763695 | S30: =Q30/$Q$16 -> 0.13204887
A31: <<50010100..60014800,60014820..699999999 | B31: <<41071..41073 | D31: Marketing and Sales 营销费用 | E31: =+'S&M'!E158-'S&M'!E150 -> 571755.73 | F31: =+'S&M'!F158-'S&M'!F150 -> 630907.89 | G31: =+'S&M'!G158-'S&M'!G150 -> 628798.76 | H31: =+'S&M'!H158-'S&M'!H150 -> 702668.11 | I31: =+'S&M'!I158-'S&M'!I150 -> 601074.89 | J31: =+'S&M'!J158-'S&M'!J150 -> 719151.72 | K31: =+'S&M'!K158-'S&M'!K150 -> 523330.12 | L31: =+'S&M'!L158-'S&M'!L150 -> 522354.68 | ... P31: =+'S&M'!P158-'S&M'!P150 -> 770382.21 | Q31: =SUM(E31:P31) -> 7773172.1 | R31: 4610708.6 | S31: =Q31/$Q$16 -> 0.097591325
A32: <<60014810 | B32: <<41071..41073 | D32: Marketing Fund 市场营销基金 | E32: =+'S&M'!E150 -> 92075.418 | F32: =+'S&M'!F150 -> 117865.16 | G32: =+'S&M'!G150 -> 82599.414 | H32: =+'S&M'!H150 -> 78055.161 | I32: =+'S&M'!I150 -> 101686.83 | J32: =+'S&M'!J150 -> 81546.382 | K32: =+'S&M'!K150 -> 110566.01 | L32: =+'S&M'!L150 -> 113796.61 | ... P32: =+'S&M'!P150 -> 113016.58 | Q32: =SUM(E32:P32) -> 1194753.6 | R32: 1402591.1 | S32: =Q32/$Q$16 -> 0.015
A33: <<50010100..699999999 | B33: <<41006 | D33: Repairs and Maintenance 工程维修维护费 | E33: =+'R&M'!E159 -> 313749.97 | F33: =+'R&M'!F159 -> 286847.78 | G33: =+'R&M'!G159 -> 286100.06 | H33: =+'R&M'!H159 -> 294159.56 | I33: =+'R&M'!I159 -> 298804.26 | J33: =+'R&M'!J159 -> 288791.54 | K33: =+'R&M'!K159 -> 288418.4 | L33: =+'R&M'!L159 -> 288465.02 | ... P33: =+'R&M'!P159 -> 284279.36 | Q33: =SUM(E33:P33) -> 3517888.4 | R33: 3141775 | S33: =Q33/$Q$16 -> 0.044166704
A34: <<50010100..699999999 | B34: <<41005 | D34: Utilities 能源 | E34: =+Utilities!E18 -> 581200 | F34: =+Utilities!F18 -> 601200 | G34: =+Utilities!G18 -> 529200 | H34: =+Utilities!H18 -> 568200 | I34: =+Utilities!I18 -> 619200 | J34: =+Utilities!J18 -> 636200 | K34: =+Utilities!K18 -> 670200 | L34: =+Utilities!L18 -> 665200 | ... P34: =+Utilities!P18 -> 586200 | Q34: =SUM(E34:P34) -> 7284400 | R34: 8485679.3 | S34: =Q34/$Q$16 -> 0.091454844
D35: Total Undistributed Operating Expenses 其他费用合计 | E35: =SUBTOTAL(9,E30:E34) -> 2424185.6 | F35: =SUBTOTAL(9,F30:F34) -> 2487758.9 | G35: =SUBTOTAL(9,G30:G34) -> 2372610.2 | H35: =SUBTOTAL(9,H30:H34) -> 2512205.8 | I35: =SUBTOTAL(9,I30:I34) -> 2487842.9 | J35: =SUBTOTAL(9,J30:J34) -> 2577900.7 | K35: =SUBTOTAL(9,K30:K34) -> 2506657.8 | L35: =SUBTOTAL(9,L30:L34) -> 2434512.1 | ... Q35: =SUBTOTAL(9,Q30:Q34) -> 30287938 | R35: 30404449 | S35: =Q35/$Q$16 -> 0.38026174
D36: Gross Operating Profit 经营毛利额 | E36: =E28-E35 -> -128850.25 | F36: =F28-F35 -> 1778981.7 | G36: =G28-G35 -> -596818.32 | H36: =H28-H35 -> -966530.33 | I36: =I28-I35 -> 176508 | J36: =J28-J35 -> -934709.58 | K36: =K28-K35 -> 646944.57 | L36: =L28-L35 -> 965828.5 | ... Q36: =Q28-Q35 -> 1103392.3 | R36: 15577703 | S36: =Q36/$Q$16 -> 0.013852969
D37: Gross Operating Profit % 经营毛利率% | E37: =IF(E36=0,0,E36/E16) -> -0.020990986 | F37: =IF(F36=0,0,F36/F16) -> 0.22640045 | G37: =IF(G36=0,0,G36/G16) -> -0.10838182 | H37: =IF(H36=0,0,H36/H16) -> -0.18573986 | I37: =IF(I36=0,0,I36/I16) -> 0.026037 | J37: =IF(J36=0,0,J36/J16) -> -0.17193459 | K37: =IF(K36=0,0,K36/K16) -> 0.087768096 | L37: =IF(L36=0,0,L36/L16) -> 0.12730983 | ... Q37: =IF(Q36=0,0,Q36/Q16) -> 0.013852969 | R37: 0.17131896
A39: <<70010100 | B39: <<70011 | D39: Basic Management Fees 基本管理费 | E39: ='Fixed Charge'!E14 -> 210000 | F39: ='Fixed Charge'!F14 -> 210000 | G39: ='Fixed Charge'!G14 -> 210000 | H39: ='Fixed Charge'!H14 -> 210000 | I39: ='Fixed Charge'!I14 -> 210000 | J39: ='Fixed Charge'!J14 -> 210000 | K39: ='Fixed Charge'!K14 -> 210000 | L39: ='Fixed Charge'!L14 -> 210000 | ... P39: ='Fixed Charge'!P14 -> 210000 | Q39: =SUM(E39:P39) -> 2520000 | R39: 1756590.6 | S39: =Q39/$Q$16 -> 0.031638324
A40: <<70010200 | B40: <<70011 | D40: Incentive Management Fees 奖励管理费 | E40: ='Fixed Charge'!E15 -> 0 | F40: ='Fixed Charge'!F15 -> 0 | G40: ='Fixed Charge'!G15 -> 0 | H40: ='Fixed Charge'!H15 -> 0 | I40: ='Fixed Charge'!I15 -> 0 | J40: ='Fixed Charge'!J15 -> 0 | K40: ='Fixed Charge'!K15 -> 0 | L40: ='Fixed Charge'!L15 -> 0 | ... P40: ='Fixed Charge'!P15 -> 0 | Q40: =SUM(E40:P40) -> 0 | R40: 536009.06 | S40: =Q40/$Q$16 -> 0
D41: Profit Before Fixed Charges 固定费用前利润 | E41: =E36-E39-E40 -> -338850.25 | F41: =F36-F39-F40 -> 1568981.7 | G41: =G36-G39-G40 -> -806818.32 | H41: =H36-H39-H40 -> -1176530.3 | I41: =I36-I39-I40 -> -33492.001 | J41: =J36-J39-J40 -> -1144709.6 | K41: =K36-K39-K40 -> 436944.57 | L41: =L36-L39-L40 -> 755828.5 | ... Q41: =Q36-Q39-Q40 -> -1416607.7 | R41: 13285103 | S41: =Q41/$Q$16 -> -0.017785355
A43: <<70010300..70010400 | B43: <<70011 | D43: Rent 房租 | E43: ='Fixed Charge'!E17+'Fixed Charge'!E16 -> 108800 | F43: ='Fixed Charge'!F17+'Fixed Charge'!F16 -> 108800 | G43: ='Fixed Charge'!G17+'Fixed Charge'!G16 -> 108800 | H43: ='Fixed Charge'!H17+'Fixed Charge'!H16 -> 108800 | I43: ='Fixed Charge'!I17+'Fixed Charge'!I16 -> 108800 | J43: ='Fixed Charge'!J17+'Fixed Charge'!J16 -> 108800 | K43: ='Fixed Charge'!K17+'Fixed Charge'!K16 -> 108800 | L43: ='Fixed Charge'!L17+'Fixed Charge'!L16 -> 108800 | ... P43: ='Fixed Charge'!P17+'Fixed Charge'!P16 -> 108800 | Q43: =SUM(E43:P43) -> 1305600 | R43: 1629749.1 | S43: =Q43/$Q$16 -> 0.016391665
A44: <<70010010 | B44: <<70011 | D44: Tax and Related Fees 税金及相关附加费 | E44: ='Fixed Charge'!E13 -> 677.37464 | F44: ='Fixed Charge'!F13 -> 687.53035 | G44: ='Fixed Charge'!G13 -> 711.39236 | H44: ='Fixed Charge'!H13 -> 692.11262 | I44: ='Fixed Charge'!I13 -> 757.4447 | J44: ='Fixed Charge'!J13 -> 720.38948 | K44: ='Fixed Charge'!K13 -> 795.5104 | L44: ='Fixed Charge'!L13 -> 766.76552 | ... P44: ='Fixed Charge'!P13 -> 902.55026 | Q44: =SUM(E44:P44) -> 9189.3777 | R44: 262762.54 | S44: =Q44/$Q$16 -> 0.00011537163
A45: <<70010800..70011000 | B45: <<70011 | D45: Insurance 保险 | E45: ='Fixed Charge'!E22+'Fixed Charge'!E23+'Fixed Charge'!E21 -> 0 | F45: ='Fixed Charge'!F22+'Fixed Charge'!F23+'Fixed Charge'!F21 -> 0 | G45: ='Fixed Charge'!G22+'Fixed Charge'!G23+'Fixed Charge'!G21 -> 0 | H45: ='Fixed Charge'!H22+'Fixed Charge'!H23+'Fixed Charge'!H21 -> 0 | I45: ='Fixed Charge'!I22+'Fixed Charge'!I23+'Fixed Charge'!I21 -> 0 | J45: ='Fixed Charge'!J22+'Fixed Charge'!J23+'Fixed Charge'!J21 -> 0 | K45: ='Fixed Charge'!K22+'Fixed Charge'!K23+'Fixed Charge'!K21 -> 0 | L45: ='Fixed Charge'!L22+'Fixed Charge'!L23+'Fixed Charge'!L21 -> 0 | ... P45: ='Fixed Charge'!P22+'Fixed Charge'!P23+'Fixed Charge'!P21 -> 0 | Q45: =SUM(E45:P45) -> 0 | R45: 342064.34 | S45: =Q45/$Q$16 -> 0
A46: <<70010600 | B46: <<70011 | D46: Others 其他 | E46: ='Fixed Charge'!E18+'Fixed Charge'!E19 -> 0 | F46: ='Fixed Charge'!F18+'Fixed Charge'!F19 -> 0 | G46: ='Fixed Charge'!G18+'Fixed Charge'!G19 -> 0 | H46: ='Fixed Charge'!H18+'Fixed Charge'!H19 -> 0 | I46: ='Fixed Charge'!I18+'Fixed Charge'!I19 -> 0 | J46: ='Fixed Charge'!J18+'Fixed Charge'!J19 -> 0 | K46: ='Fixed Charge'!K18+'Fixed Charge'!K19 -> 0 | L46: ='Fixed Charge'!L18+'Fixed Charge'!L19 -> 0 | ... P46: ='Fixed Charge'!P18+'Fixed Charge'!P19 -> 0 | Q46: =SUM(E46:P46) -> 0 | R46: 0
...

Sheet Rooms Summary
D4: =Summary!D4 -> Hotel Budget Report
D5: =Summary!$D$5 -> 酒店预算报表
D6: Rooms Summary 房务部损益
D7: =Parameter!H4 -> 2025 | Q7: =SUM(E7:P7) -> 0
E9: 1 | F9: 2 | G9: 3 | H9: 4 | I9: 5 | J9: 6 | K9: 7 | L9: 8 | M9: 9 | N9: 10 | O9: 11 | P9: 12 | Q9: 2025
A10: Account | B10: Dept | C10: L2 | E10: BUDGET | F10: BUDGET | G10: BUDGET | H10: BUDGET | I10: BUDGET | J10: BUDGET | K10: BUDGET | L10: BUDGET | M10: BUDGET | N10: BUDGET | O10: BUDGET | P10: BUDGET | Q10: BUDGET
D11: REVENUE 收入
A12: <<30100110..30100180 | B12: <<10100 | C12: <<LDTA,LDMW,LINW | D12: T&A 旅行社 | Q12: =SUM(E12:P12) -> 0 | R12: =Q12/$Q$17 -> 0
A13: <<30100110..30100180 | B13: <<10100 | C13: <<TFIT,LWMM,ADV,TPKG,OPKG,TGDS,TWMM,TDMH | D13: FIT 散客 | E13: 3000356 | F13: 5282327 | G13: 1997140 | H13: 2104214 | I13: 3084053 | J13: 2145885 | K13: 3680800 | L13: 4192630 | M13: 2186870 | N13: 3274091 | O13: 2501482 | P13: 3094610 | Q13: =SUM(E13:P13) -> 36544458 | R13: =Q13/$Q$17 -> 0.91455211
A14: <<30100110..30100180 | B14: <<10100 | C14: <<TSMG,LDMA,VCOR,VSMF,VASS,GOT,VINC,LDSE,LISE,LINA | D14: Group 团队 | E14: 177300 | F14: 70800 | G14: 334600 | H14: 300200 | I14: 293000 | J14: 232000 | K14: 285600 | L14: 188200 | M14: 108400 | N14: 503900 | O14: 455200 | P14: 465200 | Q14: =SUM(E14:P14) -> 3414400 | R14: =Q14/$Q$17 -> 0.085447887
A15: <<30100110..30100180 | B15: <<10100 | C15: <<TCOR,COA,COB,COC,COS,OOWN,TIND,TPAR | D15: Corp 商务 | Q15: =SUM(E15:P15) -> 0 | R15: =Q15/$Q$17 -> 0
A16: <<30100110..30100180 | B16: <<10100 | C16: <<LSG | D16: Contract 合同 | Q16: =SUM(E16:P16) -> 0 | R16: =Q16/$Q$17 -> 0
D17: Rooms Revenue 房费收入 | E17: =SUM(E12:E16) -> 3177656 | F17: =SUM(F12:F16) -> 5353127 | G17: =SUM(G12:G16) -> 2331740 | H17: =SUM(H12:H16) -> 2404414 | I17: =SUM(I12:I16) -> 3377053 | J17: =SUM(J12:J16) -> 2377885 | K17: =SUM(K12:K16) -> 3966400 | L17: =SUM(L12:L16) -> 4380830 | ... Q17: =SUM(Q12:Q16) -> 39958858 | R17: =Q17/$Q$17 -> 1
A18: <<38108100 | B18: <<10100 | D18: Service Charge 服务费 | E18: =ROUND(E17*0.1,2) -> 317765.6 | F18: =ROUND(F17*0.1,2) -> 535312.7 | G18: =ROUND(G17*0.1,2) -> 233174 | H18: =ROUND(H17*0.1,2) -> 240441.4 | I18: =ROUND(I17*0.1,2) -> 337705.3 | J18: =ROUND(J17*0.1,2) -> 237788.5 | K18: =ROUND(K17*0.1,2) -> 396640 | L18: =ROUND(L17*0.1,2) -> 438083 | ... P18: =ROUND(P17*0.1,2) -> 355981 | Q18: =SUM(E18:P18) -> 3995885.8
A19: <<30100190..30100192 | B19: <<10100 | D19: Other Revenue 其他收入 | J19: 0 | K19: 0 | L19: 0 | M19: 0 | N19: 0 | O19: 0 | P19: 0 | Q19: =SUM(E19:P19) -> 0
D20: Total Rooms Revenue 客房收入合计 | E20: =E17+E18+E19 -> 3495421.6 | F20: =F17+F18+F19 -> 5888439.7 | G20: =G17+G18+G19 -> 2564914 | H20: =H17+H18+H19 -> 2644855.4 | I20: =I17+I18+I19 -> 3714758.3 | J20: =J17+J18+J19 -> 2615673.5 | K20: =K17+K18+K19 -> 4363040 | L20: =L17+L18+L19 -> 4818913 | ... Q20: =Q17+Q18+Q19 -> 43954744
D22: Rooms Sold付费房间数
D23: T&A 旅行社 | Q23: =SUM(E23:P23) -> 0
D24: FIT 散客 | E24: 1610 | F24: 2468 | G24: 1570 | H24: 1634 | I24: 1943 | J24: 1690 | K24: 2692 | L24: 3009 | M24: 1705 | N24: 1796 | O24: 1724 | P24: 2002 | Q24: =SUM(E24:P24) -> 23843
D25: Group 团队 | E25: 180 | F25: 60 | G25: 371 | H25: 350 | I25: 290 | J25: 250 | K25: 310 | L25: 190 | M25: 130 | N25: 505 | O25: 470 | P25: 480 | Q25: =SUM(E25:P25) -> 3586
D26: Corp 商务 | Q26: =SUM(E26:P26) -> 0
D27: Contract 合同 | Q27: =SUM(E27:P27) -> 0
D28: Total Rooms Sold总付费房间数 | E28: =SUM(E23:E27) -> 1790 | F28: =SUM(F23:F27) -> 2528 | G28: =SUM(G23:G27) -> 1941 | H28: =SUM(H23:H27) -> 1984 | I28: =SUM(I23:I27) -> 2233 | J28: =SUM(J23:J27) -> 1940 | K28: =SUM(K23:K27) -> 3002 | L28: =SUM(L23:L27) -> 3199 | ... P28: =SUM(P23:P27) -> 2482 | Q28: =SUM(E28:P28) -> 27429
D29: Total Rooms 总房间数 | E29: =E107 -> 4526 | F29: =F107 -> 4088 | G29: =G107 -> 4526 | H29: =H107 -> 4380 | I29: =I107 -> 4526 | J29: =J107 -> 4380 | K29: =K107 -> 4526 | L29: =L107 -> 4526 | ... P29: =P107 -> 4526 | Q29: =SUM(E29:P29) -> 53290
D30: Paid Occupancy 付费房入住率 | E30: =E28/E29 -> 0.39549271 | F30: =F28/F29 -> 0.6183953 | G30: =G28/G29 -> 0.4288555 | H30: =H28/H29 -> 0.45296804 | I30: =I28/I29 -> 0.49337163 | J30: =J28/J29 -> 0.44292237 | K30: =K28/K29 -> 0.66327883 | L30: =L28/L29 -> 0.70680513 | ... Q30: =Q28/Q29 -> 0.51471195
D31: Average Rate 平均房费 | E31: =E20/E28 -> 1952.7495 | F31: =F20/F28 -> 2329.2879 | G31: =G20/G28 -> 1321.4395 | H31: =H20/H28 -> 1333.0924 | I31: =I20/I28 -> 1663.5729 | J31: =J20/J28 -> 1348.2853 | K31: =K20/K28 -> 1453.3777 | L31: =L20/L28 -> 1506.3811 | ... Q31: =Q20/Q28 -> 1602.4917
A33: <<5..59999999 | B33: <<10200,10300,10400,10099 | D33: Total Labour Costs 人工成本合计 | E33: ='Front Office'!E11+HSKP!E11+Reservation!E11+'ROOMS Admin'!E11 -> 668145.11 | F33: ='Front Office'!F11+HSKP!F11+Reservation!F11+'ROOMS Admin'!F11 -> 658633.78 | G33: ='Front Office'!G11+HSKP!G11+Reservation!G11+'ROOMS Admin'!G11 -> 627963.5 | H33: ='Front Office'!H11+HSKP!H11+Reservation!H11+'ROOMS Admin'!H11 -> 651130.75 | I33: ='Front Office'!I11+HSKP!I11+Reservation!I11+'ROOMS Admin'!I11 -> 668665.08 | J33: ='Front Office'!J11+HSKP!J11+Reservation!J11+'ROOMS Admin'!J11 -> 635219.01 | K33: ='Front Office'!K11+HSKP!K11+Reservation!K11+'ROOMS Admin'!K11 -> 678254.71 | L33: ='Front Office'!L11+HSKP!L11+Reservation!L11+'ROOMS Admin'!L11 -> 683278.47 | ... P33: ='Front Office'!P11+HSKP!P11+Reservation!P11+'ROOMS Admin'!P11 -> 654279.43 | Q33: =SUM(E33:P33) -> 7900705.6 | R33: =Q33/$Q$20 -> 0.17974637 | S33: =Q33/Q28 -> 288.04206
D35: OPERATING EXPENSES 营运费用 | R35: CPOR
A36: <<60010011 | B36: <<10200,10300,10400,10099 | D36: Comm - Travel Agents 佣金 - 旅行社 | E36: ='Front Office'!E14+HSKP!E14+Reservation!E14+'ROOMS Admin'!E14 -> 0 | F36: ='Front Office'!F14+HSKP!F14+Reservation!F14+'ROOMS Admin'!F14 -> 0 | G36: ='Front Office'!G14+HSKP!G14+Reservation!G14+'ROOMS Admin'!G14 -> 0 | H36: ='Front Office'!H14+HSKP!H14+Reservation!H14+'ROOMS Admin'!H14 -> 0 | I36: ='Front Office'!I14+HSKP!I14+Reservation!I14+'ROOMS Admin'!I14 -> 0 | J36: ='Front Office'!J14+HSKP!J14+Reservation!J14+'ROOMS Admin'!J14 -> 0 | K36: ='Front Office'!K14+HSKP!K14+Reservation!K14+'ROOMS Admin'!K14 -> 0 | L36: ='Front Office'!L14+HSKP!L14+Reservation!L14+'ROOMS Admin'!L14 -> 0 | ... P36: ='Front Office'!P14+HSKP!P14+Reservation!P14+'ROOMS Admin'!P14 -> 0 | Q36: =SUM(E36:P36) -> 0 | R36: =Q36/$Q$111 -> 0 | S36: =Q36/$Q$20 -> 0 | T36: 26.388484
A37: <<60010012 | B37: <<10200,10300,10400,10099 | D37: Comm - Reservation Assessments 客房系统预定费 | E37: ='Front Office'!E15+HSKP!E15+Reservation!E15+'ROOMS Admin'!E15 -> 0 | F37: ='Front Office'!F15+HSKP!F15+Reservation!F15+'ROOMS Admin'!F15 -> 0 | G37: ='Front Office'!G15+HSKP!G15+Reservation!G15+'ROOMS Admin'!G15 -> 0 | H37: ='Front Office'!H15+HSKP!H15+Reservation!H15+'ROOMS Admin'!H15 -> 0 | I37: ='Front Office'!I15+HSKP!I15+Reservation!I15+'ROOMS Admin'!I15 -> 0 | J37: ='Front Office'!J15+HSKP!J15+Reservation!J15+'ROOMS Admin'!J15 -> 0 | K37: ='Front Office'!K15+HSKP!K15+Reservation!K15+'ROOMS Admin'!K15 -> 0 | L37: ='Front Office'!L15+HSKP!L15+Reservation!L15+'ROOMS Admin'!L15 -> 0 | ... P37: ='Front Office'!P15+HSKP!P15+Reservation!P15+'ROOMS Admin'!P15 -> 0 | Q37: =SUM(E37:P37) -> 0 | R37: =Q37/$Q$111 -> 0 | S37: =Q37/$Q$20 -> 0 | T37: 0
A38: <<60010013 | B38: <<10200,10300,10400,10099 | D38: Comm - DMH Reservation Fees DMH预订系统费用 | E38: ='Front Office'!E16+HSKP!E16+Reservation!E16+'ROOMS Admin'!E16 -> 4273.5 | F38: ='Front Office'!F16+HSKP!F16+Reservation!F16+'ROOMS Admin'!F16 -> 11356.5 | G38: ='Front Office'!G16+HSKP!G16+Reservation!G16+'ROOMS Admin'!G16 -> 2025 | H38: ='Front Office'!H16+HSKP!H16+Reservation!H16+'ROOMS Admin'!H16 -> 2058 | I38: ='Front Office'!I16+HSKP!I16+Reservation!I16+'ROOMS Admin'!I16 -> 3036 | J38: ='Front Office'!J16+HSKP!J16+Reservation!J16+'ROOMS Admin'!J16 -> 1179 | K38: ='Front Office'!K16+HSKP!K16+Reservation!K16+'ROOMS Admin'!K16 -> 2880 | L38: ='Front Office'!L16+HSKP!L16+Reservation!L16+'ROOMS Admin'!L16 -> 4517.1 | ... P38: ='Front Office'!P16+HSKP!P16+Reservation!P16+'ROOMS Admin'!P16 -> 3798 | Q38: =SUM(E38:P38) -> 42884.1 | R38: =Q38/$Q$111 -> 1.5634584 | S38: =Q38/$Q$20 -> 0.00097564213 | T38: 0
A39: <<60010014 | B39: <<10200,10300,10400,10099 | D39: Comm - Other 佣金 - 其他 | E39: ='Front Office'!E17+HSKP!E17+Reservation!E17+'ROOMS Admin'!E17 -> 180918 | F39: ='Front Office'!F17+HSKP!F17+Reservation!F17+'ROOMS Admin'!F17 -> 318481.95 | G39: ='Front Office'!G17+HSKP!G17+Reservation!G17+'ROOMS Admin'!G17 -> 111522.4 | H39: ='Front Office'!H17+HSKP!H17+Reservation!H17+'ROOMS Admin'!H17 -> 119312.4 | I39: ='Front Office'!I17+HSKP!I17+Reservation!I17+'ROOMS Admin'!I17 -> 185456.72 | J39: ='Front Office'!J17+HSKP!J17+Reservation!J17+'ROOMS Admin'!J17 -> 115428.8 | K39: ='Front Office'!K17+HSKP!K17+Reservation!K17+'ROOMS Admin'!K17 -> 211006.4 | L39: ='Front Office'!L17+HSKP!L17+Reservation!L17+'ROOMS Admin'!L17 -> 237477.2 | ... P39: ='Front Office'!P17+HSKP!P17+Reservation!P17+'ROOMS Admin'!P17 -> 172657.56 | Q39: =SUM(E39:P39) -> 2111749.8 | R39: =Q39/$Q$111 -> 76.989676 | S39: =Q39/$Q$20 -> 0.04804373 | T39: 0
A40: <<60010021 | B40: <<10200,10300,10400,10099 | D40: Complimentaries - Give Away 免费赠送 | E40: ='Front Office'!E18+HSKP!E18+Reservation!E18+'ROOMS Admin'!E18 -> 55230 | F40: ='Front Office'!F18+HSKP!F18+Reservation!F18+'ROOMS Admin'!F18 -> 77056 | G40: ='Front Office'!G18+HSKP!G18+Reservation!G18+'ROOMS Admin'!G18 -> 59307 | H40: ='Front Office'!H18+HSKP!H18+Reservation!H18+'ROOMS Admin'!H18 -> 60468 | I40: ='Front Office'!I18+HSKP!I18+Reservation!I18+'ROOMS Admin'!I18 -> 67191 | J40: ='Front Office'!J18+HSKP!J18+Reservation!J18+'ROOMS Admin'!J18 -> 59280 | K40: ='Front Office'!K18+HSKP!K18+Reservation!K18+'ROOMS Admin'!K18 -> 92554 | L40: ='Front Office'!L18+HSKP!L18+Reservation!L18+'ROOMS Admin'!L18 -> 97873 | ... P40: ='Front Office'!P18+HSKP!P18+Reservation!P18+'ROOMS Admin'!P18 -> 74214 | Q40: =SUM(E40:P40) -> 835483 | R40: =Q40/$Q$111 -> 30.459842 | S40: =Q40/$Q$20 -> 0.0190078 | T40: 1.5628585
A41: <<60010022 | B41: <<10200,10300,10400,10099 | D41: Complimentary Food&Beverage 免费餐饮 | E41: ='Front Office'!E19+HSKP!E19+Reservation!E19+'ROOMS Admin'!E19 -> 48330 | F41: ='Front Office'!F19+HSKP!F19+Reservation!F19+'ROOMS Admin'!F19 -> 68256 | G41: ='Front Office'!G19+HSKP!G19+Reservation!G19+'ROOMS Admin'!G19 -> 52407 | H41: ='Front Office'!H19+HSKP!H19+Reservation!H19+'ROOMS Admin'!H19 -> 53568 | I41: ='Front Office'!I19+HSKP!I19+Reservation!I19+'ROOMS Admin'!I19 -> 60291 | J41: ='Front Office'!J19+HSKP!J19+Reservation!J19+'ROOMS Admin'!J19 -> 52380 | K41: ='Front Office'!K19+HSKP!K19+Reservation!K19+'ROOMS Admin'!K19 -> 81054 | L41: ='Front Office'!L19+HSKP!L19+Reservation!L19+'ROOMS Admin'!L19 -> 86373 | ... P41: ='Front Office'!P19+HSKP!P19+Reservation!P19+'ROOMS Admin'!P19 -> 67014 | Q41: =SUM(E41:P41) -> 740583 | R41: =Q41/$Q$111 -> 27 | S41: =Q41/$Q$20 -> 0.016848762 | T41: 1.4145028
A42: <<60010030 | B42: <<10200,10300,10400,10099 | D42: Competitor Survey竞争对手调研费 | E42: ='Front Office'!E20+HSKP!E20+Reservation!E20+'ROOMS Admin'!E20 -> 0 | F42: ='Front Office'!F20+HSKP!F20+Reservation!F20+'ROOMS Admin'!F20 -> 0 | G42: ='Front Office'!G20+HSKP!G20+Reservation!G20+'ROOMS Admin'!G20 -> 0 | H42: ='Front Office'!H20+HSKP!H20+Reservation!H20+'ROOMS Admin'!H20 -> 0 | I42: ='Front Office'!I20+HSKP!I20+Reservation!I20+'ROOMS Admin'!I20 -> 0 | J42: ='Front Office'!J20+HSKP!J20+Reservation!J20+'ROOMS Admin'!J20 -> 0 | K42: ='Front Office'!K20+HSKP!K20+Reservation!K20+'ROOMS Admin'!K20 -> 0 | L42: ='Front Office'!L20+HSKP!L20+Reservation!L20+'ROOMS Admin'!L20 -> 0 | ... P42: ='Front Office'!P20+HSKP!P20+Reservation!P20+'ROOMS Admin'!P20 -> 0 | Q42: =SUM(E42:P42) -> 0 | R42: =Q42/$Q$111 -> 0 | S42: =Q42/$Q$20 -> 0 | T42: 0
A43: <<60010040 | B43: <<10200,10300,10400,10099 | D43: Contract Cleaning 清洁合同 | E43: ='Front Office'!E21+HSKP!E21+Reservation!E21+'ROOMS Admin'!E21 -> 43905.66 | F43: ='Front Office'!F21+HSKP!F21+Reservation!F21+'ROOMS Admin'!F21 -> 62007.547 | G43: ='Front Office'!G21+HSKP!G21+Reservation!G21+'ROOMS Admin'!G21 -> 47609.434 | H43: ='Front Office'!H21+HSKP!H21+Reservation!H21+'ROOMS Admin'!H21 -> 48664.151 | I43: ='Front Office'!I21+HSKP!I21+Reservation!I21+'ROOMS Admin'!I21 -> 54771.698 | J43: ='Front Office'!J21+HSKP!J21+Reservation!J21+'ROOMS Admin'!J21 -> 47584.906 | K43: ='Front Office'!K21+HSKP!K21+Reservation!K21+'ROOMS Admin'!K21 -> 73633.962 | L43: ='Front Office'!L21+HSKP!L21+Reservation!L21+'ROOMS Admin'!L21 -> 78466.038 | ... P43: ='Front Office'!P21+HSKP!P21+Reservation!P21+'ROOMS Admin'!P21 -> 60879.245 | Q43: =SUM(E43:P43) -> 672786.79 | R43: =Q43/$Q$111 -> 24.528302 | S43: =Q43/$Q$20 -> 0.015306352 | T43: 13.459188
A44: <<60010050 | B44: <<10200,10300,10400,10099 | D44: Contract Services 服务合同 | E44: ='Front Office'!E22+HSKP!E22+Reservation!E22+'ROOMS Admin'!E22 -> 0 | F44: ='Front Office'!F22+HSKP!F22+Reservation!F22+'ROOMS Admin'!F22 -> 0 | G44: ='Front Office'!G22+HSKP!G22+Reservation!G22+'ROOMS Admin'!G22 -> 0 | H44: ='Front Office'!H22+HSKP!H22+Reservation!H22+'ROOMS Admin'!H22 -> 0 | I44: ='Front Office'!I22+HSKP!I22+Reservation!I22+'ROOMS Admin'!I22 -> 0 | J44: ='Front Office'!J22+HSKP!J22+Reservation!J22+'ROOMS Admin'!J22 -> 0 | K44: ='Front Office'!K22+HSKP!K22+Reservation!K22+'ROOMS Admin'!K22 -> 0 | L44: ='Front Office'!L22+HSKP!L22+Reservation!L22+'ROOMS Admin'!L22 -> 0 | ... P44: ='Front Office'!P22+HSKP!P22+Reservation!P22+'ROOMS Admin'!P22 -> 0 | Q44: =SUM(E44:P44) -> 0 | R44: =Q44/$Q$111 -> 0 | S44: =Q44/$Q$20 -> 0 | T44: 61.437753
A45: <<60010060 | B45: <<10200,10300,10400,10099 | D45: Promotion Decoration 推广装饰 | E45: ='Front Office'!E23+HSKP!E23+Reservation!E23+'ROOMS Admin'!E23 -> 60000 | F45: ='Front Office'!F23+HSKP!F23+Reservation!F23+'ROOMS Admin'!F23 -> 0 | G45: ='Front Office'!G23+HSKP!G23+Reservation!G23+'ROOMS Admin'!G23 -> 0 | H45: ='Front Office'!H23+HSKP!H23+Reservation!H23+'ROOMS Admin'!H23 -> 0 | I45: ='Front Office'!I23+HSKP!I23+Reservation!I23+'ROOMS Admin'!I23 -> 0 | J45: ='Front Office'!J23+HSKP!J23+Reservation!J23+'ROOMS Admin'!J23 -> 0 | K45: ='Front Office'!K23+HSKP!K23+Reservation!K23+'ROOMS Admin'!K23 -> 0 | L45: ='Front Office'!L23+HSKP!L23+Reservation!L23+'ROOMS Admin'!L23 -> 0 | ... P45: ='Front Office'!P23+HSKP!P23+Reservation!P23+'ROOMS Admin'!P23 -> 10000 | Q45: =SUM(E45:P45) -> 70000 | R45: =Q45/$Q$111 -> 2.5520435 | S45: =Q45/$Q$20 -> 0.0015925471 | T45: -0.67407057
A46: <<60010070 | B46: <<10200,10300,10400,10099 | D46: Dues & Subscriptions 会费/订阅 | E46: ='Front Office'!E24+HSKP!E24+Reservation!E24+'ROOMS Admin'!E24 -> 1688.3333 | F46: ='Front Office'!F24+HSKP!F24+Reservation!F24+'ROOMS Admin'!F24 -> 1688.3333 | G46: ='Front Office'!G24+HSKP!G24+Reservation!G24+'ROOMS Admin'!G24 -> 1688.3333 | H46: ='Front Office'!H24+HSKP!H24+Reservation!H24+'ROOMS Admin'!H24 -> 1688.3333 | I46: ='Front Office'!I24+HSKP!I24+Reservation!I24+'ROOMS Admin'!I24 -> 1688.3333 | J46: ='Front Office'!J24+HSKP!J24+Reservation!J24+'ROOMS Admin'!J24 -> 1688.3333 | K46: ='Front Office'!K24+HSKP!K24+Reservation!K24+'ROOMS Admin'!K24 -> 1688.3333 | L46: ='Front Office'!L24+HSKP!L24+Reservation!L24+'ROOMS Admin'!L24 -> 1688.3333 | ... P46: ='Front Office'!P24+HSKP!P24+Reservation!P24+'ROOMS Admin'!P24 -> 1688.3333 | Q46: =SUM(E46:P46) -> 20260 | R46: =Q46/$Q$111 -> 0.73863429 | S46: =Q46/$Q$20 -> 0.00046092863 | T46: 0.67974779
A47: <<60010080 | B47: <<10200,10300,10400,10099 | D47: Entertainment 招待 | E47: ='Front Office'!E25+HSKP!E25+Reservation!E25+'ROOMS Admin'!E25 -> 3600 | F47: ='Front Office'!F25+HSKP!F25+Reservation!F25+'ROOMS Admin'!F25 -> 4800 | G47: ='Front Office'!G25+HSKP!G25+Reservation!G25+'ROOMS Admin'!G25 -> 3600 | H47: ='Front Office'!H25+HSKP!H25+Reservation!H25+'ROOMS Admin'!H25 -> 3600 | I47: ='Front Office'!I25+HSKP!I25+Reservation!I25+'ROOMS Admin'!I25 -> 4800 | J47: ='Front Office'!J25+HSKP!J25+Reservation!J25+'ROOMS Admin'!J25 -> 3600 | K47: ='Front Office'!K25+HSKP!K25+Reservation!K25+'ROOMS Admin'!K25 -> 6000 | L47: ='Front Office'!L25+HSKP!L25+Reservation!L25+'ROOMS Admin'!L25 -> 6000 | ... P47: ='Front Office'!P25+HSKP!P25+Reservation!P25+'ROOMS Admin'!P25 -> 4600 | Q47: =SUM(E47:P47) -> 52400 | R47: =Q47/$Q$111 -> 1.9103868 | S47: =Q47/$Q$20 -> 0.0011921353 | T47: 0.13070449
...

Sheet Front Office
D4: =Summary!D4 -> Hotel Budget Report
D5: =Summary!$D$5 -> 酒店预算报表
D6: Rooms Summary 前厅部损益
D7: =Parameter!H4 -> 2025
E9: 1 | F9: 2 | G9: 3 | H9: 4 | I9: 5 | J9: 6 | K9: 7 | L9: 8 | M9: 9 | N9: 10 | O9: 11 | P9: 12 | Q9: 2025
A10: Account | B10: Dept | C10: L2 | E10: BUDGET | F10: BUDGET | G10: BUDGET | H10: BUDGET | I10: BUDGET | J10: BUDGET | K10: BUDGET | L10: BUDGET | M10: BUDGET | N10: BUDGET | O10: BUDGET | P10: BUDGET | Q10: BUDGET | S10: LY | T10: Variance
A11: <<5..59999999 | B11: <<10200 | D11: Total Labour Costs 人工成本合计 | E11: =E117 -> 204493.78 | F11: =F117 -> 179165.59 | G11: =G117 -> 178502.11 | H11: =H117 -> 190953.5 | I11: =I117 -> 195586.14 | J11: =J117 -> 182042.71 | K11: =K117 -> 181759.11 | L11: =L117 -> 181794.91 | ... P11: =P117 -> 181572.13 | Q11: =SUM(E11:P11) -> 2247459.2 | R11: =Q11/'Rooms Summary'!$Q$20 -> 0.05113121 | T11: =-IF(Q11-S11=0,0,(Q11-S11)/S11) -> #DIV/0!
Q12: =SUM(E12:P12) -> 0
D13: OPERATING EXPENSES 营运费用 | Q13: =SUM(E13:P13) -> 0 | R13: CPOR
A14: <<60010011 | B14: <<10200 | D14: Comm - Travel Agents 佣金 - 旅行社 | Q14: =SUM(E14:P14) -> 0 | R14: =Q14/'Rooms Summary'!$Q$111 -> 0 | T14: =(Q14-S14)/S14 -> #DIV/0!
A15: <<60010012 | B15: <<10200 | D15: Comm - Reservation Assessments 客房系统预定费 | Q15: =SUM(E15:P15) -> 0 | R15: =Q15/'Rooms Summary'!$Q$111 -> 0 | T15: =(Q15-S15)/S15 -> #DIV/0!
A16: <<60010013 | B16: <<10200 | D16: Comm - DMH Reservation Fees DMH预订系统费用 | E16: 4273.5 | F16: 11356.5 | G16: 2025 | H16: 2058 | I16: 3036 | J16: 1179 | K16: 2880 | L16: 4517.1 | M16: 1179 | N16: 2784 | O16: 3798 | P16: 3798 | Q16: =SUM(E16:P16) -> 42884.1 | R16: =Q16/'Rooms Summary'!$Q$111 -> 1.5634584 | T16: =(Q16-S16)/S16 -> #DIV/0!
A17: <<60010014 | B17: <<10200 | D17: Comm - Other 佣金 - 其他 | E17: 180918 | F17: 318481.95 | G17: 111522.4 | H17: 119312.4 | I17: 185456.72 | J17: 115428.8 | K17: 211006.4 | L17: 237477.2 | M17: 121866 | N17: 201723 | O17: 135899.4 | P17: 172657.56 | Q17: =SUM(E17:P17) -> 2111749.8 | R17: =Q17/'Rooms Summary'!$Q$111 -> 76.989676 | T17: =(Q17-S17)/S17 -> #DIV/0!
A18: <<60010021 | B18: <<10200 | D18: Complimentaries - Give Away 免费赠送 | E18: 6900 | F18: 8800 | G18: 6900 | H18: 6900 | I18: 6900 | J18: 6900 | K18: 11500 | L18: 11500 | M18: 6900 | N18: 7600 | O18: 6900 | P18: 7200 | Q18: =SUM(E18:P18) -> 94900 | R18: =Q18/'Rooms Summary'!$Q$111 -> 3.4598418 | T18: =-IF(Q18-S18=0,0,(Q18-S18)/S18) -> #DIV/0!
A19: <<60010022 | B19: <<10200 | D19: Complimentary Food&Beverage 免费餐饮 | E19: =27*'Rooms Summary'!E111 -> 48330 | F19: =27*'Rooms Summary'!F111 -> 68256 | G19: =27*'Rooms Summary'!G111 -> 52407 | H19: =27*'Rooms Summary'!H111 -> 53568 | I19: =27*'Rooms Summary'!I111 -> 60291 | J19: =27*'Rooms Summary'!J111 -> 52380 | K19: =27*'Rooms Summary'!K111 -> 81054 | L19: =27*'Rooms Summary'!L111 -> 86373 | ... P19: =27*'Rooms Summary'!P111 -> 67014 | Q19: =SUM(E19:P19) -> 740583 | R19: =Q19/'Rooms Summary'!$Q$111 -> 27 | T19: =-IF(Q19-S19=0,0,(Q19-S19)/S19) -> #DIV/0!
A20: <<60010030 | B20: <<10200 | D20: Competitor Survey竞争对手调研费 | Q20: =SUM(E20:P20) -> 0 | R20: =Q20/'Rooms Summary'!$Q$111 -> 0 | T20: =-IF(Q20-S20=0,0,(Q20-S20)/S20) -> 0
A21: <<60010040 | B21: <<10200 | D21: Contract Cleaning 清洁合同 | Q21: =SUM(E21:P21) -> 0 | R21: =Q21/'Rooms Summary'!$Q$111 -> 0 | T21: =-IF(Q21-S21=0,0,(Q21-S21)/S21) -> 0
A22: <<60010050 | B22: <<10200 | D22: Contract Services 服务合同 | Q22: =SUM(E22:P22) -> 0 | R22: =Q22/'Rooms Summary'!$Q$111 -> 0
A23: <<60010060 | B23: <<10200 | D23: Promotion Decoration 推广装饰 | Q23: =SUM(E23:P23) -> 0 | R23: =Q23/'Rooms Summary'!$Q$111 -> 0 | T23: =-IF(Q23-S23=0,0,(Q23-S23)/S23) -> 0
A24: <<60010070 | B24: <<10200 | D24: Dues & Subscriptions 会费/订阅 | E24: =20260/12 -> 1688.3333 | F24: =20260/12 -> 1688.3333 | G24: =20260/12 -> 1688.3333 | H24: =20260/12 -> 1688.3333 | I24: =20260/12 -> 1688.3333 | J24: =20260/12 -> 1688.3333 | K24: =20260/12 -> 1688.3333 | L24: =20260/12 -> 1688.3333 | ... P24: =20260/12 -> 1688.3333 | Q24: =SUM(E24:P24) -> 20260 | R24: =Q24/'Rooms Summary'!$Q$111 -> 0.73863429 | T24: =-IF(Q24-S24=0,0,(Q24-S24)/S24) -> #DIV/0!
A25: <<60010080 | B25: <<10200 | D25: Entertainment 招待 | E25: 3600 | F25: 4800 | G25: 3600 | H25: 3600 | I25: 4800 | J25: 3600 | K25: 6000 | L25: 6000 | M25: 3000 | N25: 4800 | O25: 4000 | P25: 4600 | Q25: =SUM(E25:P25) -> 52400 | R25: =Q25/'Rooms Summary'!$Q$111 -> 1.9103868 | T25: =-IF(Q25-S25=0,0,(Q25-S25)/S25) -> #DIV/0!
A26: <<60010091 | B26: <<10200 | D26: Guest Relocation Expenses 客人搬家费 | Q26: =SUM(E26:P26) -> 0 | R26: =Q26/'Rooms Summary'!$Q$111 -> 0 | T26: =-IF(Q26-S26=0,0,(Q26-S26)/S26) -> 0
A27: <<60010092 | B27: <<10200 | D27: Guest Supplies 客用品 - Cleaning 清洁 | Q27: =SUM(E27:P27) -> 0 | R27: =Q27/'Rooms Summary'!$Q$111 -> 0 | T27: =-IF(Q27-S27=0,0,(Q27-S27)/S27) -> 0
A28: <<60010093 | B28: <<10200 | D28: Guest Supplies 客用品 - Magazines&Newspapers 杂志&报纸 | E28: 135 | F28: 135 | G28: 135 | H28: 135 | I28: 135 | J28: 135 | K28: 135 | L28: 135 | M28: 135 | N28: 135 | O28: 135 | P28: 135 | Q28: =SUM(E28:P28) -> 1620 | R28: =Q28/'Rooms Summary'!$Q$111 -> 0.059061577 | T28: =-IF(Q28-S28=0,0,(Q28-S28)/S28) -> #DIV/0!
A29: <<60010094 | B29: <<10200 | D29: Guest Supplies 客用品 - Others 其他 | E29: 2850 | F29: 3500 | G29: 2850 | H29: 2850 | I29: 2850 | J29: 2850 | K29: 4400 | L29: 4600 | M29: 2600 | N29: 2850 | O29: 2850 | P29: 3100 | Q29: =SUM(E29:P29) -> 38150 | R29: =Q29/'Rooms Summary'!$Q$111 -> 1.3908637 | T29: =-IF(Q29-S29=0,0,(Q29-S29)/S29) -> #DIV/0!
A30: <<60010110 | B30: <<10200 | D30: Communication/Satellite/Cable 通讯/卫星/有线收视 | E30: 16000 | F30: 16000 | G30: 16000 | H30: 16000 | I30: 16000 | J30: 16000 | K30: 16000 | L30: 16000 | M30: 16000 | N30: 16000 | O30: 16000 | P30: 16000 | Q30: =SUM(E30:P30) -> 192000 | R30: =Q30/'Rooms Summary'!$Q$111 -> 6.9998906 | T30: =-IF(Q30-S30=0,0,(Q30-S30)/S30) -> #DIV/0!
A31: <<60010120 | B31: <<10200 | D31: Reservations Fees预订费 | Q31: =SUM(E31:P31) -> 0 | R31: =Q31/'Rooms Summary'!$Q$111 -> 0 | T31: =-IF(Q31-S31=0,0,(Q31-S31)/S31) -> 0
A32: <<60010130 | B32: <<10200 | D32: Pest Control 杀虫 | Q32: =SUM(E32:P32) -> 0 | R32: =Q32/'Rooms Summary'!$Q$111 -> 0 | T32: =-IF(Q32-S32=0,0,(Q32-S32)/S32) -> 0
A33: <<60011210 | B33: <<10200 | D33: Chinaware 瓷器 | Q33: =SUM(E33:P33) -> 0 | R33: =Q33/'Rooms Summary'!$Q$111 -> 0 | T33: =-IF(Q33-S33=0,0,(Q33-S33)/S33) -> 0
A34: <<60011220 | B34: <<10200 | D34: Cleaning Supplies&Chemicals 清洁用品&化学药剂 | Q34: =SUM(E34:P34) -> 0 | R34: =Q34/'Rooms Summary'!$Q$111 -> 0 | T34: =-IF(Q34-S34=0,0,(Q34-S34)/S34) -> 0
A35: <<60011230 | B35: <<10200 | D35: Flatware 餐具 | Q35: =SUM(E35:P35) -> 0 | R35: =Q35/'Rooms Summary'!$Q$111 -> 0 | T35: =-IF(Q35-S35=0,0,(Q35-S35)/S35) -> 0
A36: <<60011240 | B36: <<10200 | D36: Glassware 玻璃器皿 | Q36: =SUM(E36:P36) -> 0 | R36: =Q36/'Rooms Summary'!$Q$111 -> 0 | T36: =-IF(Q36-S36=0,0,(Q36-S36)/S36) -> 0
A37: <<60011250 | B37: <<10200 | D37: Linen 布巾 | Q37: =SUM(E37:P37) -> 0 | R37: =Q37/'Rooms Summary'!$Q$111 -> 0 | T37: =-IF(Q37-S37=0,0,(Q37-S37)/S37) -> 0
A38: <<60011260 | B38: <<10200 | D38: Silverware 银器 | Q38: =SUM(E38:P38) -> 0 | R38: =Q38/'Rooms Summary'!$Q$111 -> 0 | T38: =-IF(Q38-S38=0,0,(Q38-S38)/S38) -> 0
A39: <<60011270 | B39: <<10200 | D39: Other Operating Supplies 其他运营用品 | E39: 2000 | F39: 2000 | G39: 2000 | H39: 2000 | I39: 2000 | J39: 2000 | K39: 2000 | L39: 2000 | M39: 2000 | N39: 2000 | O39: 2000 | P39: 2000 | Q39: =SUM(E39:P39) -> 24000 | R39: =Q39/'Rooms Summary'!$Q$111 -> 0.87498633 | T39: =-IF(Q39-S39=0,0,(Q39-S39)/S39) -> #DIV/0!
A40: <<60011280 | B40: <<10200 | D40: Utensils 器具 | K40: 2000 | Q40: =SUM(E40:P40) -> 2000 | R40: =Q40/'Rooms Summary'!$Q$111 -> 0.072915527 | T40: =-IF(Q40-S40=0,0,(Q40-S40)/S40) -> #DIV/0!
A41: <<60011290 | B41: <<10200 | D41: Paper Supplies 纸张用品 | E41: 100 | F41: 150 | G41: 100 | H41: 100 | I41: 100 | J41: 100 | K41: 150 | L41: 150 | M41: 100 | N41: 150 | O41: 100 | P41: 100 | Q41: =SUM(E41:P41) -> 1400 | R41: =Q41/'Rooms Summary'!$Q$111 -> 0.051040869 | T41: =-IF(Q41-S41=0,0,(Q41-S41)/S41) -> #DIV/0!
A42: <<60011310 | B42: <<10200 | D42: Uniforms 制服 | E42: =12*E120 -> 228 | F42: =12*F120 -> 228 | G42: =12*G120 -> 228 | H42: =12*H120 -> 240 | I42: =12*I120 -> 240 | J42: =12*J120 -> 240 | K42: =12*K120 -> 240 | L42: =12*L120 -> 240 | ... P42: =12*P120 -> 240 | Q42: =SUM(E42:P42) -> 2844 | R42: =Q42/'Rooms Summary'!$Q$111 -> 0.10368588 | T42: =-IF(Q42-S42=0,0,(Q42-S42)/S42) -> #DIV/0!
A43: <<60011320 | B43: <<10200 | D43: Laundry Supplies 洗衣用品 | Q43: =SUM(E43:P43) -> 0 | R43: =Q43/'Rooms Summary'!$Q$111 -> 0 | T43: =-IF(Q43-S43=0,0,(Q43-S43)/S43) -> 0
A44: <<60011410 | B44: <<10200 | D44: Flyers 传单 | Q44: =SUM(E44:P44) -> 0 | R44: =Q44/'Rooms Summary'!$Q$111 -> 0 | T44: =-IF(Q44-S44=0,0,(Q44-S44)/S44) -> 0
...

Sheet HSKP
D4: =Summary!D4 -> Hotel Budget Report
D5: =Summary!$D$5 -> 酒店预算报表
D6: Rooms Summary 客房部损益
D7: =Parameter!H4 -> 2025
E9: 1 | F9: 2 | G9: 3 | H9: 4 | I9: 5 | J9: 6 | K9: 7 | L9: 8 | M9: 9 | N9: 10 | O9: 11 | P9: 12 | Q9: 2025
A10: Account | B10: Dept | C10: L2 | E10: BUDGET | F10: BUDGET | G10: BUDGET | H10: BUDGET | I10: BUDGET | J10: BUDGET | K10: BUDGET | L10: BUDGET | M10: BUDGET | N10: BUDGET | O10: BUDGET | P10: BUDGET | Q10: BUDGET | S10: LY | T10: Variance
A11: <<5..59999999 | B11: <<10300 | D11: Total Labour Costs 人工成本合计 | E11: =E117 -> 349673.97 | F11: =F117 -> 370116.64 | G11: =G117 -> 340354.28 | H11: =H117 -> 349657.12 | I11: =I117 -> 361843.04 | J11: =J117 -> 344416.46 | K11: =K117 -> 387835.02 | L11: =L117 -> 392810.45 | ... P11: =P117 -> 364112.17 | Q11: =SUM(E11:P11) -> 4333703 | R11: =Q11/'Rooms Summary'!$Q$20 -> 0.09859466 | T11: =-IF(Q11-S11=0,0,(Q11-S11)/S11) -> #DIV/0!
D13: OPERATING EXPENSES 营运费用 | Q13: =SUM(E13:P13) -> 0 | R13: CPOR
A14: <<60010011 | B14: <<10300 | D14: Comm - Travel Agents 佣金 - 旅行社 | Q14: =SUM(E14:P14) -> 0 | R14: =Q14/'Rooms Summary'!$Q$111 -> 0 | T14: =(Q14-S14)/S14 -> #DIV/0!
A15: <<60010012 | B15: <<10300 | D15: Comm - Reservation Assessments 客房系统预定费 | Q15: =SUM(E15:P15) -> 0 | R15: =Q15/'Rooms Summary'!$Q$111 -> 0 | T15: =(Q15-S15)/S15 -> #DIV/0!
A16: <<60010013 | B16: <<10300 | D16: Comm - DMH Reservation Fees DMH预订系统费用 | Q16: =SUM(E16:P16) -> 0 | R16: =Q16/'Rooms Summary'!$Q$111 -> 0 | T16: =(Q16-S16)/S16 -> #DIV/0!
A17: <<60010014 | B17: <<10300 | D17: Comm - Other 佣金 - 其他 | Q17: =SUM(E17:P17) -> 0 | R17: =Q17/'Rooms Summary'!$Q$111 -> 0 | T17: =(Q17-S17)/S17 -> #DIV/0!
A18: <<60010021 | B18: <<10300 | D18: Complimentaries - Give Away 免费赠送 | E18: =27*'Rooms Summary'!E111 -> 48330 | F18: =27*'Rooms Summary'!F111 -> 68256 | G18: =27*'Rooms Summary'!G111 -> 52407 | H18: =27*'Rooms Summary'!H111 -> 53568 | I18: =27*'Rooms Summary'!I111 -> 60291 | J18: =27*'Rooms Summary'!J111 -> 52380 | K18: =27*'Rooms Summary'!K111 -> 81054 | L18: =27*'Rooms Summary'!L111 -> 86373 | ... P18: =27*'Rooms Summary'!P111 -> 67014 | Q18: =SUM(E18:P18) -> 740583 | R18: =Q18/'Rooms Summary'!$Q$111 -> 27 | T18: =-IF(Q18-S18=0,0,(Q18-S18)/S18) -> #DIV/0!
A19: <<60010022 | B19: <<10300 | D19: Complimentary Food&Beverage 免费餐饮 | Q19: =SUM(E19:P19) -> 0 | R19: =Q19/'Rooms Summary'!$Q$111 -> 0
A20: <<60010030 | B20: <<10300 | D20: Competitor Survey竞争对手调研费 | Q20: =SUM(E20:P20) -> 0 | R20: =Q20/'Rooms Summary'!$Q$111 -> 0 | T20: =-IF(Q20-S20=0,0,(Q20-S20)/S20) -> 0
A21: <<60010040 | B21: <<10300 | D21: Contract Cleaning 清洁合同 | E21: =26*'Rooms Summary'!E111/1.06 -> 43905.66 | F21: =26*'Rooms Summary'!F111/1.06 -> 62007.547 | G21: =26*'Rooms Summary'!G111/1.06 -> 47609.434 | H21: =26*'Rooms Summary'!H111/1.06 -> 48664.151 | I21: =26*'Rooms Summary'!I111/1.06 -> 54771.698 | J21: =26*'Rooms Summary'!J111/1.06 -> 47584.906 | K21: =26*'Rooms Summary'!K111/1.06 -> 73633.962 | L21: =26*'Rooms Summary'!L111/1.06 -> 78466.038 | ... P21: =26*'Rooms Summary'!P111/1.06 -> 60879.245 | Q21: =SUM(E21:P21) -> 672786.79 | R21: =Q21/'Rooms Summary'!$Q$111 -> 24.528302 | T21: =-IF(Q21-S21=0,0,(Q21-S21)/S21) -> #DIV/0!
A22: <<60010050 | B22: <<10300 | D22: Contract Services 服务合同 | Q22: =SUM(E22:P22) -> 0 | R22: =Q22/'Rooms Summary'!$Q$111 -> 0 | T22: =-IF(Q22-S22=0,0,(Q22-S22)/S22) -> 0
A23: <<60010060 | B23: <<10300 | D23: Promotion Decoration 推广装饰 | E23: 60000 | P23: 10000 | Q23: =SUM(E23:P23) -> 70000 | R23: =Q23/'Rooms Summary'!$Q$111 -> 2.5520435 | T23: =-IF(Q23-S23=0,0,(Q23-S23)/S23) -> #DIV/0!
A24: <<60010070 | B24: <<10300 | D24: Dues & Subscriptions 会费/订阅 | Q24: =SUM(E24:P24) -> 0 | R24: =Q24/'Rooms Summary'!$Q$111 -> 0 | T24: =-IF(Q24-S24=0,0,(Q24-S24)/S24) -> 0
A25: <<60010080 | B25: <<10300 | D25: Entertainment 招待 | Q25: =SUM(E25:P25) -> 0 | R25: =Q25/'Rooms Summary'!$Q$111 -> 0 | T25: =-IF(Q25-S25=0,0,(Q25-S25)/S25) -> 0
A26: <<60010091 | B26: <<10300 | D26: Guest Relocation Expenses 客人搬家费 | Q26: =SUM(E26:P26) -> 0 | R26: =Q26/'Rooms Summary'!$Q$111 -> 0 | T26: =-IF(Q26-S26=0,0,(Q26-S26)/S26) -> 0
A27: <<60010092 | B27: <<10300 | D27: Guest Supplies 客用品 - Cleaning 清洁 | Q27: =SUM(E27:P27) -> 0 | R27: =Q27/'Rooms Summary'!$Q$111 -> 0 | T27: =-IF(Q27-S27=0,0,(Q27-S27)/S27) -> 0
A28: <<60010093 | B28: <<10300 | D28: Guest Supplies 客用品 - Magazines&Newspapers 杂志&报纸 | Q28: =SUM(E28:P28) -> 0 | R28: =Q28/'Rooms Summary'!$Q$111 -> 0 | T28: =-IF(Q28-S28=0,0,(Q28-S28)/S28) -> 0
A29: <<60010094 | B29: <<10300 | D29: Guest Supplies 客用品 - Others 其他 | E29: =60*'Rooms Summary'!E111*50% -> 53700 | F29: =60*'Rooms Summary'!F111*70% -> 106176 | G29: =60*'Rooms Summary'!G111 -> 116460 | H29: =60*'Rooms Summary'!H111 -> 119040 | I29: =60*'Rooms Summary'!I111 -> 133980 | J29: =60*'Rooms Summary'!J111 -> 116400 | K29: =60*'Rooms Summary'!K111 -> 180120 | L29: =60*'Rooms Summary'!L111 -> 191940 | M29: =60*'Rooms Summary'!M111 -> 110100 | N29: =60*'Rooms Summary'!N111 -> 138060 | ... P29: =60*'Rooms Summary'!P111 -> 148920 | Q29: =SUM(E29:P29) -> 1546536 | R29: =Q29/'Rooms Summary'!$Q$111 -> 56.383244 | T29: =-IF(Q29-S29=0,0,(Q29-S29)/S29) -> #DIV/0!
A30: <<60010110 | B30: <<10300 | D30: Communication/Satellite/Cable 通讯/卫星/有线收视 | Q30: =SUM(E30:P30) -> 0 | R30: =Q30/'Rooms Summary'!$Q$111 -> 0 | T30: =-IF(Q30-S30=0,0,(Q30-S30)/S30) -> 0
A31: <<60010120 | B31: <<10300 | D31: Reservations Fees预订费 | Q31: =SUM(E31:P31) -> 0 | R31: =Q31/'Rooms Summary'!$Q$111 -> 0 | T31: =-IF(Q31-S31=0,0,(Q31-S31)/S31) -> 0
A32: <<60010130 | B32: <<10300 | D32: Pest Control 杀虫 | E32: =17000/1.06 -> 16037.736 | F32: =17000/1.06 -> 16037.736 | G32: =17000/1.06 -> 16037.736 | H32: =17000/1.06 -> 16037.736 | I32: =17000/1.06 -> 16037.736 | J32: =17000/1.06 -> 16037.736 | K32: =17000/1.06 -> 16037.736 | L32: =17000/1.06 -> 16037.736 | ... P32: =17000/1.06 -> 16037.736 | Q32: =SUM(E32:P32) -> 192452.83 | R32: =Q32/'Rooms Summary'!$Q$111 -> 7.0163998 | T32: =-IF(Q32-S32=0,0,(Q32-S32)/S32) -> #DIV/0!
A33: <<60011210 | B33: <<10300 | D33: Chinaware 瓷器 | Q33: =SUM(E33:P33) -> 0 | R33: =Q33/'Rooms Summary'!$Q$111 -> 0
A34: <<60011220 | B34: <<10300 | D34: Cleaning Supplies&Chemicals 清洁用品&化学药剂 | E34: 8950 | F34: 11600 | G34: 10446 | H34: 10968 | I34: 11808 | J34: 11052 | K34: 14165 | L34: 15190 | M34: 9336 | N34: 11916 | O34: 10170 | P34: 11705 | Q34: =SUM(E34:P34) -> 137306 | R34: =Q34/'Rooms Summary'!$Q$111 -> 5.0058697 | T34: =-IF(Q34-S34=0,0,(Q34-S34)/S34) -> #DIV/0!
A35: <<60011230 | B35: <<10300 | D35: Flatware 餐具 | Q35: =SUM(E35:P35) -> 0 | R35: =Q35/'Rooms Summary'!$Q$111 -> 0 | T35: =-IF(Q35-S35=0,0,(Q35-S35)/S35) -> 0
A36: <<60011240 | B36: <<10300 | D36: Glassware 玻璃器皿 | Q36: =SUM(E36:P36) -> 0 | R36: =Q36/'Rooms Summary'!$Q$111 -> 0
A37: <<60011250 | B37: <<10300 | D37: Linen 布巾 | Q37: =SUM(E37:P37) -> 0 | R37: =Q37/'Rooms Summary'!$Q$111 -> 0 | T37: =-IF(Q37-S37=0,0,(Q37-S37)/S37) -> 0
A38: <<60011260 | B38: <<10300 | D38: Silverware 银器 | Q38: =SUM(E38:P38) -> 0 | R38: =Q38/'Rooms Summary'!$Q$111 -> 0 | T38: =-IF(Q38-S38=0,0,(Q38-S38)/S38) -> 0
A39: <<60011270 | B39: <<10300 | D39: Other Operating Supplies 其他运营用品 | E39: 500 | F39: 500 | G39: 500 | H39: 500 | I39: 500 | J39: 500 | K39: 500 | L39: 500 | M39: 500 | N39: 10100 | O39: 10100 | P39: 10100 | Q39: =SUM(E39:P39) -> 34800 | R39: =Q39/'Rooms Summary'!$Q$111 -> 1.2687302 | T39: =-IF(Q39-S39=0,0,(Q39-S39)/S39) -> #DIV/0!
A40: <<60011280 | B40: <<10300 | D40: Utensils 器具 | Q40: =SUM(E40:P40) -> 0 | R40: =Q40/'Rooms Summary'!$Q$111 -> 0 | T40: =-IF(Q40-S40=0,0,(Q40-S40)/S40) -> 0
A41: <<60011290 | B41: <<10300 | D41: Paper Supplies 纸张用品 | E41: 1000 | F41: 1000 | G41: 1000 | H41: 1000 | I41: 1000 | J41: 1000 | K41: 1000 | L41: 1000 | M41: 1000 | N41: 1000 | O41: 1000 | P41: 1000 | Q41: =SUM(E41:P41) -> 12000 | R41: =Q41/'Rooms Summary'!$Q$111 -> 0.43749316 | T41: =-IF(Q41-S41=0,0,(Q41-S41)/S41) -> #DIV/0!
A42: <<60011310 | B42: <<10300 | D42: Uniforms 制服 | E42: =+E120*12 -> 288 | F42: =+F120*12 -> 300 | G42: =+G120*12 -> 276 | H42: =+H120*12 -> 288 | I42: =+I120*12 -> 324 | J42: =+J120*12 -> 312 | K42: =+K120*12 -> 372 | L42: =+L120*12 -> 384 | ... P42: =+P120*12 -> 312 | Q42: =SUM(E42:P42) -> 3816 | R42: =Q42/'Rooms Summary'!$Q$111 -> 0.13912283 | T42: =-IF(Q42-S42=0,0,(Q42-S42)/S42) -> #DIV/0!
A43: <<60011320 | B43: <<10300 | D43: Laundry Supplies 洗衣用品 | Q43: =SUM(E43:P43) -> 0 | R43: =Q43/'Rooms Summary'!$Q$111 -> 0 | T43: =-IF(Q43-S43=0,0,(Q43-S43)/S43) -> 0
A44: <<60011410 | B44: <<10300 | D44: Flyers 传单 | Q44: =SUM(E44:P44) -> 0 | R44: =Q44/'Rooms Summary'!$Q$111 -> 0 | T44: =-IF(Q44-S44=0,0,(Q44-S44)/S44) -> 0
A45: <<60011420 | B45: <<10300 | D45: Menus & Beverage Lists 菜单及饮料单 | Q45: =SUM(E45:P45) -> 0 | R45: =Q45/'Rooms Summary'!$Q$111 -> 0 | T45: =-IF(Q45-S45=0,0,(Q45-S45)/S45) -> 0
...

Sheet Reservation
D4: =Summary!D4 -> Hotel Budget Report
D5: =Summary!$D$5 -> 酒店预算报表
D6: Rooms Summary 预订部损益
D7: =Parameter!H4 -> 2025
E9: 1 | F9: 2 | G9: 3 | H9: 4 | I9: 5 | J9: 6 | K9: 7 | L9: 8 | M9: 9 | N9: 10 | O9: 11 | P9: 12 | Q9: 2025
A10: Account | B10: Dept | C10: L2 | E10: BUDGET | F10: BUDGET | G10: BUDGET | H10: BUDGET | I10: BUDGET | J10: BUDGET | K10: BUDGET | L10: BUDGET | M10: BUDGET | N10: BUDGET | O10: BUDGET | P10: BUDGET | Q10: BUDGET | S10: LY | T10: Variance
A11: <<5..59999999 | B11: <<10400 | D11: Total Labour Costs 人工成本合计 | E11: =E115 -> 44332.79 | F11: =F115 -> 39704.5 | G11: =G115 -> 39529.9 | H11: =H115 -> 40936.44 | I11: =I115 -> 41712.53 | J11: =J115 -> 39281.85 | K11: =K115 -> 39210.95 | L11: =L115 -> 39219.9 | ... P11: =P115 -> 39164.2 | Q11: =SUM(E11:P11) -> 485393.55 | R11: =Q11/'Rooms Summary'!$Q$20 -> 0.01104303 | T11: =-IF(Q11-S11=0,0,(Q11-S11)/S11) -> #DIV/0!
D13: OPERATING EXPENSES 营运费用 | R13: CPOR
A14: <<60010011 | B14: <<10400 | D14: Comm - Travel Agents 佣金 - 旅行社 | Q14: =SUM(E14:P14) -> 0 | R14: =Q14/'Rooms Summary'!$Q$111 -> 0 | T14: =-IF(Q14-S14=0,0,(Q14-S14)/S14) -> 0
A15: <<60010012 | B15: <<10400 | D15: Comm - Reservation Assessments 客房系统预定费 | Q15: =SUM(E15:P15) -> 0 | R15: =Q15/'Rooms Summary'!$Q$111 -> 0 | T15: =-IF(Q15-S15=0,0,(Q15-S15)/S15) -> 0
A16: <<60010013 | B16: <<10400 | D16: Comm - DMH Reservation Fees DMH预订系统费用 | Q16: =SUM(E16:P16) -> 0 | R16: =Q16/'Rooms Summary'!$Q$111 -> 0 | T16: =-IF(Q16-S16=0,0,(Q16-S16)/S16) -> 0
A17: <<60010014 | B17: <<10400 | D17: Comm - Other 佣金 - 其他 | Q17: =SUM(E17:P17) -> 0 | R17: =Q17/'Rooms Summary'!$Q$111 -> 0 | T17: =-IF(Q17-S17=0,0,(Q17-S17)/S17) -> 0
A18: <<60010021 | B18: <<10400 | D18: Complimentaries - Give Away 免费赠送 | Q18: =SUM(E18:P18) -> 0 | R18: =Q18/'Rooms Summary'!$Q$111 -> 0 | T18: =-IF(Q18-S18=0,0,(Q18-S18)/S18) -> 0
A19: <<60010022 | B19: <<10400 | D19: Complimentary Food&Beverage 免费餐饮 | Q19: =SUM(E19:P19) -> 0 | R19: =Q19/'Rooms Summary'!$Q$111 -> 0 | T19: =-IF(Q19-S19=0,0,(Q19-S19)/S19) -> 0
A20: <<60010030 | B20: <<10400 | D20: Competitor Survey竞争对手调研费 | Q20: =SUM(E20:P20) -> 0 | R20: =Q20/'Rooms Summary'!$Q$111 -> 0 | T20: =-IF(Q20-S20=0,0,(Q20-S20)/S20) -> 0
A21: <<60010040 | B21: <<10400 | D21: Contract Cleaning 清洁合同 | Q21: =SUM(E21:P21) -> 0 | R21: =Q21/'Rooms Summary'!$Q$111 -> 0 | T21: =-IF(Q21-S21=0,0,(Q21-S21)/S21) -> 0
A22: <<60010050 | B22: <<10400 | D22: Contract Services 服务合同 | Q22: =SUM(E22:P22) -> 0 | R22: =Q22/'Rooms Summary'!$Q$111 -> 0 | T22: =-IF(Q22-S22=0,0,(Q22-S22)/S22) -> 0
A23: <<60010060 | B23: <<10400 | D23: Promotion Decoration 推广装饰 | Q23: =SUM(E23:P23) -> 0 | R23: =Q23/'Rooms Summary'!$Q$111 -> 0 | T23: =-IF(Q23-S23=0,0,(Q23-S23)/S23) -> 0
A24: <<60010070 | B24: <<10400 | D24: Dues & Subscriptions 会费/订阅 | Q24: =SUM(E24:P24) -> 0 | R24: =Q24/'Rooms Summary'!$Q$111 -> 0 | T24: =-IF(Q24-S24=0,0,(Q24-S24)/S24) -> 0
A25: <<60010080 | B25: <<10400 | D25: Entertainment 招待 | Q25: =SUM(E25:P25) -> 0 | R25: =Q25/'Rooms Summary'!$Q$111 -> 0 | T25: =-IF(Q25-S25=0,0,(Q25-S25)/S25) -> 0
... A41: <<60011290 | B41: <<10400 | D41: Paper Supplies 纸张用品 | Q41: =SUM(E41:P41) -> 0 | R41: =Q41/'Rooms Summary'!$Q$111 -> 0 | T41: =-IF(Q41-S41=0,0,(Q41-S41)/S41) -> 0
A42: <<60011310 | B42: <<10400 | D42: Uniforms 制服 | E42: =12*E118 -> 60 | F42: =12*F118 -> 60 | G42: =12*G118 -> 60 | H42: =12*H118 -> 60 | I42: =12*I118 -> 60 | J42: =12*J118 -> 60 | K42: =12*K118 -> 60 | L42: =12*L118 -> 60 | ... P42: =12*P118 -> 60 | Q42: =SUM(E42:P42) -> 720 | R42: =Q42/'Rooms Summary'!$Q$111 -> 0.02624959 | T42: =-IF(Q42-S42=0,0,(Q42-S42)/S42) -> #DIV/0!
A43: <<60011320 | B43: <<10400 | D43: Laundry Supplies 洗衣用品 | Q43: =SUM(E43:P43) -> 0 | R43: =Q43/'Rooms Summary'!$Q$111 -> 0 | T43: =-IF(Q43-S43=0,0,(Q43-S43)/S43) -> 0
A44: <<60011410 | B44: <<10400 | D44: Flyers 传单 | Q44: =SUM(E44:P44) -> 0 | R44: =Q44/'Rooms Summary'!$Q$111 -> 0 | T44: =-IF(Q44-S44=0,0,(Q44-S44)/S44) -> 0
A45: <<60011420 | B45: <<10400 | D45: Menus & Beverage Lists 菜单及饮料单 | Q45: =SUM(E45:P45) -> 0 | R45: =Q45/'Rooms Summary'!$Q$111 -> 0 | T45: =-IF(Q45-S45=0,0,(Q45-S45)/S45) -> 0
A46: <<60011430 | B46: <<10400 | D46: Food & Beverage Promotions 餐饮促销 | Q46: =SUM(E46:P46) -> 0 | R46: =Q46/'Rooms Summary'!$Q$111 -> 0 | T46: =-IF(Q46-S46=0,0,(Q46-S46)/S46) -> 0
A47: <<60011440 | B47: <<10400 | D47: Promotional Gifts 推广礼品 | Q47: =SUM(E47:P47) -> 0 | R47: =Q47/'Rooms Summary'!$Q$111 -> 0 | T47: =-IF(Q47-S47=0,0,(Q47-S47)/S47) -> 0
A48: <<60011450 | B48: <<10400 | D48: Promotions 促销 | Q48: =SUM(E48:P48) -> 0 | R48: =Q48/'Rooms Summary'!$Q$111 -> 0 | T48: =-IF(Q48-S48=0,0,(Q48-S48)/S48) -> 0
A49: <<60011460 | B49: <<10400 | D49: Plant Hire 植物租摆 | Q49: =SUM(E49:P49) -> 0 | R49: =Q49/'Rooms Summary'!$Q$111 -> 0 | T49: =-IF(Q49-S49=0,0,(Q49-S49)/S49) -> 0
A50: <<60011470 | B50: <<10400 | D50: Music/Entertainment 音乐/娱乐 | Q50: =SUM(E50:P50) -> 0 | R50: =Q50/'Rooms Summary'!$Q$111 -> 0 | T50: =-IF(Q50-S50=0,0,(Q50-S50)/S50) -> 0
A51: <<60011480 | B51: <<10400 | D51: Banquet Expenses 宴会费用 | Q51: =SUM(E51:P51) -> 0 | R51: =Q51/'Rooms Summary'!$Q$111 -> 0 | T51: =-IF(Q51-S51=0,0,(Q51-S51)/S51) -> 0
A52: <<60011510 | B52: <<10400 | D52: Kitchen Fuel 厨房燃料 | Q52: =SUM(E52:P52) -> 0 | R52: =Q52/'Rooms Summary'!$Q$111 -> 0 | T52: =-IF(Q52-S52=0,0,(Q52-S52)/S52) -> 0
A53: <<60011520 | B53: <<10400 | D53: Hygiene 卫生 | Q53: =SUM(E53:P53) -> 0 | R53: =Q53/'Rooms Summary'!$Q$111 -> 0 | T53: =-IF(Q53-S53=0,0,(Q53-S53)/S53) -> 0
A54: <<60011530 | B54: <<10400 | D54: Medical/First Aid Expenses 急救费用 | Q54: =SUM(E54:P54) -> 0 | R54: =Q54/'Rooms Summary'!$Q$111 -> 0 | T54: =-IF(Q54-S54=0,0,(Q54-S54)/S54) -> 0
... A68: <<60012030 | B68: <<10400 | D68: Printing & Stationery 印刷与文具 | Q68: =SUM(E68:P68) -> 0 | R68: =Q68/'Rooms Summary'!$Q$111 -> 0 | T68: =-IF(Q68-S68=0,0,(Q68-S68)/S68) -> 0
A69: <<60012040 | B69: <<10400 | D69: Internal Laundry 内部洗衣 | E69: 1461.5 | F69: 1285.15 | G69: 1252.05 | H69: 1283.8 | I69: 1264.25 | J69: 1164.4 | K69: 1131.65 | L69: 1135.65 | M69: 1158.95 | N69: 1253.65 | O69: 1123.55 | P69: 1112 | Q69: =SUM(E69:P69) -> 14626.6 | R69: =Q69/'Rooms Summary'!$Q$111 -> 0.53325313 | T69: =-IF(Q69-S69=0,0,(Q69-S69)/S69) -> #DIV/0!
A70: <<60012050 | B70: <<10400 | D70: Taskforce Expenses 外援费用 | Q70: =SUM(E70:P70) -> 0 | R70: =Q70/'Rooms Summary'!$Q$111 -> 0 | T70: =-IF(Q70-S70=0,0,(Q70-S70)/S70) -> 0
A71: <<60012060 | B71: <<10400 | D71: Telephone 电话费 | Q71: =SUM(E71:P71) -> 0 | R71: =Q71/'Rooms Summary'!$Q$111 -> 0 | T71: =-IF(Q71-S71=0,0,(Q71-S71)/S71) -> 0
A72: <<60012070 | B72: <<10400 | D72: Transportation 交通 - Guest 客人 | Q72: =SUM(E72:P72) -> 0 | R72: =Q72/'Rooms Summary'!$Q$111 -> 0 | T72: =-IF(Q72-S72=0,0,(Q72-S72)/S72) -> 0
A73: <<60012080 | B73: <<10400 | D73: Transportation 交通 - Staff 员工 | Q73: =SUM(E73:P73) -> 0 | R73: =Q73/'Rooms Summary'!$Q$111 -> 0 | T73: =-IF(Q73-S73=0,0,(Q73-S73)/S73) -> 0
...

Sheet ROOMS Admin
D4: Hotel Profit & Loss Monthly Report
D5: 酒店月度损益报表
D6: Rooms Summary 房务办公室损益
D7: =Parameter!H4 -> 2025
E9: 1 | F9: 2 | G9: 3 | H9: 4 | I9: 5 | J9: 6 | K9: 7 | L9: 8 | M9: 9 | N9: 10 | O9: 11 | P9: 12 | Q9: 2025
A10: Account | B10: Dept | C10: L2 | E10: BUDGET | F10: BUDGET | G10: BUDGET | H10: BUDGET | I10: BUDGET | J10: BUDGET | K10: BUDGET | L10: BUDGET | M10: BUDGET | N10: BUDGET | O10: BUDGET | P10: BUDGET | Q10: BUDGET
A11: <<5..59999999 | B11: <<10099 | D11: Total Labour Costs 人工成本合计 | E11: =E115 -> 69644.57 | F11: =F115 -> 69647.05 | G11: =G115 -> 69577.21 | H11: =H115 -> 69583.69 | I11: =I115 -> 69523.37 | J11: =J115 -> 69477.99 | K11: =K115 -> 69449.63 | L11: =L115 -> 69453.21 | ... P11: =P115 -> 69430.93 | Q11: =SUM(E11:P11) -> 834149.8
D13: OPERATING EXPENSES 营运费用
A14: <<60010011 | B14: <<10099 | D14: Comm - Travel Agents 佣金 - 旅行社 | E14: 0 | F14: 0 | G14: 0 | H14: 0 | I14: 0 | J14: 0 | K14: 0 | L14: 0 | M14: 0 | N14: 0 | O14: 0 | P14: 0 | Q14: =SUM(E14:P14) -> 0
A15: <<60010012 | B15: <<10099 | D15: Comm - Reservation Assessments 客房系统预定费 | E15: 0 | F15: 0 | G15: 0 | H15: 0 | I15: 0 | J15: 0 | K15: 0 | L15: 0 | M15: 0 | N15: 0 | O15: 0 | P15: 0 | Q15: =SUM(E15:P15) -> 0
A16: <<60010013 | B16: <<10099 | D16: Comm - DMH Reservation Fees DMH预订系统费用 | E16: 0 | F16: 0 | G16: 0 | H16: 0 | I16: 0 | J16: 0 | K16: 0 | L16: 0 | M16: 0 | N16: 0 | O16: 0 | P16: 0 | Q16: =SUM(E16:P16) -> 0
A17: <<60010014 | B17: <<10099 | D17: Comm - Other 佣金 - 其他 | E17: 0 | F17: 0 | G17: 0 | H17: 0 | I17: 0 | J17: 0 | K17: 0 | L17: 0 | M17: 0 | N17: 0 | O17: 0 | P17: 0 | Q17: =SUM(E17:P17) -> 0
A18: <<60010021 | B18: <<10099 | D18: Complimentaries - Give Away 免费赠送 | E18: 0 | F18: 0 | G18: 0 | H18: 0 | I18: 0 | J18: 0 | K18: 0 | L18: 0 | M18: 0 | N18: 0 | O18: 0 | P18: 0 | Q18: =SUM(E18:P18) -> 0
