Workbook
Name BUCODE: [1]Parameter!$C$5
Name BUCODE: [1]Parameter!$C$5
Name BUCODE: [1]Parameter!$C$5
Name BUCODE: [2]Parameter!$C$5
Name BUCODE: [2]Parameter!$C$5
Name BUCODE: [2]Parameter!$C$5
Name BUCODE: [2]Parameter!$C$5
Name BUCODE: [1]Parameter!$C$5
Name BUCODE: [1]Parameter!$C$5
Name BUCODE: [1]Parameter!$C$5
Name BUCODE: [1]Parameter!$C$5
Name BUCODE: [2]Parameter!$C$5
Name BUCODE: [1]Parameter!$C$5
Name BUCODE: [2]Parameter!$C$5
Name BUCODE: [2]Parameter!$C$5
Name BUCODE: [2]Parameter!$C$5
Name BUCODE: [2]Parameter!$C$5
Name BUCODE: [1]Parameter!$C$5
Name BUCODE: [1]Parameter!$C$5
Name BUCODE: [1]Parameter!$C$5
Name BUCODE: [2]Parameter!$C$5
Name BUCODE: [2]Parameter!$C$5
Name BUCODE: [2]Parameter!$C$5
Name BUCODE: [1]Parameter!$C$5
Name BUCODE: [1]Parameter!$C$5
Name BUCODE: Parameter!$C$5
Name BUCODE_2: [3]Parameter!$C$6
Name BUCODE_2: [3]Parameter!$C$6
Name BUCODE_2: [3]Parameter!$C$6
Name BUCODE_2: [3]Parameter!$C$6
Name BUCODE_2: [3]Parameter!$C$6
Name BUCODE_2: [3]Parameter!$C$6
Name BUCODE_2: [3]Parameter!$C$6
Name BUCODE_2: [3]Parameter!$C$6
Name BUCODE_2: [4]Parameter!$C$6
Name CP: [1]Parameter!$C$7
Name CP: [1]Parameter!$C$7
Name CP: [1]Parameter!$C$7
Name CP: [2]Parameter!$C$7
Name CP: [2]Parameter!$C$7
Name CP: [2]Parameter!$C$7
Name CP: [2]Parameter!$C$7
Name CP: [1]Parameter!$C$7
Name CP: [1]Parameter!$C$7
Name CP: [1]Parameter!$C$7
Name CP: [1]Parameter!$C$7
Name CP: [2]Parameter!$C$7
Name CP: [1]Parameter!$C$7
Name CP: [2]Parameter!$C$7
Name CP: [2]Parameter!$C$7
Name CP: [2]Parameter!$C$7
Name CP: [2]Parameter!$C$7
Name CP: [1]Parameter!$C$7
Name CP: [1]Parameter!$C$7
Name CP: [1]Parameter!$C$7
Name CP: [2]Parameter!$C$7
Name CP: [2]Parameter!$C$7
Name CP: [2]Parameter!$C$7
Name CP: [1]Parameter!$C$7
Name CP: [1]Parameter!$C$7

Sheet Ls_XLB_WorkbookFile

Sheet Ls_AgXLB_WorkbookFile

Sheet Version
A1: v1.0 | B1: 43136 | C1: Uranus | D1: First Release

Sheet Parameter
B2: Hotel Name | C2: #NAME?
C3: #NAME?
B5: Bsiness Unit | C5: B31
B7: Period: | C7: 2018003
B8: Year | C8: =LEFT(CP,4) -> 2018 | D8: 公式单元格，不需要输入
B9: First Period | C9: =LEFT(CP,4)&"001" -> 2018001 | D9: 公式单元格，不需要输入
B11: Current Period LY | C11: =CP-1000 -> 2017003 | D11: 公式单元格，不需要输入
B13: First Period LY | C13: =C9-1000 -> 2017001 | D13: 公式单元格，不需要输入
B15: Budget | C15: B

Sheet Summary
D1: DMH-MHUBNJ | R1: 2018001
R2: 2018012
R3: B
D4: Hotel Budget Report
D5: 酒店预算报表
D6: Income Statement
D7: 2025
E9: 1 | F9: 2 | G9: 3 | H9: 4 | I9: 5 | J9: 6 | K9: 7 | L9: 8 | M9: 9 | N9: 10 | O9: 11 | P9: 12 | Q9: 2025 | R9: 2018
A10: Account | B10: Dept | E10: BUDGET | F10: BUDGET | G10: BUDGET | H10: BUDGET | I10: BUDGET | J10: BUDGET | K10: BUDGET | L10: BUDGET | M10: BUDGET | N10: BUDGET | O10: BUDGET | P10: BUDGET | Q10: BUDGET | R10: ACT + FCST | T10: Last Year Budget | U10: LY Act 9 + Fcst 3
A11: <<30100110..30100192,38108100,39810200..39810300 | B11: <<10099..10999 | D11: Rooms Revenue 客房收入 | E11: ='Rooms Summary'!E20 -> 1389650 | F11: ='Rooms Summary'!F20 -> 1221792.5 | G11: ='Rooms Summary'!G20 -> 1628432.5 | H11: ='Rooms Summary'!H20 -> 1851742.2 | I11: ='Rooms Summary'!I20 -> 1950237.3 | J11: ='Rooms Summary'!J20 -> 1741632.2 | K11: ='Rooms Summary'!K20 -> 1986262.3 | L11: ='Rooms Summary'!L20 -> 2036862.3 | ... P11: ='Rooms Summary'!P20 -> 1967232.3 | Q11: =SUM(E11:P11) -> 22000473 | R11: 48895292 | S11: =Q11/$Q$16 -> 0.66151336 | T11: 20169264 | U11: 22316676 | V11: =Q11-U11 -> -316203.02
A12: <<30200210..30400050,38108100,39810200..39810300 | B12: <<20001..29999 | D12: Food and Beverage Revenue 餐饮收入 | E12: =+'F&B Summary'!E50 -> 822696 | F12: =+'F&B Summary'!F50 -> 547052 | G12: =+'F&B Summary'!G50 -> 666028 | H12: =+'F&B Summary'!H50 -> 872788 | I12: =+'F&B Summary'!I50 -> 1098624 | J12: =+'F&B Summary'!J50 -> 827168 | K12: =+'F&B Summary'!K50 -> 934568 | L12: =+'F&B Summary'!L50 -> 957208 | ... P12: =+'F&B Summary'!P50 -> 790008 | Q12: =SUM(E12:P12) -> 10650064 | R12: 39757381 | S12: =Q12/$Q$16 -> 0.32022764 | T12: 11086516 | U12: 10786585 | V12: =Q12-U12 -> -136520.68
A13: <<36010011..36800100,37013000,38108100,39810200..39810300 | B13: <<31099..39000 | D13: Other Operating Dept. Revenue 其他运营部门收入 | E13: =+SUM(OOD!E12:E26) -> 8500 | F13: =+SUM(OOD!F12:F26) -> 8500 | G13: =+SUM(OOD!G12:G26) -> 7500 | H13: =+SUM(OOD!H12:H26) -> 7500 | I13: =+SUM(OOD!I12:I26) -> 8500 | J13: =+SUM(OOD!J12:J26) -> 7500 | K13: =+SUM(OOD!K12:K26) -> 7500 | L13: =+SUM(OOD!L12:L26) -> 7500 | ... P13: =+SUM(OOD!P12:P26) -> 8800 | Q13: =SUM(E13:P13) -> 96600 | R13: 2231199.1 | S13: =Q13/$Q$16 -> 0.0029045826 | T13: 32134.9 | U13: 74640.43 | V13: =Q13-U13 -> 21959.57
A14: <<37011000,38108100,39810200..39810300 | B14: <<39801 | D14: Shop&Showcase Revenue 零售和展柜收入 | Q14: =SUM(E14:P14) -> 0 | R14: 0 | S14: =Q14/$Q$16 -> 0 | T14: 0 | U14: 0 | V14: =Q14-U14 -> 0
A15: <<36800200..37010000,37012000..39810300 | B15: <<39801 | D15: Hotel Miscellaneous Revenue 酒店杂项收入 | E15: 39000 | F15: 39000 | G15: 39000 | H15: 39000 | I15: 39000 | J15: =30000+2522+10000 -> 42522 | K15: =33000+2522+10000 -> 45522 | L15: =33000+2522+10000 -> 45522 | M15: =33000+2522+10000 -> 45522 | N15: =33000+2522+10000 -> 45522 | O15: =33000+2522+10000 -> 45522 | P15: =33000+2522+10000 -> 45522 | Q15: =SUM(E15:P15) -> 510654 | R15: 44197.76 | S15: =Q15/$Q$16 -> 0.015354417 | T15: 226064.49 | U15: 297844.46 | V15: =Q15-U15 -> 212809.54
D16: Total Gross Operating Revenue 运营总收入 | E16: =SUBTOTAL(9,E11:E15) -> 2259846 | F16: =SUBTOTAL(9,F11:F15) -> 1816344.5 | G16: =SUBTOTAL(9,G11:G15) -> 2340960.5 | H16: =SUBTOTAL(9,H11:H15) -> 2771030.2 | I16: =SUBTOTAL(9,I11:I15) -> 3096361.3 | J16: =SUBTOTAL(9,J11:J15) -> 2618822.2 | K16: =SUBTOTAL(9,K11:K15) -> 2973852.3 | L16: =SUBTOTAL(9,L11:L15) -> 3047092.3 | ... Q16: =SUBTOTAL(9,Q11:Q15) -> 33257791 | R16: 90928070 | S16: =Q16/$Q$16 -> 1 | T16: =SUBTOTAL(9,T11:T15) -> 31513979 | U16: =SUBTOTAL(9,U11:U15) -> 33475745 | V16: =Q16-U16 -> -217954.59 | Y16: 34163000
A18: <<40200100..69999999 | B18: <<10099..10999 | D18: Rooms Expenses 客房费用 | E18: ='Rooms Summary'!E103+'Rooms Summary'!E156 -> 541450.16 | F18: ='Rooms Summary'!F103+'Rooms Summary'!F156 -> 496938.4 | G18: ='Rooms Summary'!G103+'Rooms Summary'!G156 -> 537739.88 | H18: ='Rooms Summary'!H103+'Rooms Summary'!H156 -> 598657.4 | I18: ='Rooms Summary'!I103+'Rooms Summary'!I156 -> 632966.85 | J18: ='Rooms Summary'!J103+'Rooms Summary'!J156 -> 597130.89 | K18: ='Rooms Summary'!K103+'Rooms Summary'!K156 -> 622141.87 | L18: ='Rooms Summary'!L103+'Rooms Summary'!L156 -> 632662.16 | ... P18: ='Rooms Summary'!P103+'Rooms Summary'!P156 -> 618356.94 | Q18: =SUM(E18:P18) -> 7205287.8 | R18: 12968787 | S18: =Q18/Q11 -> 0.32750605 | T18: 7681307.4 | U18: 7436602.9 | V18: =Q18-U18 -> -231315.05 | W18: 386561.23 | X18: =V18-W18 -> -617876.28
A19: <<40200100..69999999 | B19: <<20001..29999 | D19: Food and Beverage Expenses 餐饮费用 | E19: =+'F&B Summary'!E57+'F&B Summary'!E59+'F&B Summary'!E130 -> 763779.02 | F19: =+'F&B Summary'!F57+'F&B Summary'!F59+'F&B Summary'!F130 -> 653185.82 | G19: =+'F&B Summary'!G57+'F&B Summary'!G59+'F&B Summary'!G130 -> 664869.72 | H19: =+'F&B Summary'!H57+'F&B Summary'!H59+'F&B Summary'!H130 -> 777843.98 | I19: =+'F&B Summary'!I57+'F&B Summary'!I59+'F&B Summary'!I130 -> 921193.79 | J19: =+'F&B Summary'!J57+'F&B Summary'!J59+'F&B Summary'!J130 -> 773177.5 | K19: =+'F&B Summary'!K57+'F&B Summary'!K59+'F&B Summary'!K130 -> 791615.43 | L19: =+'F&B Summary'!L57+'F&B Summary'!L59+'F&B Summary'!L130 -> 791116.34 | ... P19: =+'F&B Summary'!P57+'F&B Summary'!P59+'F&B Summary'!P130 -> 724153.28 | Q19: =SUM(E19:P19) -> 9484081.7 | R19: 30954638 | S19: =Q19/Q12 -> 0.89051875 | T19: 10107967 | U19: 9985055.5 | V19: =Q19-U19 -> -500973.86
A20: <<40200100..69999999 | B20: <<31099..39000 | D20: Other Operating Dept. Expenses 其他运营部门费用 | E20: =+OOD!E98+OOD!E45 -> 33733.87 | F20: =+OOD!F98+OOD!F45 -> 36033.65 | G20: =+OOD!G98+OOD!G45 -> 32376.28 | H20: =+OOD!H98+OOD!H45 -> 33877.53 | I20: =+OOD!I98+OOD!I45 -> 33895.84 | J20: =+OOD!J98+OOD!J45 -> 33909.23 | K20: =+OOD!K98+OOD!K45 -> 33741.78 | L20: =+OOD!L98+OOD!L45 -> 32548.82 | ... P20: =+OOD!P98+OOD!P45 -> 32460.79 | Q20: =SUM(E20:P20) -> 405352.58 | R20: 1022491.6 | S20: =Q20/Q13 -> 4.1961965 | T20: 355216.98 | U20: 252880.28 | V20: =Q20-U20 -> 152472.3
D21: Total Gross Operating Expenses 运营总费用 | E21: =SUBTOTAL(9,E18:E20) -> 1338963 | F21: =SUBTOTAL(9,F18:F20) -> 1186157.9 | G21: =SUBTOTAL(9,G18:G20) -> 1234985.9 | H21: =SUBTOTAL(9,H18:H20) -> 1410378.9 | I21: =SUBTOTAL(9,I18:I20) -> 1588056.5 | J21: =SUBTOTAL(9,J18:J20) -> 1404217.6 | K21: =SUBTOTAL(9,K18:K20) -> 1447499.1 | L21: =SUBTOTAL(9,L18:L20) -> 1456327.3 | ... Q21: =SUBTOTAL(9,Q18:Q20) -> 17094722 | R21: 44945917 | S21: =Q21/Q16 -> 0.51400654 | T21: =SUBTOTAL(9,T18:T20) -> 18144492 | U21: =SUBTOTAL(9,U18:U20) -> 17674539
D23: Rooms Profit 客房利润 | E23: =E$11-E$18 -> 848199.84 | F23: =F$11-F$18 -> 724854.1 | G23: =G$11-G$18 -> 1090692.6 | H23: =H$11-H$18 -> 1253084.8 | I23: =I$11-I$18 -> 1317270.5 | J23: =J$11-J$18 -> 1144501.3 | K23: =K$11-K$18 -> 1364120.4 | L23: =L$11-L$18 -> 1404200.1 | ... P23: =P$11-P$18 -> 1348875.4 | Q23: =SUM(E23:P23) -> 14795185 | R23: 35926504 | S23: =Q23/Q11 -> 0.67249395 | T23: =T11-T18 -> 12487956 | U23: 14880073
D24: Food and Beverage Profit 餐饮利润 | E24: =E$12-E$19 -> 58916.98 | F24: =F$12-F$19 -> -106133.82 | G24: =G$12-G$19 -> 1158.28 | H24: =H$12-H$19 -> 94944.02 | I24: =I$12-I$19 -> 177430.21 | J24: =J$12-J$19 -> 53990.5 | K24: =K$12-K$19 -> 142952.57 | L24: =L$12-L$19 -> 166091.66 | ... P24: =P$12-P$19 -> 65854.72 | Q24: =SUM(E24:P24) -> 1165982.3 | R24: 8802742.6 | S24: =Q24/Q12 -> 0.10948125 | T24: =T12-T19 -> 978548.93 | U24: 801529.15
D25: Other Operating Dept. Profit 其他运营部门利润 | E25: =E$13-E$20 -> -25233.87 | F25: =F$13-F$20 -> -27533.65 | G25: =G$13-G$20 -> -24876.28 | H25: =H$13-H$20 -> -26377.53 | I25: =I$13-I$20 -> -25395.84 | J25: =J$13-J$20 -> -26409.23 | K25: =K$13-K$20 -> -26241.78 | L25: =L$13-L$20 -> -25048.82 | ... P25: =P$13-P$20 -> -23660.79 | Q25: =SUM(E25:P25) -> -308752.58 | R25: 1208707.4 | S25: =Q25/Q13 -> -3.1961965 | T25: =T13-T20 -> -323082.08 | U25: -178239.85
D26: Shop&Showcase Profit 零售和展柜利润 | E26: =E$14 -> 0 | F26: =F$14 -> 0 | G26: =G$14 -> 0 | H26: =H$14 -> 0 | I26: =I$14 -> 0 | J26: =J$14 -> 0 | K26: =K$14 -> 0 | L26: =L$14 -> 0 | ... P26: =P$14 -> 0 | Q26: =SUM(E26:P26) -> 0 | R26: 0 | S26: =Q26/Q14 -> #DIV/0!
D27: Miscellaneous Profit 杂项利润 | E27: =E15-HSKP!E123 -> 30504 | F27: =F15-HSKP!F123 -> 31271 | G27: =G15-HSKP!G123 -> 28837.25 | H27: =H15-HSKP!H123 -> 27058.4 | I27: =I15-HSKP!I123 -> 26674.9 | J27: =J15-HSKP!J123 -> 31022.9 | K27: =K15-HSKP!K123 -> 32518.4 | L27: =L15-HSKP!L123 -> 32367.95 | ... P27: =P15-HSKP!P123 -> 33108.4 | Q27: =SUM(E27:P27) -> 370166.15 | R27: 44197.76 | S27: =Q27/Q15 -> 0.72488642 | T27: =T15 -> 226064.49 | U27: 242169.26
D28: Total Departmental Profit 部门利润合计 | E28: =SUBTOTAL(9,E23:E27) -> 912386.95 | F28: =SUBTOTAL(9,F23:F27) -> 622457.63 | G28: =SUBTOTAL(9,G23:G27) -> 1095811.9 | H28: =SUBTOTAL(9,H23:H27) -> 1348709.7 | I28: =SUBTOTAL(9,I23:I27) -> 1495979.7 | J28: =SUBTOTAL(9,J23:J27) -> 1203105.5 | K28: =SUBTOTAL(9,K23:K27) -> 1513349.6 | L28: =SUBTOTAL(9,L23:L27) -> 1577610.9 | ... Q28: =SUBTOTAL(9,Q23:Q27) -> 16022581 | R28: 45982152 | S28: =Q28/Q16 -> 0.48176925 | T28: =SUM(T23:T27) -> 13369487 | U28: =SUM(U23:U27) -> 15745531
A30: <<50010100..699999999 | B30: <<41001..41004,42004,43004 | D30: Administrative and General 行政部门费用 | E30: =+'A&G'!E159 -> 488036.86 | F30: =+'A&G'!F159 -> 518783.8 | G30: =+'A&G'!G159 -> 494381.92 | H30: =+'A&G'!H159 -> 520105.03 | I30: =+'A&G'!I159 -> 504714.39 | J30: =+'A&G'!J159 -> 545160.24 | K30: =+'A&G'!K159 -> 504363.39 | L30: =+'A&G'!L159 -> 524041.71 | ... P30: =+'A&G'!P159 -> 496536.75 | Q30: =SUM(E30:P30) -> 6142877.6 | R30: 12763695 | S30: =Q30/$Q$16 -> 0.18470492 | T30: 6365185.8 | U30: 5799160.5 | V30: =Q30-U30 -> 343717.15
A31: <<50010100..60014800,60014820..699999999 | B31: <<41071..41073 | D31: Marketing and Sales 营销费用 | E31: =+'S&M'!E158-'S&M'!E150 -> 126187.5 | F31: =+'S&M'!F158-'S&M'!F150 -> 126694.1 | G31: =+'S&M'!G158-'S&M'!G150 -> 132507.71 | H31: =+'S&M'!H158-'S&M'!H150 -> 150859.9 | I31: =+'S&M'!I158-'S&M'!I150 -> 273881.87 | J31: =+'S&M'!J158-'S&M'!J150 -> 154897.92 | K31: =+'S&M'!K158-'S&M'!K150 -> 145706.31 | L31: =+'S&M'!L158-'S&M'!L150 -> 150214.76 | ... P31: =+'S&M'!P158-'S&M'!P150 -> 127109.12 | Q31: =SUM(E31:P31) -> 1824705.7 | R31: 4610708.6 | S31: =Q31/$Q$16 -> 0.054865511 | T31: 3142924.7 | U31: 2798099.1 | V31: =Q31-U31 -> -973393.47
A32: <<60014810 | B32: <<41071..41073 | D32: Marketing Fund 市场营销基金 | E32: =+'S&M'!E150 -> 34123.67 | F32: =+'S&M'!F150 -> 27426.8 | G32: =+'S&M'!G150 -> 35348.5 | H32: =+'S&M'!H150 -> 41842.56 | I32: =+'S&M'!I150 -> 46755.06 | J32: =+'S&M'!J150 -> 39544.22 | K32: =+'S&M'!K150 -> 44905.17 | L32: =+'S&M'!L150 -> 46011.09 | ... P32: =+'S&M'!P150 -> 42454.59 | Q32: =SUM(E32:P32) -> 502192.64 | R32: 1402591.1 | S32: =Q32/$Q$16 -> 0.0151 | T32: 472927.29 | U32: 505777.72 | V32: =Q32-U32 -> -3585.0845
A33: <<50010100..699999999 | B33: <<41006 | D33: Repairs and Maintenance 工程维修维护费 | E33: =+'R&M'!E159 -> 202071.79 | F33: =+'R&M'!F159 -> 205822.81 | G33: =+'R&M'!G159 -> 200794.3 | H33: =+'R&M'!H159 -> 222627.25 | I33: =+'R&M'!I159 -> 221656.54 | J33: =+'R&M'!J159 -> 217677.95 | K33: =+'R&M'!K159 -> 254659.08 | L33: =+'R&M'!L159 -> 219670.35 | ... P33: =+'R&M'!P159 -> 212529.51 | Q33: =SUM(E33:P33) -> 2609510.4 | R33: 3141775 | S33: =Q33/$Q$16 -> 0.078463132 | T33: 2550762.6 | U33: 2334948.8 | V33: =Q33-U33 -> 274561.65
A34: <<50010100..699999999 | B34: <<41005 | D34: Utilities 能源 | E34: =+Utilities!E18 -> 346395.51 | F34: =+Utilities!F18 -> 308736.68 | G34: =+Utilities!G18 -> 224020.55 | H34: =+Utilities!H18 -> 173824.99 | I34: =+Utilities!I18 -> 211381.13 | J34: =+Utilities!J18 -> 234786.52 | K34: =+Utilities!K18 -> 285463.78 | L34: =+Utilities!L18 -> 295559.08 | ... P34: =+Utilities!P18 -> 361014 | Q34: =SUM(E34:P34) -> 3122070.2 | R34: 8485679.3 | S34: =Q34/$Q$16 -> 0.093874854 | T34: 3440499.1 | U34: 3084420.5 | V34: =Q34-U34 -> 37649.69 | W34: 调整去年账务16万 | X34: =U34/U16 -> 0.092138966
D35: Total Undistributed Operating Expenses 其他费用合计 | E35: =SUBTOTAL(9,E30:E34) -> 1196815.3 | F35: =SUBTOTAL(9,F30:F34) -> 1187464.2 | G35: =SUBTOTAL(9,G30:G34) -> 1087053 | H35: =SUBTOTAL(9,H30:H34) -> 1109259.7 | I35: =SUBTOTAL(9,I30:I34) -> 1258389 | J35: =SUBTOTAL(9,J30:J34) -> 1192066.9 | K35: =SUBTOTAL(9,K30:K34) -> 1235097.7 | L35: =SUBTOTAL(9,L30:L34) -> 1235497 | ... Q35: =SUBTOTAL(9,Q30:Q34) -> 14201357 | R35: 30404449 | S35: =Q35/$Q$16 -> 0.42700842 | T35: =SUBTOTAL(9,T30:T34) -> 15972299 | U35: =SUBTOTAL(9,U30:U34) -> 14522407
D36: Gross Operating Profit 经营毛利额 | E36: =E28-E35 -> -284428.38 | F36: =F28-F35 -> -565006.56 | G36: =G28-G35 -> 8758.89 | H36: =H28-H35 -> 239449.96 | I36: =I28-I35 -> 237590.73 | J36: =J28-J35 -> 11038.63 | K36: =K28-K35 -> 278251.89 | L36: =L28-L35 -> 342113.94 | ... Q36: =Q28-Q35 -> 1821224.2 | R36: 15577703 | S36: =Q36/$Q$16 -> 0.05476083 | T36: =T28-T35 -> -2602811.9 | U36: =U28-U35 -> 1223124.8 | Y36: 1723000 | Z36: =Q36-Y36 -> 98224.24
D37: Gross Operating Profit % 经营毛利率% | E37: =IF(E36=0,0,E36/E16) -> -0.12586184 | F37: =IF(F36=0,0,F36/F16) -> -0.31106795 | G37: =IF(G36=0,0,G36/G16) -> 0.0037415796 | H37: =IF(H36=0,0,H36/H16) -> 0.086411891 | I37: =IF(I36=0,0,I36/I16) -> 0.076732237 | J37: =IF(J36=0,0,J36/J16) -> 0.0042151124 | K37: =IF(K36=0,0,K36/K16) -> 0.093566143 | L37: =IF(L36=0,0,L36/L16) -> 0.11227554 | ... Q37: =IF(Q36=0,0,Q36/Q16) -> 0.05476083 | R37: 0.17131896 | T37: =IF(T36=0,0,T36/T16) -> -0.082592296 | U37: =IF(U36=0,0,U36/U16) -> 0.036537642
A39: <<70010100 | B39: <<70011 | D39: Basic Management Fees 基本管理费 | E39: ='Fixed Charge'!E14 -> 42638.6 | F39: ='Fixed Charge'!F14 -> 34270.65 | G39: ='Fixed Charge'!G14 -> 44169.07 | H39: ='Fixed Charge'!H14 -> 52283.59 | I39: ='Fixed Charge'!I14 -> 58421.91 | J39: ='Fixed Charge'!J14 -> 49411.74 | K39: ='Fixed Charge'!K14 -> 56110.42 | L39: ='Fixed Charge'!L14 -> 57492.31 | ... P39: ='Fixed Charge'!P14 -> 53048.35 | Q39: =SUM(E39:P39) -> 627505.5 | R39: 1756590.6 | S39: =Q39/$Q$16 -> 0.018867925 | T39: 594603.4 | U39: 631617.84
A40: <<70010200 | B40: <<70011 | D40: Incentive Management Fees 奖励管理费 | E40: 0 | F40: 0 | G40: 0 | H40: 0 | I40: 0 | J40: 0 | K40: 0 | L40: =ROUND((SUM(E36:L36)-SUM(E16:L16)*0.005)*4%/1.06,2) -> 6156.51 | M40: =ROUND((M36-M16*0.005)*4%/1.06,2) -> 15108 | N40: =ROUND((N36-N16*0.005)*4%/1.06,2) -> 19181.84 | O40: =ROUND((O36-O16*0.005)*4%/1.06,2) -> 15570.99 | P40: =ROUND((P36-P16*0.005)*4%/1.06,2) -> 6433.05 | Q40: =SUM(E40:P40) -> 62450.39 | R40: 536009.06 | S40: =Q40/$Q$16 -> 0.0018777672 | T40: 0 | U40: 39839.469
D41: Profit Before Fixed Charges 固定费用前利润 | E41: =E36-E39-E40 -> -327066.98 | F41: =F36-F39-F40 -> -599277.21 | G41: =G36-G39-G40 -> -35410.18 | H41: =H36-H39-H40 -> 187166.37 | I41: =I36-I39-I40 -> 179168.82 | J41: =J36-J39-J40 -> -38373.11 | K41: =K36-K39-K40 -> 222141.47 | L41: =L36-L39-L40 -> 278465.12 | ... Q41: =Q36-Q39-Q40 -> 1131268.3 | R41: 13285103 | S41: =Q41/$Q$16 -> 0.034015138 | T41: =T36-T39-T40 -> -3197415.3 | U41: =U36-U39-U40 -> 551667.5
A43: <<70010300..70010400 | B43: <<70011 | D43: Rent 房租 | E43: ='Fixed Charge'!E17 -> 61300 | F43: ='Fixed Charge'!F17 -> 61300 | G43: ='Fixed Charge'!G17 -> 61300 | H43: ='Fixed Charge'!H17 -> 61300 | I43: ='Fixed Charge'!I17 -> 61300 | J43: ='Fixed Charge'!J17 -> 61300 | K43: ='Fixed Charge'!K17 -> 61300 | L43: ='Fixed Charge'!L17 -> 61300 | ... P43: ='Fixed Charge'!P17 -> 61300 | Q43: =SUM(E43:P43) -> 735600 | R43: 1629749.1 | S43: =Q43/$Q$16 -> 0.022118126 | T43: 935900 | U43: 929500
A44: <<70010010 | B44: <<70011 | D44: Tax and Related Fees 税金及相关附加费 | E44: ='Fixed Charge'!E13 -> 0 | F44: ='Fixed Charge'!F13 -> 0 | G44: ='Fixed Charge'!G13 -> 0 | H44: ='Fixed Charge'!H13 -> 2000 | I44: ='Fixed Charge'!I13 -> 0 | J44: ='Fixed Charge'!J13 -> 0 | K44: ='Fixed Charge'!K13 -> 0 | L44: ='Fixed Charge'!L13 -> 2000 | ... P44: ='Fixed Charge'!P13 -> 2000 | Q44: =SUM(E44:P44) -> 6000 | R44: 262762.54 | S44: =Q44/$Q$16 -> 0.00018040886 | T44: 3300 | U44: 3333.84
A45: <<70010800..70011000 | B45: <<70011 | D45: Insurance 保险 | E45: ='Fixed Charge'!E22+'Fixed Charge'!E23+'Fixed Charge'!E21 -> 0 | F45: ='Fixed Charge'!F22+'Fixed Charge'!F23+'Fixed Charge'!F21 -> 0 | G45: ='Fixed Charge'!G22+'Fixed Charge'!G23+'Fixed Charge'!G21 -> 0 | H45: ='Fixed Charge'!H22+'Fixed Charge'!H23+'Fixed Charge'!H21 -> 0 | I45: ='Fixed Charge'!I22+'Fixed Charge'!I23+'Fixed Charge'!I21 -> 0 | J45: ='Fixed Charge'!J22+'Fixed Charge'!J23+'Fixed Charge'!J21 -> 0 | K45: ='Fixed Charge'!K22+'Fixed Charge'!K23+'Fixed Charge'!K21 -> 0 | L45: ='Fixed Charge'!L22+'Fixed Charge'!L23+'Fixed Charge'!L21 -> 0 | ... P45: ='Fixed Charge'!P22+'Fixed Charge'!P23+'Fixed Charge'!P21 -> 0 | Q45: =SUM(E45:P45) -> 0 | R45: 342064.34 | S45: =Q45/$Q$16 -> 0
A46: <<70010600 | B46: <<70011 | D46: Others 其他 | E46: ='Fixed Charge'!E18+'Fixed Charge'!E19 -> 0 | F46: ='Fixed Charge'!F18+'Fixed Charge'!F19 -> 0 | G46: ='Fixed Charge'!G18+'Fixed Charge'!G19 -> 0 | H46: ='Fixed Charge'!H18+'Fixed Charge'!H19 -> 0 | I46: ='Fixed Charge'!I18+'Fixed Charge'!I19 -> 0 | J46: ='Fixed Charge'!J18+'Fixed Charge'!J19 -> 0 | K46: ='Fixed Charge'!K18+'Fixed Charge'!K19 -> 0 | L46: ='Fixed Charge'!L18+'Fixed Charge'!L19 -> 0 | ... P46: ='Fixed Charge'!P18+'Fixed Charge'!P19 -> 0 | Q46: =SUM(E46:P46) -> 0 | R46: 0
...

Sheet Rooms Summary
D4: =Summary!D4 -> Hotel Budget Report
D5: =Summary!$D$5 -> 酒店预算报表
D6: Rooms Summary 房务部损益
D7: 2025 | Q7: =SUM(E7:P7) -> 0
E9: 1 | F9: 2 | G9: 3 | H9: 4 | I9: 5 | J9: 6 | K9: 7 | L9: 8 | M9: 9 | N9: 10 | O9: 11 | P9: 12 | Q9: 2025
A10: Account | B10: Dept | C10: L2 | E10: BUDGET | F10: BUDGET | G10: BUDGET | H10: BUDGET | I10: BUDGET | J10: BUDGET | K10: BUDGET | L10: BUDGET | M10: BUDGET | N10: BUDGET | O10: BUDGET | P10: BUDGET | Q10: BUDGET
D11: REVENUE 收入
A12: <<30100110..30100180 | B12: <<10100 | C12: <<LDTA,LDMW,LINW | D12: T&A 旅行社 | Q12: =SUM(E12:P12) -> 0 | R12: =Q12/$Q$17 -> 0
A13: <<30100110..30100180 | B13: <<10100 | C13: <<TFIT,LWMM,ADV,TPKG,OPKG,TGDS,TWMM,TDMH | D13: FIT 散客 | E13: 605000 | F13: 459175 | G13: 655575 | H13: 746675 | I13: 835325 | J13: 655575 | K13: 719875 | L13: 811875 | M13: 713775 | N13: 878850 | O13: 723175 | P13: 727575 | Q13: =SUM(E13:P13) -> 8532450 | R13: =Q13/$Q$17 -> 0.42661333
A14: <<30100110..30100180 | B14: <<10100 | C14: <<TSMG,LDMA,VCOR,VSMF,VASS,GOT,VINC,LDSE,LISE,LINA | D14: Group 团队 | E14: 245000 | F14: 232000 | G14: 359000 | H14: 400000 | I14: 391800 | J14: 391000 | K14: 462000 | L14: 426000 | M14: 472000 | N14: 485500 | O14: 472000 | P14: 433000 | Q14: =SUM(E14:P14) -> 4769300 | R14: =Q14/$Q$17 -> 0.23845988
A15: <<30100110..30100180 | B15: <<10100 | C15: <<TCOR,COA,COB,COC,COS,OOWN,TIND,TPAR | D15: Corp 商务 | E15: 317500 | F15: 333000 | G15: 370000 | H15: 444000 | I15: 450000 | J15: 444000 | K15: 528000 | L15: 518000 | M15: 570000 | N15: 494000 | O15: 570000 | P15: 532000 | Q15: =SUM(E15:P15) -> 5570500 | R15: =Q15/$Q$17 -> 0.27851901
A16: <<30100110..30100180 | B16: <<10100 | C16: <<LSG | D16: Contract 合同 | E16: 95818.18 | F16: 86545.45 | G16: 95818.18 | H16: 92727 | I16: 95818 | J16: 92727 | K16: 95818 | L16: 95818 | M16: 92727 | N16: 95818 | O16: 92727 | P16: 95818 | Q16: =SUM(E16:P16) -> 1128179.8 | R16: =Q16/$Q$17 -> 0.056407778
D17: Rooms Revenue 房费收入 | E17: =SUM(E12:E16) -> 1263318.2 | F17: =SUM(F12:F16) -> 1110720.4 | G17: =SUM(G12:G16) -> 1480393.2 | H17: =SUM(H12:H16) -> 1683402 | I17: =SUM(I12:I16) -> 1772943 | J17: =SUM(J12:J16) -> 1583302 | K17: =SUM(K12:K16) -> 1805693 | L17: =SUM(L12:L16) -> 1851693 | ... Q17: =SUM(Q12:Q16) -> 20000430 | R17: =Q17/$Q$17 -> 1
A18: <<38108100 | B18: <<10100 | D18: Service Charge 服务费 | E18: =ROUND(E17*0.1,2) -> 126331.82 | F18: =ROUND(F17*0.1,2) -> 111072.05 | G18: =ROUND(G17*0.1,2) -> 148039.32 | H18: =ROUND(H17*0.1,2) -> 168340.2 | I18: =ROUND(I17*0.1,2) -> 177294.3 | J18: =ROUND(J17*0.1,2) -> 158330.2 | K18: =ROUND(K17*0.1,2) -> 180569.3 | L18: =ROUND(L17*0.1,2) -> 185169.3 | ... P18: =ROUND(P17*0.1,2) -> 178839.3 | Q18: =SUM(E18:P18) -> 2000043
A19: <<30100190..30100192 | B19: <<10100 | D19: Other Revenue 其他收入 | J19: 0 | K19: 0 | L19: 0 | M19: 0 | N19: 0 | O19: 0 | P19: 0 | Q19: =SUM(E19:P19) -> 0
D20: Total Rooms Revenue 客房收入合计 | E20: =E17+E18+E19 -> 1389650 | F20: =F17+F18+F19 -> 1221792.5 | G20: =G17+G18+G19 -> 1628432.5 | H20: =H17+H18+H19 -> 1851742.2 | I20: =I17+I18+I19 -> 1950237.3 | J20: =J17+J18+J19 -> 1741632.2 | K20: =K17+K18+K19 -> 1986262.3 | L20: =L17+L18+L19 -> 2036862.3 | ... Q20: =Q17+Q18+Q19 -> 22000473
D22: Rooms Sold付费房间数
D23: T&A 旅行社 | Q23: =SUM(E23:P23) -> 0
D24: FIT 散客 | E24: 1020 | F24: 790 | G24: 1135 | H24: 1285 | I24: 1405 | J24: 1135 | K24: 1235 | L24: 1385 | M24: 1235 | N24: 1460 | O24: 1235 | P24: 1135 | Q24: =SUM(E24:P24) -> 14455
D25: Group 团队 | E25: 700 | F25: 650 | G25: 1000 | H25: 1100 | I25: 1100 | J25: 1100 | K25: 1300 | L25: 1200 | M25: 1300 | N25: 1350 | O25: 1200 | P25: 1200 | Q25: =SUM(E25:P25) -> 13200
D26: Corp 商务 | E26: 850 | F26: 900 | G26: 1000 | H26: 1200 | I26: 1200 | J26: 1200 | K26: 1400 | L26: 1400 | M26: 1500 | N26: 1300 | O26: 1500 | P26: 1400 | Q26: =SUM(E26:P26) -> 14850
D27: Contract 合同 | E27: 310 | F27: 280 | G27: 310 | H27: 300 | I27: 310 | J27: 300 | K27: 310 | L27: 310 | M27: 300 | N27: 310 | O27: 300 | P27: 310 | Q27: =SUM(E27:P27) -> 3650
D28: Total Rooms Sold总付费房间数 | E28: =SUM(E23:E27) -> 2880 | F28: =SUM(F23:F27) -> 2620 | G28: =SUM(G23:G27) -> 3445 | H28: =SUM(H23:H27) -> 3885 | I28: =SUM(I23:I27) -> 4015 | J28: =SUM(J23:J27) -> 3735 | K28: =SUM(K23:K27) -> 4245 | L28: =SUM(L23:L27) -> 4295 | ... P28: =SUM(P23:P27) -> 4045 | Q28: =SUM(E28:P28) -> 46155
D29: Total Rooms 总房间数 | E29: =E107 -> 6293 | F29: =F107 -> 5684 | G29: =G107 -> 6293 | H29: =H107 -> 6090 | I29: =I107 -> 6293 | J29: =J107 -> 6090 | K29: =K107 -> 6293 | L29: =L107 -> 6293 | ... P29: =P107 -> 6293 | Q29: =SUM(E29:P29) -> 74095
D30: Paid Occupancy 付费房入住率 | E30: =E28/E29 -> 0.45765136 | F30: =F28/F29 -> 0.460943 | G30: =G28/G29 -> 0.54743366 | H30: =H28/H29 -> 0.63793103 | I30: =I28/I29 -> 0.63801049 | J30: =J28/J29 -> 0.61330049 | K30: =K28/K29 -> 0.67455903 | L30: =L28/L29 -> 0.68250437 | ... Q30: =Q28/Q29 -> 0.62291653
D31: Average Rate 平均房费 | E31: =E20/E28 -> 482.51736 | F31: =F20/F28 -> 466.33302 | G31: =G20/G28 -> 472.69448 | H31: =H20/H28 -> 476.63892 | I31: =I20/I28 -> 485.73781 | J31: =J20/J28 -> 466.30046 | K31: =K20/K28 -> 467.90631 | L31: =L20/L28 -> 474.24035 | ... Q31: =Q20/Q28 -> 476.66499
A33: <<5..59999999 | B33: <<10200,10300,10400,10099 | D33: Total Labour Costs 人工成本合计 | E33: ='Front Office'!E11+HSKP!E11+Reservation!E11+'ROOMS Admin'!E11 -> 364741.06 | F33: ='Front Office'!F11+HSKP!F11+Reservation!F11+'ROOMS Admin'!F11 -> 350255.29 | G33: ='Front Office'!G11+HSKP!G11+Reservation!G11+'ROOMS Admin'!G11 -> 354015.45 | H33: ='Front Office'!H11+HSKP!H11+Reservation!H11+'ROOMS Admin'!H11 -> 373610.56 | I33: ='Front Office'!I11+HSKP!I11+Reservation!I11+'ROOMS Admin'!I11 -> 384122.56 | J33: ='Front Office'!J11+HSKP!J11+Reservation!J11+'ROOMS Admin'!J11 -> 366135.56 | K33: ='Front Office'!K11+HSKP!K11+Reservation!K11+'ROOMS Admin'!K11 -> 373535.45 | L33: ='Front Office'!L11+HSKP!L11+Reservation!L11+'ROOMS Admin'!L11 -> 374630.45 | ... P33: ='Front Office'!P11+HSKP!P11+Reservation!P11+'ROOMS Admin'!P11 -> 371155.45 | Q33: =SUM(E33:P33) -> 4480235.2 | R33: =Q33/$Q$20 -> 0.20364268 | S33: =Q33/Q28 -> 97.069336
D35: OPERATING EXPENSES 营运费用 | R35: CPOR
A36: <<60010011 | B36: <<10200,10300,10400,10099 | D36: Comm - Travel Agents 佣金 - 旅行社 | E36: ='Front Office'!E14+HSKP!E14+Reservation!E14+'ROOMS Admin'!E14 -> 55622.64 | F36: ='Front Office'!F14+HSKP!F14+Reservation!F14+'ROOMS Admin'!F14 -> 41924.53 | G36: ='Front Office'!G14+HSKP!G14+Reservation!G14+'ROOMS Admin'!G14 -> 59773.58 | H36: ='Front Office'!H14+HSKP!H14+Reservation!H14+'ROOMS Admin'!H14 -> 69165.09 | I36: ='Front Office'!I14+HSKP!I14+Reservation!I14+'ROOMS Admin'!I14 -> 76922.17 | J36: ='Front Office'!J14+HSKP!J14+Reservation!J14+'ROOMS Admin'!J14 -> 59773.58 | K36: ='Front Office'!K14+HSKP!K14+Reservation!K14+'ROOMS Admin'!K14 -> 66363.21 | L36: ='Front Office'!L14+HSKP!L14+Reservation!L14+'ROOMS Admin'!L14 -> 75910.38 | ... P36: ='Front Office'!P14+HSKP!P14+Reservation!P14+'ROOMS Admin'!P14 -> 67037.74 | Q36: =SUM(E36:P36) -> 785021.22 | R36: =Q36/$Q$111 -> 17.008368 | S36: =Q36/$Q$20 -> 0.035682016 | T36: 26.388484
A37: <<60010012 | B37: <<10200,10300,10400,10099 | D37: Comm - Reservation Assessments 客房系统预定费 | E37: ='Front Office'!E15+HSKP!E15+Reservation!E15+'ROOMS Admin'!E15 -> 0 | F37: ='Front Office'!F15+HSKP!F15+Reservation!F15+'ROOMS Admin'!F15 -> 0 | G37: ='Front Office'!G15+HSKP!G15+Reservation!G15+'ROOMS Admin'!G15 -> 0 | H37: ='Front Office'!H15+HSKP!H15+Reservation!H15+'ROOMS Admin'!H15 -> 0 | I37: ='Front Office'!I15+HSKP!I15+Reservation!I15+'ROOMS Admin'!I15 -> 0 | J37: ='Front Office'!J15+HSKP!J15+Reservation!J15+'ROOMS Admin'!J15 -> 0 | K37: ='Front Office'!K15+HSKP!K15+Reservation!K15+'ROOMS Admin'!K15 -> 0 | L37: ='Front Office'!L15+HSKP!L15+Reservation!L15+'ROOMS Admin'!L15 -> 0 | ... P37: ='Front Office'!P15+HSKP!P15+Reservation!P15+'ROOMS Admin'!P15 -> 0 | Q37: =SUM(E37:P37) -> 0 | R37: =Q37/$Q$111 -> 0 | S37: =Q37/$Q$20 -> 0 | T37: 0
A38: <<60010013 | B38: <<10200,10300,10400,10099 | D38: Comm - DMH Reservation Fees DMH预订系统费用 | E38: ='Front Office'!E16+HSKP!E16+Reservation!E16+'ROOMS Admin'!E16 -> 0 | F38: ='Front Office'!F16+HSKP!F16+Reservation!F16+'ROOMS Admin'!F16 -> 0 | G38: ='Front Office'!G16+HSKP!G16+Reservation!G16+'ROOMS Admin'!G16 -> 0 | H38: ='Front Office'!H16+HSKP!H16+Reservation!H16+'ROOMS Admin'!H16 -> 0 | I38: ='Front Office'!I16+HSKP!I16+Reservation!I16+'ROOMS Admin'!I16 -> 0 | J38: ='Front Office'!J16+HSKP!J16+Reservation!J16+'ROOMS Admin'!J16 -> 0 | K38: ='Front Office'!K16+HSKP!K16+Reservation!K16+'ROOMS Admin'!K16 -> 0 | L38: ='Front Office'!L16+HSKP!L16+Reservation!L16+'ROOMS Admin'!L16 -> 0 | ... P38: ='Front Office'!P16+HSKP!P16+Reservation!P16+'ROOMS Admin'!P16 -> 0 | Q38: =SUM(E38:P38) -> 0 | R38: =Q38/$Q$111 -> 0 | S38: =Q38/$Q$20 -> 0 | T38: 0
A39: <<60010014 | B39: <<10200,10300,10400,10099 | D39: Comm - Other 佣金 - 其他 | E39: ='Front Office'!E17+HSKP!E17+Reservation!E17+'ROOMS Admin'!E17 -> 0 | F39: ='Front Office'!F17+HSKP!F17+Reservation!F17+'ROOMS Admin'!F17 -> 0 | G39: ='Front Office'!G17+HSKP!G17+Reservation!G17+'ROOMS Admin'!G17 -> 0 | H39: ='Front Office'!H17+HSKP!H17+Reservation!H17+'ROOMS Admin'!H17 -> 0 | I39: ='Front Office'!I17+HSKP!I17+Reservation!I17+'ROOMS Admin'!I17 -> 0 | J39: ='Front Office'!J17+HSKP!J17+Reservation!J17+'ROOMS Admin'!J17 -> 0 | K39: ='Front Office'!K17+HSKP!K17+Reservation!K17+'ROOMS Admin'!K17 -> 0 | L39: ='Front Office'!L17+HSKP!L17+Reservation!L17+'ROOMS Admin'!L17 -> 0 | ... P39: ='Front Office'!P17+HSKP!P17+Reservation!P17+'ROOMS Admin'!P17 -> 0 | Q39: =SUM(E39:P39) -> 0 | R39: =Q39/$Q$111 -> 0 | S39: =Q39/$Q$20 -> 0 | T39: 0
A40: <<60010021 | B40: <<10200,10300,10400,10099 | D40: Complimentaries - Give Away 免费赠送 | E40: ='Front Office'!E18+HSKP!E18+Reservation!E18+'ROOMS Admin'!E18 -> 9441 | F40: ='Front Office'!F18+HSKP!F18+Reservation!F18+'ROOMS Admin'!F18 -> 8168 | G40: ='Front Office'!G18+HSKP!G18+Reservation!G18+'ROOMS Admin'!G18 -> 10034.25 | H40: ='Front Office'!H18+HSKP!H18+Reservation!H18+'ROOMS Admin'!H18 -> 10667.4 | I40: ='Front Office'!I18+HSKP!I18+Reservation!I18+'ROOMS Admin'!I18 -> 11803.9 | J40: ='Front Office'!J18+HSKP!J18+Reservation!J18+'ROOMS Admin'!J18 -> 10509.9 | K40: ='Front Office'!K18+HSKP!K18+Reservation!K18+'ROOMS Admin'!K18 -> 11045.4 | L40: ='Front Office'!L18+HSKP!L18+Reservation!L18+'ROOMS Admin'!L18 -> 11098.95 | ... P40: ='Front Office'!P18+HSKP!P18+Reservation!P18+'ROOMS Admin'!P18 -> 10835.4 | Q40: =SUM(E40:P40) -> 127008.15 | R40: =Q40/$Q$111 -> 2.7517745 | S40: =Q40/$Q$20 -> 0.0057729737 | T40: 1.5628585
A41: <<60010022 | B41: <<10200,10300,10400,10099 | D41: Complimentary Food&Beverage 免费餐饮 | E41: ='Front Office'!E19+HSKP!E19+Reservation!E19+'ROOMS Admin'!E19 -> 6300 | F41: ='Front Office'!F19+HSKP!F19+Reservation!F19+'ROOMS Admin'!F19 -> 5300 | G41: ='Front Office'!G19+HSKP!G19+Reservation!G19+'ROOMS Admin'!G19 -> 6300 | H41: ='Front Office'!H19+HSKP!H19+Reservation!H19+'ROOMS Admin'!H19 -> 6300 | I41: ='Front Office'!I19+HSKP!I19+Reservation!I19+'ROOMS Admin'!I19 -> 7300 | J41: ='Front Office'!J19+HSKP!J19+Reservation!J19+'ROOMS Admin'!J19 -> 6300 | K41: ='Front Office'!K19+HSKP!K19+Reservation!K19+'ROOMS Admin'!K19 -> 6300 | L41: ='Front Office'!L19+HSKP!L19+Reservation!L19+'ROOMS Admin'!L19 -> 6300 | ... P41: ='Front Office'!P19+HSKP!P19+Reservation!P19+'ROOMS Admin'!P19 -> 6300 | Q41: =SUM(E41:P41) -> 75600 | R41: =Q41/$Q$111 -> 1.6379591 | S41: =Q41/$Q$20 -> 0.0034362898 | T41: 1.4145028
A42: <<60010030 | B42: <<10200,10300,10400,10099 | D42: Competitor Survey竞争对手调研费 | E42: ='Front Office'!E20+HSKP!E20+Reservation!E20+'ROOMS Admin'!E20 -> 0 | F42: ='Front Office'!F20+HSKP!F20+Reservation!F20+'ROOMS Admin'!F20 -> 0 | G42: ='Front Office'!G20+HSKP!G20+Reservation!G20+'ROOMS Admin'!G20 -> 0 | H42: ='Front Office'!H20+HSKP!H20+Reservation!H20+'ROOMS Admin'!H20 -> 0 | I42: ='Front Office'!I20+HSKP!I20+Reservation!I20+'ROOMS Admin'!I20 -> 0 | J42: ='Front Office'!J20+HSKP!J20+Reservation!J20+'ROOMS Admin'!J20 -> 0 | K42: ='Front Office'!K20+HSKP!K20+Reservation!K20+'ROOMS Admin'!K20 -> 0 | L42: ='Front Office'!L20+HSKP!L20+Reservation!L20+'ROOMS Admin'!L20 -> 0 | ... P42: ='Front Office'!P20+HSKP!P20+Reservation!P20+'ROOMS Admin'!P20 -> 0 | Q42: =SUM(E42:P42) -> 0 | R42: =Q42/$Q$111 -> 0 | S42: =Q42/$Q$20 -> 0 | T42: 0
A43: <<60010040 | B43: <<10200,10300,10400,10099 | D43: Contract Cleaning 清洁合同 | E43: ='Front Office'!E21+HSKP!E21+Reservation!E21+'ROOMS Admin'!E21 -> 29836.8 | F43: ='Front Office'!F21+HSKP!F21+Reservation!F21+'ROOMS Admin'!F21 -> 27143.2 | G43: ='Front Office'!G21+HSKP!G21+Reservation!G21+'ROOMS Admin'!G21 -> 35690.2 | H43: ='Front Office'!H21+HSKP!H21+Reservation!H21+'ROOMS Admin'!H21 -> 40248.6 | I43: ='Front Office'!I21+HSKP!I21+Reservation!I21+'ROOMS Admin'!I21 -> 41595.4 | J43: ='Front Office'!J21+HSKP!J21+Reservation!J21+'ROOMS Admin'!J21 -> 38694.6 | K43: ='Front Office'!K21+HSKP!K21+Reservation!K21+'ROOMS Admin'!K21 -> 43978.2 | L43: ='Front Office'!L21+HSKP!L21+Reservation!L21+'ROOMS Admin'!L21 -> 44496.2 | ... P43: ='Front Office'!P21+HSKP!P21+Reservation!P21+'ROOMS Admin'!P21 -> 41906.2 | Q43: =SUM(E43:P43) -> 478165.8 | R43: =Q43/$Q$111 -> 10.36 | S43: =Q43/$Q$20 -> 0.021734342 | T43: 13.459188
A44: <<60010050 | B44: <<10200,10300,10400,10099 | D44: Contract Services 服务合同 | E44: ='Front Office'!E22+HSKP!E22+Reservation!E22+'ROOMS Admin'!E22 -> 0 | F44: ='Front Office'!F22+HSKP!F22+Reservation!F22+'ROOMS Admin'!F22 -> 0 | G44: ='Front Office'!G22+HSKP!G22+Reservation!G22+'ROOMS Admin'!G22 -> 0 | H44: ='Front Office'!H22+HSKP!H22+Reservation!H22+'ROOMS Admin'!H22 -> 0 | I44: ='Front Office'!I22+HSKP!I22+Reservation!I22+'ROOMS Admin'!I22 -> 0 | J44: ='Front Office'!J22+HSKP!J22+Reservation!J22+'ROOMS Admin'!J22 -> 0 | K44: ='Front Office'!K22+HSKP!K22+Reservation!K22+'ROOMS Admin'!K22 -> 0 | L44: ='Front Office'!L22+HSKP!L22+Reservation!L22+'ROOMS Admin'!L22 -> 0 | ... P44: ='Front Office'!P22+HSKP!P22+Reservation!P22+'ROOMS Admin'!P22 -> 0 | Q44: =SUM(E44:P44) -> 0 | R44: =Q44/$Q$111 -> 0 | S44: =Q44/$Q$20 -> 0 | T44: 61.437753
A45: <<60010060 | B45: <<10200,10300,10400,10099 | D45: Promotion Decoration 推广装饰 | E45: ='Front Office'!E23+HSKP!E23+Reservation!E23+'ROOMS Admin'!E23 -> 7500 | F45: ='Front Office'!F23+HSKP!F23+Reservation!F23+'ROOMS Admin'!F23 -> 0 | G45: ='Front Office'!G23+HSKP!G23+Reservation!G23+'ROOMS Admin'!G23 -> 0 | H45: ='Front Office'!H23+HSKP!H23+Reservation!H23+'ROOMS Admin'!H23 -> 0 | I45: ='Front Office'!I23+HSKP!I23+Reservation!I23+'ROOMS Admin'!I23 -> 0 | J45: ='Front Office'!J23+HSKP!J23+Reservation!J23+'ROOMS Admin'!J23 -> 0 | K45: ='Front Office'!K23+HSKP!K23+Reservation!K23+'ROOMS Admin'!K23 -> 0 | L45: ='Front Office'!L23+HSKP!L23+Reservation!L23+'ROOMS Admin'!L23 -> 0 | ... P45: ='Front Office'!P23+HSKP!P23+Reservation!P23+'ROOMS Admin'!P23 -> 7500 | Q45: =SUM(E45:P45) -> 15000 | R45: =Q45/$Q$111 -> 0.32499188 | S45: =Q45/$Q$20 -> 0.00068180353 | T45: -0.67407057
A46: <<60010070 | B46: <<10200,10300,10400,10099 | D46: Dues & Subscriptions 会费/订阅 | E46: ='Front Office'!E24+HSKP!E24+Reservation!E24+'ROOMS Admin'!E24 -> 4417 | F46: ='Front Office'!F24+HSKP!F24+Reservation!F24+'ROOMS Admin'!F24 -> 4417 | G46: ='Front Office'!G24+HSKP!G24+Reservation!G24+'ROOMS Admin'!G24 -> 4417 | H46: ='Front Office'!H24+HSKP!H24+Reservation!H24+'ROOMS Admin'!H24 -> 4417 | I46: ='Front Office'!I24+HSKP!I24+Reservation!I24+'ROOMS Admin'!I24 -> 4417 | J46: ='Front Office'!J24+HSKP!J24+Reservation!J24+'ROOMS Admin'!J24 -> 4417 | K46: ='Front Office'!K24+HSKP!K24+Reservation!K24+'ROOMS Admin'!K24 -> 4417 | L46: ='Front Office'!L24+HSKP!L24+Reservation!L24+'ROOMS Admin'!L24 -> 4417 | ... P46: ='Front Office'!P24+HSKP!P24+Reservation!P24+'ROOMS Admin'!P24 -> 4417 | Q46: =SUM(E46:P46) -> 53004 | R46: =Q46/$Q$111 -> 1.1483913 | S46: =Q46/$Q$20 -> 0.002409221 | T46: 0.67974779
A47: <<60010080 | B47: <<10200,10300,10400,10099 | D47: Entertainment 招待 | E47: ='Front Office'!E25+HSKP!E25+Reservation!E25+'ROOMS Admin'!E25 -> 800 | F47: ='Front Office'!F25+HSKP!F25+Reservation!F25+'ROOMS Admin'!F25 -> 300 | G47: ='Front Office'!G25+HSKP!G25+Reservation!G25+'ROOMS Admin'!G25 -> 300 | H47: ='Front Office'!H25+HSKP!H25+Reservation!H25+'ROOMS Admin'!H25 -> 300 | I47: ='Front Office'!I25+HSKP!I25+Reservation!I25+'ROOMS Admin'!I25 -> 800 | J47: ='Front Office'!J25+HSKP!J25+Reservation!J25+'ROOMS Admin'!J25 -> 600 | K47: ='Front Office'!K25+HSKP!K25+Reservation!K25+'ROOMS Admin'!K25 -> 300 | L47: ='Front Office'!L25+HSKP!L25+Reservation!L25+'ROOMS Admin'!L25 -> 300 | ... P47: ='Front Office'!P25+HSKP!P25+Reservation!P25+'ROOMS Admin'!P25 -> 600 | Q47: =SUM(E47:P47) -> 6000 | R47: =Q47/$Q$111 -> 0.12999675 | S47: =Q47/$Q$20 -> 0.00027272141 | T47: 0.13070449
...

Sheet Front Office
D4: =Summary!D4 -> Hotel Budget Report
D5: =Summary!$D$5 -> 酒店预算报表
D6: Rooms Summary 前厅部损益
D7: 2025
E9: 1 | F9: 2 | G9: 3 | H9: 4 | I9: 5 | J9: 6 | K9: 7 | L9: 8 | M9: 9 | N9: 10 | O9: 11 | P9: 12 | Q9: 2025
A10: Account | B10: Dept | C10: L2 | E10: BUDGET | F10: BUDGET | G10: BUDGET | H10: BUDGET | I10: BUDGET | J10: BUDGET | K10: BUDGET | L10: BUDGET | M10: BUDGET | N10: BUDGET | O10: BUDGET | P10: BUDGET | Q10: BUDGET | S10: LY | T10: Variance
A11: <<5..59999999 | B11: <<10200 | D11: Total Labour Costs 人工成本合计 | E11: =E117 -> 138500.75 | F11: =F117 -> 144942.38 | G11: =G117 -> 135279.94 | H11: =H117 -> 138500.75 | I11: =I117 -> 138500.75 | J11: =J117 -> 138500.75 | K11: =K117 -> 135279.94 | L11: =L117 -> 135279.94 | ... P11: =P117 -> 135279.94 | Q11: =SUM(E11:P11) -> 1659083.2 | R11: =Q11/'Rooms Summary'!$Q$20 -> 0.075411252 | T11: =-IF(Q11-S11=0,0,(Q11-S11)/S11) -> #DIV/0!
D12: OTA渠道收入 | E12: 589600 | F12: 444400 | G12: 633600 | H12: 733150 | I12: 815375 | J12: 633600 | K12: 703450 | L12: 804650 | M12: 697400 | N12: 858000 | O12: 697400 | P12: 710600 | Q12: =SUM(E12:P12) -> 8321225
D13: OPERATING EXPENSES 营运费用 | R13: CPOR
A14: <<60010011 | B14: <<10200 | D14: Comm - Travel Agents 佣金 - 旅行社 | E14: =ROUND(E12*10%/1.06,2) -> 55622.64 | F14: =ROUND(F12*10%/1.06,2) -> 41924.53 | G14: =ROUND(G12*10%/1.06,2) -> 59773.58 | H14: =ROUND(H12*10%/1.06,2) -> 69165.09 | I14: =ROUND(I12*10%/1.06,2) -> 76922.17 | J14: =ROUND(J12*10%/1.06,2) -> 59773.58 | K14: =ROUND(K12*10%/1.06,2) -> 66363.21 | L14: =ROUND(L12*10%/1.06,2) -> 75910.38 | ... P14: =ROUND(P12*10%/1.06,2) -> 67037.74 | Q14: =SUM(E14:P14) -> 785021.22 | R14: =Q14/'Rooms Summary'!$Q$111 -> 17.008368 | T14: =(Q14-S14)/S14 -> #DIV/0!
A15: <<60010012 | B15: <<10200 | D15: Comm - Reservation Assessments 客房系统预定费 | Q15: =SUM(E15:P15) -> 0 | R15: =Q15/'Rooms Summary'!$Q$111 -> 0 | T15: =(Q15-S15)/S15 -> #DIV/0!
A16: <<60010013 | B16: <<10200 | D16: Comm - DMH Reservation Fees DMH预订系统费用 | Q16: =SUM(E16:P16) -> 0 | R16: =Q16/'Rooms Summary'!$Q$111 -> 0 | T16: =(Q16-S16)/S16 -> #DIV/0!
A17: <<60010014 | B17: <<10200 | D17: Comm - Other 佣金 - 其他 | Q17: =SUM(E17:P17) -> 0 | R17: =Q17/'Rooms Summary'!$Q$111 -> 0 | T17: =(Q17-S17)/S17 -> #DIV/0!
A18: <<60010021 | B18: <<10200 | D18: Complimentaries - Give Away 免费赠送 | E18: 7417 | F18: 6417 | G18: 7417 | H18: 7417 | I18: 8417 | J18: 7417 | K18: 7417 | L18: 7417 | M18: 7417 | N18: 7417 | O18: 7417 | P18: 7417 | Q18: =SUM(E18:P18) -> 89004 | R18: =Q18/'Rooms Summary'!$Q$111 -> 1.9283718 | T18: =-IF(Q18-S18=0,0,(Q18-S18)/S18) -> #DIV/0!
A19: <<60010022 | B19: <<10200 | D19: Complimentary Food&Beverage 免费餐饮 | E19: 6300 | F19: 5300 | G19: 6300 | H19: 6300 | I19: 7300 | J19: 6300 | K19: 6300 | L19: 6300 | M19: 6300 | N19: 6300 | O19: 6300 | P19: 6300 | Q19: =SUM(E19:P19) -> 75600 | R19: =Q19/'Rooms Summary'!$Q$111 -> 1.6379591 | T19: =-IF(Q19-S19=0,0,(Q19-S19)/S19) -> #DIV/0!
A20: <<60010030 | B20: <<10200 | D20: Competitor Survey竞争对手调研费 | Q20: =SUM(E20:P20) -> 0 | R20: =Q20/'Rooms Summary'!$Q$111 -> 0 | T20: =-IF(Q20-S20=0,0,(Q20-S20)/S20) -> 0
A21: <<60010040 | B21: <<10200 | D21: Contract Cleaning 清洁合同 | Q21: =SUM(E21:P21) -> 0 | R21: =Q21/'Rooms Summary'!$Q$111 -> 0 | T21: =-IF(Q21-S21=0,0,(Q21-S21)/S21) -> 0
A22: <<60010050 | B22: <<10200 | D22: Contract Services 服务合同 | Q22: =SUM(E22:P22) -> 0 | R22: =Q22/'Rooms Summary'!$Q$111 -> 0
A23: <<60010060 | B23: <<10200 | D23: Promotion Decoration 推广装饰 | Q23: =SUM(E23:P23) -> 0 | R23: =Q23/'Rooms Summary'!$Q$111 -> 0 | T23: =-IF(Q23-S23=0,0,(Q23-S23)/S23) -> 0
A24: <<60010070 | B24: <<10200 | D24: Dues & Subscriptions 会费/订阅 | E24: 4417 | F24: 4417 | G24: 4417 | H24: 4417 | I24: 4417 | J24: 4417 | K24: 4417 | L24: 4417 | M24: 4417 | N24: 4417 | O24: 4417 | P24: 4417 | Q24: =SUM(E24:P24) -> 53004 | R24: =Q24/'Rooms Summary'!$Q$111 -> 1.1483913 | T24: =-IF(Q24-S24=0,0,(Q24-S24)/S24) -> #DIV/0!
A25: <<60010080 | B25: <<10200 | D25: Entertainment 招待 | E25: 300 | F25: 300 | G25: 300 | H25: 300 | I25: 300 | J25: 600 | K25: 300 | L25: 300 | M25: 600 | N25: 300 | O25: 300 | P25: 600 | Q25: =SUM(E25:P25) -> 4500 | R25: =Q25/'Rooms Summary'!$Q$111 -> 0.097497563 | T25: =-IF(Q25-S25=0,0,(Q25-S25)/S25) -> #DIV/0!
A26: <<60010091 | B26: <<10200 | D26: Guest Relocation Expenses 客人搬家费 | Q26: =SUM(E26:P26) -> 0 | R26: =Q26/'Rooms Summary'!$Q$111 -> 0 | T26: =-IF(Q26-S26=0,0,(Q26-S26)/S26) -> 0
A27: <<60010092 | B27: <<10200 | D27: Guest Supplies 客用品 - Cleaning 清洁 | Q27: =SUM(E27:P27) -> 0 | R27: =Q27/'Rooms Summary'!$Q$111 -> 0 | T27: =-IF(Q27-S27=0,0,(Q27-S27)/S27) -> 0
A28: <<60010093 | B28: <<10200 | D28: Guest Supplies 客用品 - Magazines&Newspapers 杂志&报纸 | Q28: =SUM(E28:P28) -> 0 | R28: =Q28/'Rooms Summary'!$Q$111 -> 0 | T28: =-IF(Q28-S28=0,0,(Q28-S28)/S28) -> 0
A29: <<60010094 | B29: <<10200 | D29: Guest Supplies 客用品 - Others 其他 | Q29: =SUM(E29:P29) -> 0 | R29: =Q29/'Rooms Summary'!$Q$111 -> 0 | T29: =-IF(Q29-S29=0,0,(Q29-S29)/S29) -> 0
A30: <<60010110 | B30: <<10200 | D30: Communication/Satellite/Cable 通讯/卫星/有线收视 | Q30: =SUM(E30:P30) -> 0 | R30: =Q30/'Rooms Summary'!$Q$111 -> 0 | T30: =-IF(Q30-S30=0,0,(Q30-S30)/S30) -> 0
A31: <<60010120 | B31: <<10200 | D31: Reservations Fees预订费 | Q31: =SUM(E31:P31) -> 0 | R31: =Q31/'Rooms Summary'!$Q$111 -> 0 | T31: =-IF(Q31-S31=0,0,(Q31-S31)/S31) -> 0
A32: <<60010130 | B32: <<10200 | D32: Pest Control 杀虫 | Q32: =SUM(E32:P32) -> 0 | R32: =Q32/'Rooms Summary'!$Q$111 -> 0 | T32: =-IF(Q32-S32=0,0,(Q32-S32)/S32) -> 0
A33: <<60011210 | B33: <<10200 | D33: Chinaware 瓷器 | Q33: =SUM(E33:P33) -> 0 | R33: =Q33/'Rooms Summary'!$Q$111 -> 0 | T33: =-IF(Q33-S33=0,0,(Q33-S33)/S33) -> 0
A34: <<60011220 | B34: <<10200 | D34: Cleaning Supplies&Chemicals 清洁用品&化学药剂 | Q34: =SUM(E34:P34) -> 0 | R34: =Q34/'Rooms Summary'!$Q$111 -> 0 | T34: =-IF(Q34-S34=0,0,(Q34-S34)/S34) -> 0
A35: <<60011230 | B35: <<10200 | D35: Flatware 餐具 | Q35: =SUM(E35:P35) -> 0 | R35: =Q35/'Rooms Summary'!$Q$111 -> 0 | T35: =-IF(Q35-S35=0,0,(Q35-S35)/S35) -> 0
A36: <<60011240 | B36: <<10200 | D36: Glassware 玻璃器皿 | Q36: =SUM(E36:P36) -> 0 | R36: =Q36/'Rooms Summary'!$Q$111 -> 0 | T36: =-IF(Q36-S36=0,0,(Q36-S36)/S36) -> 0
A37: <<60011250 | B37: <<10200 | D37: Linen 布巾 | Q37: =SUM(E37:P37) -> 0 | R37: =Q37/'Rooms Summary'!$Q$111 -> 0 | T37: =-IF(Q37-S37=0,0,(Q37-S37)/S37) -> 0
A38: <<60011260 | B38: <<10200 | D38: Silverware 银器 | Q38: =SUM(E38:P38) -> 0 | R38: =Q38/'Rooms Summary'!$Q$111 -> 0 | T38: =-IF(Q38-S38=0,0,(Q38-S38)/S38) -> 0
A39: <<60011270 | B39: <<10200 | D39: Other Operating Supplies 其他运营用品 | E39: 1950 | F39: 1950 | G39: 1950 | H39: 1950 | I39: 1950 | J39: 1950 | K39: 1950 | L39: 1950 | M39: 1950 | N39: 1950 | O39: 1950 | P39: 1950 | Q39: =SUM(E39:P39) -> 23400 | R39: =Q39/'Rooms Summary'!$Q$111 -> 0.50698733 | T39: =-IF(Q39-S39=0,0,(Q39-S39)/S39) -> #DIV/0!
A40: <<60011280 | B40: <<10200 | D40: Utensils 器具 | Q40: =SUM(E40:P40) -> 0 | R40: =Q40/'Rooms Summary'!$Q$111 -> 0 | T40: =-IF(Q40-S40=0,0,(Q40-S40)/S40) -> 0
A41: <<60011290 | B41: <<10200 | D41: Paper Supplies 纸张用品 | Q41: =SUM(E41:P41) -> 0 | R41: =Q41/'Rooms Summary'!$Q$111 -> 0 | T41: =-IF(Q41-S41=0,0,(Q41-S41)/S41) -> 0
A42: <<60011310 | B42: <<10200 | D42: Uniforms 制服 | E42: 650 | F42: 650 | G42: 650 | H42: 650 | I42: 650 | J42: 650 | K42: 650 | L42: 650 | M42: 650 | N42: 650 | O42: 650 | P42: 650 | Q42: =SUM(E42:P42) -> 7800 | R42: =Q42/'Rooms Summary'!$Q$111 -> 0.16899578 | T42: =-IF(Q42-S42=0,0,(Q42-S42)/S42) -> #DIV/0!
A43: <<60011320 | B43: <<10200 | D43: Laundry Supplies 洗衣用品 | Q43: =SUM(E43:P43) -> 0 | R43: =Q43/'Rooms Summary'!$Q$111 -> 0 | T43: =-IF(Q43-S43=0,0,(Q43-S43)/S43) -> 0
A44: <<60011410 | B44: <<10200 | D44: Flyers 传单 | Q44: =SUM(E44:P44) -> 0 | R44: =Q44/'Rooms Summary'!$Q$111 -> 0 | T44: =-IF(Q44-S44=0,0,(Q44-S44)/S44) -> 0
...

Sheet HSKP
D4: =Summary!D4 -> Hotel Budget Report
D5: =Summary!$D$5 -> 酒店预算报表
D6: Rooms Summary 客房部损益
D7: 2025
E9: 1 | F9: 2 | G9: 3 | H9: 4 | I9: 5 | J9: 6 | K9: 7 | L9: 8 | M9: 9 | N9: 10 | O9: 11 | P9: 12 | Q9: 2025
A10: Account | B10: Dept | C10: L2 | E10: BUDGET | F10: BUDGET | G10: BUDGET | H10: BUDGET | I10: BUDGET | J10: BUDGET | K10: BUDGET | L10: BUDGET | M10: BUDGET | N10: BUDGET | O10: BUDGET | P10: BUDGET | Q10: BUDGET | U10: LY | V10: Variance
A11: <<5..59999999 | B11: <<10300 | D11: Total Labour Costs 人工成本合计 | E11: =E117 -> 226240.31 | F11: =F117 -> 205312.91 | G11: =G117 -> 218735.51 | H11: =H117 -> 235109.81 | I11: =I117 -> 245621.81 | J11: =J117 -> 227634.81 | K11: =K117 -> 238255.51 | L11: =L117 -> 239350.51 | ... P11: =P117 -> 235875.51 | Q11: =SUM(E11:P11) -> 2821152 | T11: =Q11/'Rooms Summary'!$Q$20 -> 0.12823143 | V11: =-IF(Q11-U11=0,0,(Q11-U11)/U11) -> #DIV/0!
D13: OPERATING EXPENSES 营运费用 | Q13: =SUM(E13:P13) -> 0 | T13: CPOR
A14: <<60010011 | B14: <<10300 | D14: Comm - Travel Agents 佣金 - 旅行社 | Q14: =SUM(E14:P14) -> 0 | T14: =Q14/'Rooms Summary'!$Q$111 -> 0 | V14: =(Q14-U14)/U14 -> #DIV/0!
A15: <<60010012 | B15: <<10300 | D15: Comm - Reservation Assessments 客房系统预定费 | Q15: =SUM(E15:P15) -> 0 | T15: =Q15/'Rooms Summary'!$Q$111 -> 0 | V15: =(Q15-U15)/U15 -> #DIV/0!
A16: <<60010013 | B16: <<10300 | D16: Comm - DMH Reservation Fees DMH预订系统费用 | Q16: =SUM(E16:P16) -> 0 | T16: =Q16/'Rooms Summary'!$Q$111 -> 0 | V16: =(Q16-U16)/U16 -> #DIV/0!
A17: <<60010014 | B17: <<10300 | D17: Comm - Other 佣金 - 其他 | Q17: =SUM(E17:P17) -> 0 | T17: =Q17/'Rooms Summary'!$Q$111 -> 0 | V17: =(Q17-U17)/U17 -> #DIV/0!
A18: <<60010021 | B18: <<10300 | D18: Complimentaries - Give Away 免费赠送 | E18: 2024 | F18: 1751 | G18: 2617.25 | H18: 3250.4 | I18: 3386.9 | J18: 3092.9 | K18: 3628.4 | L18: 3681.95 | M18: 3722.9 | N18: 3812.15 | O18: 3617.9 | P18: 3418.4 | Q18: =SUM(E18:P18) -> 38004.15 | T18: =Q18/'Rooms Summary'!$Q$111 -> 0.82340266 | V18: =-IF(Q18-U18=0,0,(Q18-U18)/U18) -> #DIV/0!
A19: <<60010022 | B19: <<10300 | D19: Complimentary Food&Beverage 免费餐饮 | Q19: =SUM(E19:P19) -> 0 | T19: =Q19/'Rooms Summary'!$Q$111 -> 0
A20: <<60010030 | B20: <<10300 | D20: Competitor Survey竞争对手调研费 | Q20: =SUM(E20:P20) -> 0 | T20: =Q20/'Rooms Summary'!$Q$111 -> 0 | V20: =-IF(Q20-U20=0,0,(Q20-U20)/U20) -> 0
A21: <<60010040 | B21: <<10300 | D21: Contract Cleaning 清洁合同 | E21: 29836.8 | F21: 27143.2 | G21: 35690.2 | H21: 40248.6 | I21: 41595.4 | J21: 38694.6 | K21: 43978.2 | L21: 44496.2 | M21: 44910.6 | N21: 45791.2 | O21: 43874.6 | P21: 41906.2 | Q21: =SUM(E21:P21) -> 478165.8 | T21: =Q21/'Rooms Summary'!$Q$111 -> 10.36 | V21: =-IF(Q21-U21=0,0,(Q21-U21)/U21) -> #DIV/0!
A22: <<60010050 | B22: <<10300 | D22: Contract Services 服务合同 | Q22: =SUM(E22:P22) -> 0 | T22: =Q22/'Rooms Summary'!$Q$111 -> 0 | V22: =-IF(Q22-U22=0,0,(Q22-U22)/U22) -> 0
A23: <<60010060 | B23: <<10300 | D23: Promotion Decoration 推广装饰 | E23: 7500 | P23: 7500 | Q23: =SUM(E23:P23) -> 15000 | T23: =Q23/'Rooms Summary'!$Q$111 -> 0.32499188 | V23: =-IF(Q23-U23=0,0,(Q23-U23)/U23) -> #DIV/0!
A24: <<60010070 | B24: <<10300 | D24: Dues & Subscriptions 会费/订阅 | Q24: =SUM(E24:P24) -> 0 | T24: =Q24/'Rooms Summary'!$Q$111 -> 0 | V24: =-IF(Q24-U24=0,0,(Q24-U24)/U24) -> 0
A25: <<60010080 | B25: <<10300 | D25: Entertainment 招待 | E25: 500 | I25: 500 | N25: 500 | Q25: =SUM(E25:P25) -> 1500 | T25: =Q25/'Rooms Summary'!$Q$111 -> 0.032499188 | V25: =-IF(Q25-U25=0,0,(Q25-U25)/U25) -> #DIV/0!
A26: <<60010091 | B26: <<10300 | D26: Guest Relocation Expenses 客人搬家费 | Q26: =SUM(E26:P26) -> 0 | T26: =Q26/'Rooms Summary'!$Q$111 -> 0 | V26: =-IF(Q26-U26=0,0,(Q26-U26)/U26) -> 0
A27: <<60010092 | B27: <<10300 | D27: Guest Supplies 客用品 - Cleaning 清洁 | Q27: =SUM(E27:P27) -> 0 | T27: =Q27/'Rooms Summary'!$Q$111 -> 0 | V27: =-IF(Q27-U27=0,0,(Q27-U27)/U27) -> 0
A28: <<60010093 | B28: <<10300 | D28: Guest Supplies 客用品 - Magazines&Newspapers 杂志&报纸 | Q28: =SUM(E28:P28) -> 0 | T28: =Q28/'Rooms Summary'!$Q$111 -> 0 | V28: =-IF(Q28-U28=0,0,(Q28-U28)/U28) -> 0
A29: <<60010094 | B29: <<10300 | D29: Guest Supplies 客用品 - Others 其他 | E29: 23200 | F29: 19300 | G29: 25675 | H29: 38275 | I29: 53225 | J29: 59025 | K29: 63675 | L29: 64425 | M29: 65025 | N29: 66300 | O29: 63525 | P29: 60675 | Q29: =SUM(E29:P29) -> 602325 | T29: =Q29/'Rooms Summary'!$Q$111 -> 13.050049 | V29: =-IF(Q29-U29=0,0,(Q29-U29)/U29) -> #DIV/0!
A30: <<60010110 | B30: <<10300 | D30: Communication/Satellite/Cable 通讯/卫星/有线收视 | E30: 4600 | F30: 4600 | G30: 4600 | H30: 4600 | I30: 4600 | J30: 4600 | K30: 4600 | L30: 4600 | M30: 4600 | N30: 4600 | O30: 4600 | P30: 4600 | Q30: =SUM(E30:P30) -> 55200 | T30: =Q30/'Rooms Summary'!$Q$111 -> 1.1959701 | V30: =-IF(Q30-U30=0,0,(Q30-U30)/U30) -> #DIV/0!
A31: <<60010120 | B31: <<10300 | D31: Reservations Fees预订费 | Q31: =SUM(E31:P31) -> 0 | T31: =Q31/'Rooms Summary'!$Q$111 -> 0 | V31: =-IF(Q31-U31=0,0,(Q31-U31)/U31) -> 0
A32: <<60010130 | B32: <<10300 | D32: Pest Control 杀虫 | E32: 2500 | F32: 2500 | G32: 2500 | H32: 2500 | I32: 2500 | J32: 2500 | K32: 2500 | L32: 2500 | M32: 2500 | N32: 2500 | O32: 2500 | P32: 2500 | Q32: =SUM(E32:P32) -> 30000 | T32: =Q32/'Rooms Summary'!$Q$111 -> 0.64998375 | V32: =-IF(Q32-U32=0,0,(Q32-U32)/U32) -> #DIV/0!
A33: <<60011210 | B33: <<10300 | D33: Chinaware 瓷器 | Q33: =SUM(E33:P33) -> 0 | T33: =Q33/'Rooms Summary'!$Q$111 -> 0
A34: <<60011220 | B34: <<10300 | D34: Cleaning Supplies&Chemicals 清洁用品&化学药剂 | E34: 3529.6 | F34: 3030.4 | G34: 5614.4 | H34: 7459.2 | I34: 7708.8 | J34: 7171.2 | K34: 8150.4 | L34: 8246.4 | M34: 8323.2 | N34: 8486.4 | O34: 8131.2 | P34: 7766.4 | Q34: =SUM(E34:P34) -> 83617.6 | T34: =Q34/'Rooms Summary'!$Q$111 -> 1.8116694 | V34: =-IF(Q34-U34=0,0,(Q34-U34)/U34) -> #DIV/0!
A35: <<60011230 | B35: <<10300 | D35: Flatware 餐具 | Q35: =SUM(E35:P35) -> 0 | T35: =Q35/'Rooms Summary'!$Q$111 -> 0 | V35: =-IF(Q35-U35=0,0,(Q35-U35)/U35) -> 0
A36: <<60011240 | B36: <<10300 | D36: Glassware 玻璃器皿 | H36: 400 | I36: 800 | J36: 800 | K36: 800 | L36: 400 | M36: 400 | N36: 400 | O36: 400 | P36: 400 | Q36: =SUM(E36:P36) -> 4800 | T36: =Q36/'Rooms Summary'!$Q$111 -> 0.1039974
A37: <<60011250 | B37: <<10300 | D37: Linen 布巾 | H37: 1200 | I37: 2400 | J37: 2400 | K37: 2400 | L37: 1200 | M37: 1200 | N37: 1200 | O37: 1200 | P37: 1200 | Q37: =SUM(E37:P37) -> 14400 | T37: =Q37/'Rooms Summary'!$Q$111 -> 0.3119922 | V37: =-IF(Q37-U37=0,0,(Q37-U37)/U37) -> #DIV/0!
A38: <<60011260 | B38: <<10300 | D38: Silverware 银器 | Q38: =SUM(E38:P38) -> 0 | T38: =Q38/'Rooms Summary'!$Q$111 -> 0 | V38: =-IF(Q38-U38=0,0,(Q38-U38)/U38) -> 0
A39: <<60011270 | B39: <<10300 | D39: Other Operating Supplies 其他运营用品 | H39: 1917 | I39: 1917 | J39: 3834 | K39: 3834 | L39: 3834 | M39: 1917 | N39: 1917 | O39: 1917 | P39: 1917 | Q39: =SUM(E39:P39) -> 23004 | T39: =Q39/'Rooms Summary'!$Q$111 -> 0.49840754 | V39: =-IF(Q39-U39=0,0,(Q39-U39)/U39) -> #DIV/0!
A40: <<60011280 | B40: <<10300 | D40: Utensils 器具 | Q40: =SUM(E40:P40) -> 0 | T40: =Q40/'Rooms Summary'!$Q$111 -> 0 | V40: =-IF(Q40-U40=0,0,(Q40-U40)/U40) -> 0
A41: <<60011290 | B41: <<10300 | D41: Paper Supplies 纸张用品 | Q41: =SUM(E41:P41) -> 0 | T41: =Q41/'Rooms Summary'!$Q$111 -> 0 | V41: =-IF(Q41-U41=0,0,(Q41-U41)/U41) -> 0
A42: <<60011310 | B42: <<10300 | D42: Uniforms 制服 | E42: 230 | F42: 230 | G42: 230 | H42: 230 | I42: 230 | J42: 230 | K42: 230 | L42: 230 | M42: 230 | N42: 230 | O42: 230 | P42: 230 | Q42: =SUM(E42:P42) -> 2760 | T42: =Q42/'Rooms Summary'!$Q$111 -> 0.059798505 | V42: =-IF(Q42-U42=0,0,(Q42-U42)/U42) -> #DIV/0!
A43: <<60011320 | B43: <<10300 | D43: Laundry Supplies 洗衣用品 | Q43: =SUM(E43:P43) -> 0 | T43: =Q43/'Rooms Summary'!$Q$111 -> 0 | V43: =-IF(Q43-U43=0,0,(Q43-U43)/U43) -> 0
A44: <<60011410 | B44: <<10300 | D44: Flyers 传单 | Q44: =SUM(E44:P44) -> 0 | T44: =Q44/'Rooms Summary'!$Q$111 -> 0 | V44: =-IF(Q44-U44=0,0,(Q44-U44)/U44) -> 0
A45: <<60011420 | B45: <<10300 | D45: Menus & Beverage Lists 菜单及饮料单 | Q45: =SUM(E45:P45) -> 0 | T45: =Q45/'Rooms Summary'!$Q$111 -> 0 | V45: =-IF(Q45-U45=0,0,(Q45-U45)/U45) -> 0
...

Sheet Reservation
D4: =Summary!D4 -> Hotel Budget Report
D5: =Summary!$D$5 -> 酒店预算报表
D6: Rooms Summary 预订部损益
D7: =Summary!D7 -> 2025
E9: 1 | F9: 2 | G9: 3 | H9: 4 | I9: 5 | J9: 6 | K9: 7 | L9: 8 | M9: 9 | N9: 10 | O9: 11 | P9: 12 | Q9: 2020
A10: Account | B10: Dept | C10: L2 | E10: BUDGET | F10: BUDGET | G10: BUDGET | H10: BUDGET | I10: BUDGET | J10: BUDGET | K10: BUDGET | L10: BUDGET | M10: BUDGET | N10: BUDGET | O10: BUDGET | P10: BUDGET | Q10: BUDGET | S10: LY | T10: Variance
A11: <<5..59999999 | B11: <<10400 | D11: Total Labour Costs 人工成本合计 | E11: =E115 -> 0 | F11: =F115 -> 0 | G11: =G115 -> 0 | H11: =H115 -> 0 | I11: =I115 -> 0 | J11: =J115 -> 0 | K11: =K115 -> 0 | L11: =L115 -> 0 | ... P11: =P115 -> 0 | Q11: =SUM(E11:P11) -> 0 | R11: =Q11/'Rooms Summary'!$Q$20 -> 0 | T11: =-IF(Q11-S11=0,0,(Q11-S11)/S11) -> 0
D13: OPERATING EXPENSES 营运费用 | R13: CPOR
A14: <<60010011 | B14: <<10400 | D14: Comm - Travel Agents 佣金 - 旅行社 | Q14: =SUM(E14:P14) -> 0 | R14: =Q14/'Rooms Summary'!$Q$111 -> 0 | T14: =-IF(Q14-S14=0,0,(Q14-S14)/S14) -> 0
A15: <<60010012 | B15: <<10400 | D15: Comm - Reservation Assessments 客房系统预定费 | Q15: =SUM(E15:P15) -> 0 | R15: =Q15/'Rooms Summary'!$Q$111 -> 0 | T15: =-IF(Q15-S15=0,0,(Q15-S15)/S15) -> 0
A16: <<60010013 | B16: <<10400 | D16: Comm - DMH Reservation Fees DMH预订系统费用 | Q16: =SUM(E16:P16) -> 0 | R16: =Q16/'Rooms Summary'!$Q$111 -> 0 | T16: =-IF(Q16-S16=0,0,(Q16-S16)/S16) -> 0
A17: <<60010014 | B17: <<10400 | D17: Comm - Other 佣金 - 其他 | Q17: =SUM(E17:P17) -> 0 | R17: =Q17/'Rooms Summary'!$Q$111 -> 0 | T17: =-IF(Q17-S17=0,0,(Q17-S17)/S17) -> 0
A18: <<60010021 | B18: <<10400 | D18: Complimentaries - Give Away 免费赠送 | Q18: =SUM(E18:P18) -> 0 | R18: =Q18/'Rooms Summary'!$Q$111 -> 0 | T18: =-IF(Q18-S18=0,0,(Q18-S18)/S18) -> 0
A19: <<60010022 | B19: <<10400 | D19: Complimentary Food&Beverage 免费餐饮 | Q19: =SUM(E19:P19) -> 0 | R19: =Q19/'Rooms Summary'!$Q$111 -> 0 | T19: =-IF(Q19-S19=0,0,(Q19-S19)/S19) -> 0
A20: <<60010030 | B20: <<10400 | D20: Competitor Survey竞争对手调研费 | Q20: =SUM(E20:P20) -> 0 | R20: =Q20/'Rooms Summary'!$Q$111 -> 0 | T20: =-IF(Q20-S20=0,0,(Q20-S20)/S20) -> 0
A21: <<60010040 | B21: <<10400 | D21: Contract Cleaning 清洁合同 | Q21: =SUM(E21:P21) -> 0 | R21: =Q21/'Rooms Summary'!$Q$111 -> 0 | T21: =-IF(Q21-S21=0,0,(Q21-S21)/S21) -> 0
A22: <<60010050 | B22: <<10400 | D22: Contract Services 服务合同 | Q22: =SUM(E22:P22) -> 0 | R22: =Q22/'Rooms Summary'!$Q$111 -> 0 | T22: =-IF(Q22-S22=0,0,(Q22-S22)/S22) -> 0
A23: <<60010060 | B23: <<10400 | D23: Promotion Decoration 推广装饰 | Q23: =SUM(E23:P23) -> 0 | R23: =Q23/'Rooms Summary'!$Q$111 -> 0 | T23: =-IF(Q23-S23=0,0,(Q23-S23)/S23) -> 0
A24: <<60010070 | B24: <<10400 | D24: Dues & Subscriptions 会费/订阅 | Q24: =SUM(E24:P24) -> 0 | R24: =Q24/'Rooms Summary'!$Q$111 -> 0 | T24: =-IF(Q24-S24=0,0,(Q24-S24)/S24) -> 0
A25: <<60010080 | B25: <<10400 | D25: Entertainment 招待 | Q25: =SUM(E25:P25) -> 0 | R25: =Q25/'Rooms Summary'!$Q$111 -> 0 | T25: =-IF(Q25-S25=0,0,(Q25-S25)/S25) -> 0
... A80: <<60011490 | B80: <<10400 | D80: Miscellaneous Expenses 杂项 | Q80: =SUM(E80:P80) -> 0 | R80: =Q80/'Rooms Summary'!$Q$111 -> 0 | T80: =-IF(Q80-S80=0,0,(Q80-S80)/S80) -> 0
D81: Total Operating Expenses 营运费用合计 | E81: =SUM(E14:E80) -> 0 | F81: =SUM(F14:F80) -> 0 | G81: =SUM(G14:G80) -> 0 | H81: =SUM(H14:H80) -> 0 | I81: =SUM(I14:I80) -> 0 | J81: =SUM(J14:J80) -> 0 | K81: =SUM(K14:K80) -> 0 | L81: =SUM(L14:L80) -> 0 | ... Q81: =SUM(Q14:Q80) -> 0 | R81: =Q81/'Rooms Summary'!$Q$111 -> 0 | T81: =-IF(Q81-S81=0,0,(Q81-S81)/S81) -> 0
D82: Total Department Expenses部门总费用合计 | E82: =E81+E11 -> 0 | F82: =F81+F11 -> 0 | G82: =G81+G11 -> 0 | H82: =H81+H11 -> 0 | I82: =I81+I11 -> 0 | J82: =J81+J11 -> 0 | K82: =K81+K11 -> 0 | L82: =L81+L11 -> 0 | ... Q82: =Q81+Q11 -> 0 | R82: =Q82/'Rooms Summary'!$Q$111 -> 0 | T82: =-IF(Q82-S82=0,0,(Q82-S82)/S82) -> 0
D84: LABOUR COST ANALYSIS 人工成本费用
D85: Salary & Wages 工资
A86: <<50010300,50010400 | B86: <<10400 | D86: Managers 经理 | Q86: =SUM(E86:P86) -> 0 | R86: =Q86/'Rooms Summary'!$Q$111 -> 0 | T86: =-IF(Q86-S86=0,0,(Q86-S86)/S86) -> 0
A87: <<50010100..50010200,50010500..50010700,50012500..50012600 | B87: <<10400 | D87: Reservations 预定 | Q87: =SUM(E87:P87) -> 0 | R87: =Q87/'Rooms Summary'!$Q$111 -> 0 | T87: =-IF(Q87-S87=0,0,(Q87-S87)/S87) -> 0
D88: Total Remuneration 薪酬小计 | E88: =SUM(E86:E87) -> 0 | F88: =SUM(F86:F87) -> 0 | G88: =SUM(G86:G87) -> 0 | H88: =SUM(H86:H87) -> 0 | I88: =SUM(I86:I87) -> 0 | J88: =SUM(J86:J87) -> 0 | K88: =SUM(K86:K87) -> 0 | L88: =SUM(L86:L87) -> 0 | ... Q88: =SUM(Q86:Q87) -> 0 | R88: =Q88/'Rooms Summary'!$Q$111 -> 0 | T88: =-IF(Q88-S88=0,0,(Q88-S88)/S88) -> 0
A90: <<50012300 | B90: <<10400 | D90: Overtime 加班 | Q90: =SUM(E90:P90) -> 0 | R90: =Q90/'Rooms Summary'!$Q$111 -> 0 | T90: =-IF(Q90-S90=0,0,(Q90-S90)/S90) -> 0
A91: <<50012100..50012200 | B91: <<10400 | D91: Bonus 年终奖金 | Q91: =SUM(E91:P91) -> 0 | R91: =Q91/'Rooms Summary'!$Q$111 -> 0 | T91: =-IF(Q91-S91=0,0,(Q91-S91)/S91) -> 0
A92: <<50021270 | B92: <<10400 | D92: Allowance 津贴 | Q92: =SUM(E92:P92) -> 0 | R92: =Q92/'Rooms Summary'!$Q$111 -> 0 | T92: =-IF(Q92-S92=0,0,(Q92-S92)/S92) -> 0
A93: <<50012400 | B93: <<10400 | D93: Vacation Pay 假期工资 | Q93: =SUM(E93:P93) -> 0 | R93: =Q93/'Rooms Summary'!$Q$111 -> 0 | T93: =-IF(Q93-S93=0,0,(Q93-S93)/S93) -> 0
A94: <<50021280 | B94: <<10400 | D94: Incentive 奖金 | Q94: =SUM(E94:P94) -> 0 | R94: =Q94/'Rooms Summary'!$Q$111 -> 0 | T94: =-IF(Q94-S94=0,0,(Q94-S94)/S94) -> 0
D95: Total Salary & Wages 工资合计 | E95: =SUM(E90:E94) -> 0 | F95: =SUM(F90:F94) -> 0 | G95: =SUM(G90:G94) -> 0 | H95: =SUM(H90:H94) -> 0 | I95: =SUM(I90:I94) -> 0 | J95: =SUM(J90:J94) -> 0 | K95: =SUM(K90:K94) -> 0 | L95: =SUM(L90:L94) -> 0 | ... Q95: =SUM(Q90:Q94) -> 0 | R95: =Q95/'Rooms Summary'!$Q$111 -> 0 | T95: =-IF(Q95-S95=0,0,(Q95-S95)/S95) -> 0
A97: <<50013100 | B97: <<10400 | D97: PRC - Retirement Insurance 养老保险 | Q97: =SUM(E97:P97) -> 0 | R97: =Q97/'Rooms Summary'!$Q$111 -> 0 | T97: =-IF(Q97-S97=0,0,(Q97-S97)/S97) -> 0
A98: <<50013200 | B98: <<10400 | D98: PRC - Basic Medical Insurance 医疗保险 | Q98: =SUM(E98:P98) -> 0 | R98: =Q98/'Rooms Summary'!$Q$111 -> 0 | T98: =-IF(Q98-S98=0,0,(Q98-S98)/S98) -> 0
A99: <<50013300 | B99: <<10400 | D99: PRC - Unemployement fund 失业保险 | Q99: =SUM(E99:P99) -> 0 | R99: =Q99/'Rooms Summary'!$Q$111 -> 0 | T99: =-IF(Q99-S99=0,0,(Q99-S99)/S99) -> 0
A100: <<50013400 | B100: <<10400 | D100: PRC - Employee Liability (Injury) 工伤保险 | Q100: =SUM(E100:P100) -> 0 | R100: =Q100/'Rooms Summary'!$Q$111 -> 0 | T100: =-IF(Q100-S100=0,0,(Q100-S100)/S100) -> 0
A101: <<50013500 | B101: <<10400 | D101: PRC - Birth Insurance 生育保险 | Q101: =SUM(E101:P101) -> 0 | R101: =Q101/'Rooms Summary'!$Q$111 -> 0 | T101: =-IF(Q101-S101=0,0,(Q101-S101)/S101) -> 0
A102: <<50013600 | B102: <<10400 | D102: PRC - Housing Fund 住房公积金 | Q102: =SUM(E102:P102) -> 0 | R102: =Q102/'Rooms Summary'!$Q$111 -> 0 | T102: =-IF(Q102-S102=0,0,(Q102-S102)/S102) -> 0
...

Sheet ROOMS Admin
E1: 2018001 | F1: 2018002 | G1: 2018003 | H1: 2018004 | I1: 2018005 | J1: 2018006 | K1: 2018007 | L1: 2018008 | M1: 2018009 | N1: 2018010 | O1: 2018011 | P1: 2018012 | Q1: 2018001
E2: 2018001 | F2: 2018002 | G2: 2018003 | H2: 2018004 | I2: 2018005 | J2: 2018006 | K2: 2018007 | L2: 2018008 | M2: 2018009 | N2: 2018010 | O2: 2018011 | P2: 2018012 | Q2: 2018012
E3: A | F3: A | G3: A | H3: A | I3: A | J3: =IF(RIGHT(J1,2)<RIGHT(CP,2),"A",LEDGER) -> A | K3: =IF(RIGHT(K1,2)<RIGHT(CP,2),"A",LEDGER) -> A | L3: =IF(RIGHT(L1,2)<RIGHT(CP,2),"A",LEDGER) -> A | M3: =IF(RIGHT(M1,2)<RIGHT(CP,2),"A",LEDGER) -> B | N3: =IF(RIGHT(N1,2)<RIGHT(CP,2),"A",LEDGER) -> B | O3: =IF(RIGHT(O1,2)<RIGHT(CP,2),"A",LEDGER) -> B | P3: =IF(RIGHT(P1,2)<RIGHT(CP,2),"A",LEDGER) -> B | Q3: B
D4: =[1]Summary!$D$4 -> Hotel Profit & Loss Monthly Report
D5: =[1]Summary!$D$5 -> 酒店月度损益报表
D6: Rooms Summary 预订部损益
D7: =[1]Summary!$D$7 -> 43344
E9: 1 | F9: 2 | G9: 3 | H9: 4 | I9: 5 | J9: 6 | K9: 7 | L9: 8 | M9: 9 | N9: 10 | O9: 11 | P9: 12 | Q9: 2018
